Workbook

Sheet Cover
C11: LINEE DI INDIRIZZO PER LE RICOGNIZIONI E I PIANI DI RAZIONALIZZAZIONE DEGLI ORGANISMI PARTECIPATI DAGLI ENTI TERITORIALI (ART. 20 D.LGS. N. 175/2016)
E12: ALLEGATO A

Sheet INDICE
D4: INDICE
B6: 01. | D6: SCHEDA ANAGRAFICA
B7: 02. | D7: RICOGNIZIONE DELLE SOCIETÀ PARTECIPATE
C8: 02.01. | D8: Ricognizione delle società a partecipazione diretta
C9: 02.02. | D9: Ricognizione delle società a partecipazione indiretta
C10: 02.03. | D10: Grafico delle relazioni tra partecipazioni
B11: 03. | D11: REQUISITI TESTO UNICO DELLE SOCIETÀ A PARTECIPAZIONE PUBBLICA (T.U.S.P.)
C12: 03.01. | D12: Finalità perseguite e attività ammesse (articoli 4 e 26)
C13: 03.02. | D13: Condizioni art. 20 co. 2
B14: 04. | D14: MANTENIMENTO SENZA INTERVENTI DI RAZIONALIZZAZIONE
B15: 05. | D15: AZIONI DI RAZIONALIZZAZIONE
C16: 05.01. | D16: Contenimento costi
C17: 05.02. | D17: Cessione/Alienazione quote
C18: 05.03. | D18: Liquidazione
C19: 05.04. | D19: Fusione/Incorporazione
C20: 05.05. | D20: Riepilogo
B21: 06. | D21: ELENCO MOTIVAZIONI

Sheet 01_Scheda_anagrafica
C2: LINEE GUIDA PER LE RICOGNIZIONI E I PIANI DI RAZIONALIZZAZIONE DEGLI ORGANISMI PARTECIPATI DAGLI ENTI TERITORIALI (ART. 20 D.LGS. N. 175/2016)
B6: 01. SCHEDA ANAGRAFICA
C8: Tipologia Ente: | D8: Provincia/Città metropolitana
C10: Denominazione Ente: | D10: EMILIA-ROMAGNA | J10: Impostare elenco enti
C12: Codice fiscale dell'Ente: | D12: 00209290352 | J12: Impostare elenco codici fiscali
C14: L'ente ha effettuato la revisione straordinaria ai sensi dell'art. 24, d.lgs. n. 175/2016 | G14: SI
C18: Dati del referente/responsabile per la compilazione del piano
C20: Nome: | F20: Cognome:
C21: CLAUDIA | F21: DEL RIO
C23: Recapiti:
C24: Indirizzo:
C25: C.so Garibaldi 59
C26: Telefono: | F26: Fax:
C27: 0522/444128 | F27: 0522444187
C28: Posta elettronica:
C29: c.delrio@provincia.re.it
J38: Regione | K38: Codice fiscale
J40: Ente | K40: Codice fiscale
J41: ABRUZZO | K41: 80003170661
J42: BASILICATA | K42: 80002950766
J43: CALABRIA | K43: 02205340793
J44: CAMPANIA
J45: EMILIA-ROMAGNA
J46: FRIULI-VENEZIA GIULIA | K46: 80014930327
J47: LAZIO | K47: 80143490581
J48: LIGURIA | K48: 00849050109
J49: LOMBARDIA | K49: 80050050154
J50: MARCHE | K50: 80008630420
J51: MOLISE | K51: 00169440708
J52: PIEMONTE | K52: 80087670016
J53: PROVINCIA AUTONOMA DI BOLZANO | K53: 00390090215
J54: PROVINCIA AUTONOMA DI TRENTO | K54: 00337460224
J55: PUGLIA | K55: 80017210727
J56: SARDEGNA | K56: 80002870923
J57: SICILIA | K57: 80012000826
J58: TOSCANA | K58: 01386030488
J59: TRENTINO ALTO-ADIGE | K59: 80003690221
J60: UMBRIA | K60: 80000130544
J61: VALLE D'AOSTA
J62: VENETO | K62: 80007580279
...

Sheet 02.01_Ricognizione_Dirette
B1: 02. RICOGNIZIONE DELLE SOCIETÀ PARTECIPATE
B2: Se l'ente partecipa al capitale di una società sia direttamente sia indirettamente, compilare sia la scheda 02.01. sia la scheda 02.02.
B3: 02.01. Ricognizione delle società a partecipazione diretta
B4: Progressivo | C4: Codice fiscale società | D4: Denominazione società | E4: Anno di costituzione | F4: Stato | G4: Anno di inizio della procedura | H4: % Quota di partecipazione | I4: Attività svolta | J4: Partecipazione di controllo | K4: Società in house | L4: Quotata (ai sensi del d.lgs. n. 175/2016) | M4: Holding pura | P4: Note
B5: A | C5: B | D5: C | E5: D | F5: E | G5: F | H5: G | I5: H | J5: I | K5: J | L5: K | M5: L
B6: 1 | C6: 00210880225 | D6: Autostrada del Brennero Spa | E6: 1959 | F6: Attiva | H6: 2.27 | I6: Progettazione, costruzione ed esercizio dell'autostrada A22 - Collegamento Autostrada del Sole | J6: NO | K6: NO | L6: NO | M6: NO | P6: La società è partecipata anche indirettamente tramite l'AZIENDA CONSORTILE TRASPORTI - ACT, pertanto alla quota diretta del 2,18% va aggiunta quella indiretta pari allo 0,094%
B7: 2 | C7: 02558190357 | D7: Agenzia Locale per la Mobilità e il trasporto pubblico locale | E7: 2012 | F7: Attiva | H7: 28.62 | I7: Attività di programmazione e progettazione integrata dei servizi pubblici di trasporto | J7: SI | K7: NO | L7: NO | M7: NO | P7: Controllo analogo congiunto. Qualora i soci decidessero di affidare servizi rientranti nelle finalità statutarie in rapporto sinallagmatico, la società dovrà essere assoggettata a tutte le regole dell’In House.
B8: 3 | C8: 80026270357 | D8: Aeroporto Reggio Emilia Spa | E8: 1969 | F8: Attiva | H8: 17.94 | I8: Attività dei servizi connessi al trasporto aereo | J8: SI | K8: NO | L8: NO | M8: NO | P8: Controllo congiunto per effetto di patti parasociali
B9: 4 | C9: 80010710350 | D9: Centro Ricerche Produzioni Animali - CRPA | E9: 1994 | F9: Attiva | H9: 20.83 | I9: Promuove il progresso tecnico, economico e sociale del settore degli allevamenti e realizza la diffusione delle forme più avanzate di agricoltura ecocompatibile. | J9: SI | K9: NO | L9: NO | M9: NO | P9: Controllo congiunto per effetto di patti parasociali
B10: 5 | C10: 02232330361 | D10: GAL Antico Frignano e Appennino Reggiano Soc. coop. | E10: 1994 | F10: Attiva | H10: 5.02 | I10: Promozione e sviluppo zone montane | J10: NO | K10: NO | L10: NO | M10: NO
B11: 6 | C11: 02770891204 | D11: Lepida Scpa | E11: 2007 | F11: Attiva | H11: 0.001 | I11: Progettazione, realizzazione e gestione di servizi forniti tramite la rete di trasmissione dati a banda larga, realizzata dalla Regione Emilia-Romagna a favore degli Enti Pubblici, ai sensi dell'art. 9, c. 1 L.R. 11/2004 | J11: SI | K11: SI | L11: NO | M11: NO | P11: Controllo analogo congiunto
B12: 7 | C12: 02593290352 | D12: Montefalcone S.r.l. - FALLITA | E12: 2013 | F12: Sono in corso procedure concorsuali (fallimento, amministrazione straordinaria, ecc.) | G12: 2014 | H12: 82.51 | I12: Compravendita di beni immobili effettuata su beni propri | J12: SI | K12: NO | L12: NO | M12: NO
B13: 8 | C13: 00976140350 | D13: Reggio Emilia Fiere S.r.l. - in liquidazione | E13: 1981 | F13: Sono in corso procedure di liquidazione volontaria o scioglimento | G13: 2015 | H13: 12.72 | I13: Gestione di centri fieristici e specificamente dei beni immobili e mobili adibiti a finalità ed usi fieristici, attività utili per lo sviluppo socio-economico della provincia di Reggio Emilia, realizzazione di immobili e di infrastrutture occorrenti | J13: NO | K13: NO | L13: NO | M13: NO
B14: 9 | C14: 01146640352 | D14: Reggio Emilia Innovazione scrl - in liquidazione | E14: 1983 | F14: Sono in corso procedure di liquidazione volontaria o scioglimento | G14: 2017 | H14: 15.09 | I14: Prestazioni di servizi alle aziende in forma di prove di laboratorio e attività tecniche correlate | J14: NO | K14: NO | L14: NO | M14: NO
B16: Le società a partecipazione diretta (quotate e non quotate) sono sempre oggetto di ricognizione, anche se non controllate dall'ente.
B17: Colonna B: Inserire codice di 11 cifre per le società aventi sede in Italia; codice di 11 cifre seguito da "E" per le società aventi sede all'estero.
B18: Colonna C: Inserire la ragione sociale comprensiva della forma giuridica.
B19: Colonna F: Selezionare l'anno dal menù a tendina solo se nel campo "stato" è stata selezionata una delle seguenti opzioni: "cessata"; "sospesa"; "Sono in corso procedure concorsuali"; "Sono in corso procedure di liquidazione volontaria o scioglimento".
B20: Colonna G: Inserire valori comprensivi di decimali.
B21: Colonna H: Inserire una descrizione sintetica della/e attività effettivamente svolta/e.
B22: Colonna I: Indicare se la partecipazione detenuta dall'amministrazione è di controllo ai sensi dell'art. 2359 c.c.
B23: Colonna J: Indicare "SI" se l'Amministrazione esercita il controllo analogo o più Amministrazioni esercitano il controllo analogo congiunto.
B24: Colonna K: Indicare "SI" se la società emette azioni quotate in mercati regolamentati; se ha emesso strumenti finanziari quotati in mercati regolamentati;
B25: se sia partecipata da società quotate o che hanno emesso strumenti finanziari quotati.
B26: Colonna L: Indicare "SI" se la società ha come oggetto sociale esclusivo la gestione delle partecipazioni societarie per conto dell'Amministrazione.
N64: SI | O64: 2017
N65: NO | O65: =+O64-1 -> 2016
N66: Attiva | O66: =+O65-1 -> 2015
N67: Cessata | O67: =+O66-1 -> 2014
N68: Inattiva | O68: =+O67-1 -> 2013
N69: Sospesa | O69: =+O68-1 -> 2012
N70: Sono in corso procedure concorsuali (fallimento, amministrazione straordinaria, ecc.) | O70: =+O69-1 -> 2011
N71: Sono in corso procedure di liquidazione volontaria o scioglimento | O71: =+O70-1 -> 2010
O72: =+O71-1 -> 2009
O73: =+O72-1 -> 2008
O74: =+O73-1 -> 2007
O75: =+O74-1 -> 2006
O76: =+O75-1 -> 2005
O77: =+O76-1 -> 2004
O78: =+O77-1 -> 2003
...

Sheet 02.02_Ricognizione_Indirette
B1: 02. RICOGNIZIONE DELLE SOCIETÀ PARTECIPATE
B2: 02.02. Ricognizione delle società a partecipazione indiretta
B4: Progressivo | C4: Codice fiscale società | D4: Denominazione società | E4: Anno di costituzione | F4: Stato | G4: Anno di inizio della procedura | H4: Denominazione società/organismo tramite | I4: % Quota di partecipazione società/organismo tramite | J4: % Quota di partecipazione indiretta Amministrazione | K4: Attività svolta | L4: Partecipazione di controllo | M4: Società in house | N4: Quotata (ai sensi del d.lgs. n. 175/2016) | O4: Quotata (ai sensi del d.lgs. n. 175/2016) | P4: Holding pura
B5: A | C5: B | D5: C | E5: D | F5: E | G5: F | H5: G | I5: H | J5: I | K5: J | L5: K | M5: L | N5: M | O5: K | P5: L
B6: 1 | C6: 02120330358 | D6: CONSORZIO ANTINCENDIO AEROPORTO DI REGGIO EMILIA SCRL | E6: 2004 | F6: Attiva | H6: AEROPORTO DI REGGIO EMILIA SPA | I6: 49.77 | J6: 8.93 | K6: Espletamento dei servizi antincendio ai sensi della L. 930 del 23/12/1980 | L6: NO | M6: NO | N6: NO | Q6: dal 30/09/2019 è cessata l'attività di direzione e coordinamento di Aeroporto Spa
B7: 2 | C7: 04237330370 | D7: DINAMICA SCRL | E7: 1995 | F7: Attiva | H7: C.R.P.A. SPA | I7: 88 | J7: 18.33 | K7: Ricerca e sviluppo nel comparto dell'economia agraria | L7: SI | M7: NO | N7: NO
B16: Le società a partecipazione indiretta (quotate e non quotate) sono oggetto di ricognizione solo se detenute dall’ente per il tramite di una società/organismo sottoposto a controllo da parte dello stesso.
B17: Colonna B: Inserire codice di 11 cifre per le società aventi sede in Italia; codice di 11 cifre seguito da "E" per le società aventi sede all'estero.
B18: Colonna C: Inserire la ragione sociale comprensiva della forma giuridica.
B19: Colonna F: Selezionare l'anno dal menù a tendina solo se nel campo "stato" è stata selezionata una delle seguenti opzioni: "cessata"; "sospesa"; "Sono in corso procedure concorsuali"; "Sono in corso procedure di liquidazione volontaria o scioglimento".
B20: Colonna G: Inserire la denominazione delle società/organismi (1 o +) attraverso le quali l'ente partecipa alle medesime. Per le indirette di livello successivo, inserire la denominazione delle società/organismi
B21: partecipanti (1 o +) del livello immediatamente precedente.
B22: Colonna H: indicare separatamente ciascuna quota di partecipazione (comprensiva di decimali) qualora la partecipazione sia detenuta attraverso 2 o + società/organismi tramite.
B23: Colonna I: indicare una unica quota di partecipazione (comprensiva di decimali) determinata in proporzione alla quote di partecipazione dei livelli precedenti.
B24: Colonna J: Inserire una descrizione sintetica della/e attività effettivamente svolta/e.
B25: Colonna K: Indicare se la partecipazione detenuta dall'amministrazione è di controllo ai sensi dell'art. 2359 c.c.
B26: Colonna L: Indicare "SI" se l'Amministrazione esercita il controllo analogo o più Amministrazioni esercitano il controllo analogo congiunto.
B27: Colonna M: Indicare "SI" se la società emette azioni quotate in mercati regolamentati; se ha emesso strumenti finanziari quotati in mercati regolamentati;
B28: se sia partecipata da società quotate o che hanno emesso strumenti finanziari quotati.
O76: SI | P76: 2017
O77: NO | P77: =+P76-1 -> 2016
O78: Attiva | P78: =+P77-1 -> 2015
O79: Cessata | P79: =+P78-1 -> 2014
O80: Inattiva | P80: =+P79-1 -> 2013
O81: Sospesa | P81: =+P80-1 -> 2012
O82: Sono in corso procedure concorsuali (fallimento, amministrazione straordinaria, ecc.) | P82: =+P81-1 -> 2011
O83: Sono in corso procedure di liquidazione volontaria o scioglimento | P83: =+P82-1 -> 2010
P84: =+P83-1 -> 2009
P85: =+P84-1 -> 2008
P86: =+P85-1 -> 2007
P87: =+P86-1 -> 2006
P88: =+P87-1 -> 2005
P89: =+P88-1 -> 2004
P90: =+P89-1 -> 2003
P91: =+P90-1 -> 2002
P92: =+P91-1 -> 2001
P93: =+P92-1 -> 2000
P94: =+P93-1 -> 1999
P95: =+P94-1 -> 1998
... P245: =+P244-1 -> 1848

Sheet 02.03_Grafico_Relazioni
A1: 02. RICOGNIZIONE DELLE SOCIETÀ PARTECIPATE
A2: 02.03. Grafico delle relazioni tra partecipazioni
E23: 0.88 | G23: 0.4977

Sheet 03.01_Finalità_Autobren
B2: 03. REQUISITI TESTO UNICO DELLE SOCIETÀ A PARTECIPAZIONE PUBBLICA
B3: 03.01. Finalità perseguite e attività ammesse (articoli 1, 4 e 26)
B4: Compilare una scheda per ciascuna società
D5: Progressivo società partecipata: | E5: 1 | G5: (a)
D7: Denominazione società partecipata: | E7: Autostrada del Brennero Spa | G7: (b)
D9: Tipo partecipazione: | E9: sia diretta che indiretta | G9: (c)
D11: Attività svolta: | E11: Progettazione, costruzione ed esercizio dell'autostrada A22 - Collegamento Autostrada del Sole | G11: (d)
B13: indicare se la società:
A14: - | B14: È a partecipazione pubblica di diritto singolare (art. 1 co. 4)
A16: - | B16: Rientra nell'Allegato "A" del d.lgs. n. 175/2016 (art. 26, co. 2)
A18: - | B18: Ha come oggetto esclusivo la gestione di fondi europei per conto dello Stato o delle Regioni, ovvero la realizzazione di progetti di ricerca finanziati dalle istituzioni dell'Unione Europea (art. 26, co. 2)
A20: - | B20: È stata esclusa, con deliberazione adottata ai sensi dell'art. 4 co. 9, secondo periodo, dall'applicazione totale o parziale delle disposizioni del medesimo articolo (solo per le società partecipate dalle Regioni/Prov. Aut.)
A22: - | B22: È destinataria dei provvedimenti di cui al d.lgs. n. 159/2011 (art. 26, co. 12-bis)
A24: - | B24: È autorizzata alla gestione delle case da gioco, ai sensi della legislazione vigente (art. 26, co. 12-sexies)
N25: _
B26: Qualora non sia stata selezionata alcuna delle opzioni indicate ai punti precedenti, indicare se la società:
A27: - | B27: È costituita in attuazione dell'art. 34 del regolamento CE n. 13/2013 - Gruppi d'Azione Locale (art. 4, co. 6)
A29: - | B29: Ha per oggetto sociale prevalente la gestione di spazi fieristici e l'organizzazione di eventi fieristici (art. 4, co. 7)
A31: - | B31: Ha per oggetto sociale prevalente la realizzazione e la gestione di impianti di trasporto a fune per la mobilità turistico-sportiva in aree montane (art. 4, co. 7)
A33: - | B33: Ha per oggetto sociale prevalente la produzione di energia da fonti rinnovabili (art. 4, co. 7)
A35: - | B35: Ha caratteristiche di spin off o di start up universitario, o analoghe a quelle degli enti di ricerca, ovvero gestisce aziende agricole con funzioni didattiche (art. 4, co. 8)
A37: - | B37: Produce un servizio di interesse generale a rete (di cui all'art. 3-bis del d.l. 138/2011) fuori dall'ambito territoriale di riferimento, con affidamento dei servizi, in corso e nuovi, tramite procedure ad evidenza pubblica (art. 4, co. 9-bis)
A39: - | B39: Produce beni e servizi strettamente necessari per il perseguimento delle finalità istituzionali dell'ente (art. 4, co. 1)
A41: - | B41: Produce un servizio di interesse generale (art. 4, co. 2, lett. a)
A43: - | B43: Progetta e realizza un'opera pubblica sulla base di un accordo di programma fra amministrazioni pubbliche (art. 4, co. 2, lett. b)
A45: - | B45: Realizza e gestisce un'opera pubblica ovvero organizza e gestisce un servizio di interesse generale attraverso un contratto di partenariato pubblico/privato (art. 4, co. 2, lett. c)
A47: - | B47: Produce beni o servizi strumentali all'ente o agli enti pubblici partecipanti o alla svolgimento delle loro funzioni(art. 4, co. 2, lett. d)
A49: - | B49: Svolge servizi di committenza (art. 4, co. 2, lett. e)
A51: - | B51: Valorizza il patrimonio immobiliare dell'amministrazione partecipante (art. 4, co. 3)
B53: Indicare le motivazioni della riconducibilità o meno ai vincoli di scopo di cui al co. 1 o ad una delle attività di cui ai commi 2 e 3, anche con riferimento alle società che svolgono le attività di cui ai commi 6, 7, 8:
B54: La società svolge funzioni di interesse generale compatibili con le funzioni assegnate alla Provincia dalla L. 56/2014 quali la viabilità e i trasporti. La partecipazione consente all'Ente di intervenire sulla pianificazione del sistema viabilistico di lungo percorso sul territorio provinciale.
B56: (a): Inserire uno dei progressivi già indicati nelle schede di ricognizione (02.01; 02.02).
B57: (b): Inserire la ragione sociale come indicata nelle schede di ricognizione (02.01; 02.02).
B58: (c): Indicare il tipo di partecipazione distinguendo i casi in cui la società sia partecipata direttamente, indirettamente (tramite altra società/organismo),
B59: ovvero in parte direttamente e in parte indirettamente.
B60: (d): Inserire l'attività come indicata nelle schede di ricognizione (02.01; 02.02).

Sheet 03.01_Agenzia_Mobilità
B2: 03. REQUISITI TESTO UNICO DELLE SOCIETÀ A PARTECIPAZIONE PUBBLICA
B3: 03.01. Finalità perseguite e attività ammesse (articoli 1, 4 e 26)
B4: Compilare una scheda per ciascuna società
D5: Progressivo società partecipata: | E5: 2 | G5: (a)
D7: Denominazione società partecipata: | E7: Agenzia Locale per la Mobilità e il Trasporto pubblico locale Srl | G7: (b)
D9: Tipo partecipazione: | E9: Diretta | G9: (c)
D11: Attività svolta: | E11: Attività di programmazione e progettazione integrata dei servizi pubblici di trasporto | G11: (d)
B13: indicare se la società:
A14: - | B14: È a partecipazione pubblica di diritto singolare (art. 1 co. 4)
A16: - | B16: Rientra nell'Allegato "A" del d.lgs. n. 175/2016 (art. 26, co. 2)
A18: - | B18: Ha come oggetto esclusivo la gestione di fondi europei per conto dello Stato o delle Regioni, ovvero la realizzazione di progetti di ricerca finanziati dalle istituzioni dell'Unione Europea (art. 26, co. 2)
A20: - | B20: È stata esclusa, con deliberazione adottata ai sensi dell'art. 4 co. 9, secondo periodo, dall'applicazione totale o parziale delle disposizioni del medesimo articolo (solo per le società partecipate dalle Regioni/Prov. Aut.)
A22: - | B22: È destinataria dei provvedimenti di cui al d.lgs. n. 159/2011 (art. 26, co. 12-bis)
A24: - | B24: È autorizzata alla gestione delle case da gioco, ai sensi della legislazione vigente (art. 26, co. 12-sexies)
B26: Qualora non sia stata selezionata alcuna delle opzioni indicate ai punti precedenti, indicare se la società:
A27: - | B27: È costituita in attuazione dell'art. 34 del regolamento CE n. 13/2013 - Gruppi d'Azione Locale (art. 4, co. 6)
A29: - | B29: Ha per oggetto sociale prevalente la gestione di spazi fieristici e l'organizzazione di eventi fieristici (art. 4, co. 7)
A31: - | B31: Ha per oggetto sociale prevalente la realizzazione e la gestione di impianti di trasporto a fune per la mobilità turistico-sportiva in aree montane (art. 4, co. 7)
A33: - | B33: Ha per oggetto sociale prevalente la produzione di energia da fonti rinnovabili (art. 4, co. 7)
A35: - | B35: Ha caratteristiche di spin off o di start up universitario, o analoghe a quelle degli enti di ricerca, ovvero gestisce aziende agricole con funzioni didattiche (art. 4, co. 8)
A37: - | B37: Produce un servizio di interesse generale a rete (di cui all'art. 3-bis del d.l. 138/2011) fuori dall'ambito territoriale di riferimento, con affidamento dei servizi, in corso e nuovi, tramite procedure ad evidenza pubblica (art. 4, co. 9-bis)
A39: - | B39: Produce beni e servizi strettamente necessari per il perseguimento delle finalità istituzionali dell'ente (art. 4, co. 1)
A41: - | B41: Produce un servizio di interesse generale (art. 4, co. 2, lett. a)
A43: - | B43: Progetta e realizza un'opera pubblica sulla base di un accordo di programma fra amministrazioni pubbliche (art. 4, co. 2, lett. b)
A45: - | B45: Realizza e gestisce un'opera pubblica ovvero organizza e gestisce un servizio di interesse generale attraverso un contratto di partenariato pubblico/privato (art. 4, co. 2, lett. c)
A47: - | B47: Produce beni o servizi strumentali all'ente o agli enti pubblici partecipanti o alla svolgimento delle loro funzioni(art. 4, co. 2, lett. d)
A49: - | B49: Svolge servizi di committenza (art. 4, co. 2, lett. e)
A51: - | B51: Valorizza il patrimonio immobiliare dell'amministrazione partecipante (art. 4, co. 3)
B53: Indicare le motivazioni della riconducibilità o meno ai vincoli di scopo di cui al co. 1 o ad una delle attività di cui ai commi 2 e 3, anche con riferimento alle società che svolgono le attività di cui ai commi 6, 7, 8:
B54: I trasporti sono una delle funzioni fondamentali della Provincia. La sua costituzione è avvenuta in attuazione degli articoli 24 e 25 della L.R. 30 giugno 2008, n. 10 e per le finalità di cui alla L. R. Emilia Romagna n. 30 del 2 ottobre 1998. La partecipazione della Provincia di Reggio Emilia è obbligatoria alla luce della normativa pertanto la valutazione di stretta necessità è già stata compiuta dal legislatore a monte con l'emanazione delle leggi citate.
B56: (a): Inserire uno dei progressivi già indicati nelle schede di ricognizione (02.01; 02.02).
B57: (b): Inserire la ragione sociale come indicata nelle schede di ricognizione (02.01; 02.02).
B58: (c): Indicare il tipo di partecipazione distinguendo i casi in cui la società sia partecipata direttamente, indirettamente (tramite altra società/organismo),
B59: ovvero in parte direttamente e in parte indirettamente.
B60: (d): Inserire l'attività come indicata nelle schede di ricognizione (02.01; 02.02).

Sheet 03.01_Aeroporto
B2: 03. REQUISITI TESTO UNICO DELLE SOCIETÀ A PARTECIPAZIONE PUBBLICA
B3: 03.01. Finalità perseguite e attività ammesse (articoli 1, 4 e 26)
B4: Compilare una scheda per ciascuna società
D5: Progressivo società partecipata: | E5: 3 | G5: (a)
D7: Denominazione società partecipata: | E7: Aeroporto Reggio Emilia Spa | G7: (b)
D9: Tipo partecipazione: | E9: Diretta | G9: (c)
D11: Attività svolta: | E11: Attività dei servizi connessi al trasporto aereo | G11: (d)
B13: indicare se la società:
A14: - | B14: È a partecipazione pubblica di diritto singolare (art. 1 co. 4)
A16: - | B16: Rientra nell'Allegato "A" del d.lgs. n. 175/2016 (art. 26, co. 2)
A18: - | B18: Ha come oggetto esclusivo la gestione di fondi europei per conto dello Stato o delle Regioni, ovvero la realizzazione di progetti di ricerca finanziati dalle istituzioni dell'Unione Europea (art. 26, co. 2)
A20: - | B20: È stata esclusa, con deliberazione adottata ai sensi dell'art. 4 co. 9, secondo periodo, dall'applicazione totale o parziale delle disposizioni del medesimo articolo (solo per le società partecipate dalle Regioni/Prov. Aut.)
A22: - | B22: È destinataria dei provvedimenti di cui al d.lgs. n. 159/2011 (art. 26, co. 12-bis)
A24: - | B24: È autorizzata alla gestione delle case da gioco, ai sensi della legislazione vigente (art. 26, co. 12-sexies)
B26: Qualora non sia stata selezionata alcuna delle opzioni indicate ai punti precedenti, indicare se la società:
A27: - | B27: È costituita in attuazione dell'art. 34 del regolamento CE n. 13/2013 - Gruppi d'Azione Locale (art. 4, co. 6)
A29: - | B29: Ha per oggetto sociale prevalente la gestione di spazi fieristici e l'organizzazione di eventi fieristici (art. 4, co. 7)
A31: - | B31: Ha per oggetto sociale prevalente la realizzazione e la gestione di impianti di trasporto a fune per la mobilità turistico-sportiva in aree montane (art. 4, co. 7)
A33: - | B33: Ha per oggetto sociale prevalente la produzione di energia da fonti rinnovabili (art. 4, co. 7)
A35: - | B35: Ha caratteristiche di spin off o di start up universitario, o analoghe a quelle degli enti di ricerca, ovvero gestisce aziende agricole con funzioni didattiche (art. 4, co. 8)
A37: - | B37: Produce un servizio di interesse generale a rete (di cui all'art. 3-bis del d.l. 138/2011) fuori dall'ambito territoriale di riferimento, con affidamento dei servizi, in corso e nuovi, tramite procedure ad evidenza pubblica (art. 4, co. 9-bis)
A39: - | B39: Produce beni e servizi strettamente necessari per il perseguimento delle finalità istituzionali dell'ente (art. 4, co. 1)
A41: - | B41: Produce un servizio di interesse generale (art. 4, co. 2, lett. a)
A43: - | B43: Progetta e realizza un'opera pubblica sulla base di un accordo di programma fra amministrazioni pubbliche (art. 4, co. 2, lett. b)
A45: - | B45: Realizza e gestisce un'opera pubblica ovvero organizza e gestisce un servizio di interesse generale attraverso un contratto di partenariato pubblico/privato (art. 4, co. 2, lett. c)
A47: - | B47: Produce beni o servizi strumentali all'ente o agli enti pubblici partecipanti o alla svolgimento delle loro funzioni(art. 4, co. 2, lett. d)
A49: - | B49: Svolge servizi di committenza (art. 4, co. 2, lett. e)
A51: - | B51: Valorizza il patrimonio immobiliare dell'amministrazione partecipante (art. 4, co. 3)
B53: Indicare le motivazioni della riconducibilità o meno ai vincoli di scopo di cui al co. 1 o ad una delle attività di cui ai commi 2 e 3, anche con riferimento alle società che svolgono le attività di cui ai commi 6, 7, 8:
B54: La società, che opera nell'ambito del trasporto aereo e dei servizi aeroportuali annessi, rende disponibili beni e servizi essenziali alla comunità reggiana. Pertanto, mediante accordo sottoscritto in data 26/09/2017, le Unioni dei comuni reggiani hanno affidato alla Provincia di Reggio Emilia, ai sensi dell'art. 1 comma 85, lett. d), della legge 56/2014, la tutela dei comuni interessi in questo ambito da attuarsi mediante l'esercizio, in qualità di socio di Aeroporto Spa, dei relativi poteri di indirizzo. La società è costituita ai sensi dell'art. 10, comma 13 L.537/93 il quale prevede che "entro l'anno 1994 sono costituite apposite società di capitale per la gestione dei servizi e per la realizzazione delle infrastrutture degli aeroporti gestiti anche in parte dallo Stato. Alle predette società possono partecipare anche le regioni e gli enti locali interessati".
B55: Successivamente con l'art. 2, comma 1 D.M. 521/97 viene disposta la costituzione di società di capitali per la gestione dei servizi e infrastrutture degli aeroporti gestiti in parte dallo Stato: Natura e soci delle società di gestione aeroportuale: sono costituite esclusivamente sotto forma di società di capitale, secondo la disciplina del codice civile, ed in qualità di soci possono partecipare, senza il vincolo della proprietà maggioritaria, anche le regioni, le province, i comuni e gli enti locali nonchè le camere di commercio, industria e artigianato interessati. La società inoltre è indispensabile a supporto dei programmi e delle politiche istituzionali del territorio reggiano: ha partecipato al Bando "POR FESR - Asse 5 Valorizzazione delle risorse artistiche, culturali ed ambientali tramite il progetto "Arena campovolo" come dettagliato nelle motivazioni del mantenimento al foglio 4.
B56: (a): Inserire uno dei progressivi già indicati nelle schede di ricognizione (02.01; 02.02).
B57: (b): Inserire la ragione sociale come indicata nelle schede di ricognizione (02.01; 02.02).
B58: (c): Indicare il tipo di partecipazione distinguendo i casi in cui la società sia partecipata direttamente, indirettamente (tramite altra società/organismo),
B59: ovvero in parte direttamente e in parte indirettamente.
B60: (d): Inserire l'attività come indicata nelle schede di ricognizione (02.01; 02.02).

Sheet 03.01_CRPA
B2: 03. REQUISITI TESTO UNICO DELLE SOCIETÀ A PARTECIPAZIONE PUBBLICA
B3: 03.01. Finalità perseguite e attività ammesse (articoli 1, 4 e 26)
B4: Compilare una scheda per ciascuna società
D5: Progressivo società partecipata: | E5: 4 | G5: (a)
D7: Denominazione società partecipata: | E7: Centro Ricerche Produzioni Animali - CRPA Spa | G7: (b)
D9: Tipo partecipazione: | E9: Diretta | G9: (c)
D11: Attività svolta: | E11: Promuove il progresso tecnico, economico e sociale del settore degli allevamenti e realizza la diffusione delle forme più avanzate di agricoltura ecocompatibile. | G11: (d)
B13: indicare se la società:
A14: - | B14: È a partecipazione pubblica di diritto singolare (art. 1 co. 4)
A16: - | B16: Rientra nell'Allegato "A" del d.lgs. n. 175/2016 (art. 26, co. 2)
A18: - | B18: Ha come oggetto esclusivo la gestione di fondi europei per conto dello Stato o delle Regioni, ovvero la realizzazione di progetti di ricerca finanziati dalle istituzioni dell'Unione Europea (art. 26, co. 2)
A20: - | B20: È stata esclusa, con deliberazione adottata ai sensi dell'art. 4 co. 9, secondo periodo, dall'applicazione totale o parziale delle disposizioni del medesimo articolo (solo per le società partecipate dalle Regioni/Prov. Aut.)
A22: - | B22: È destinataria dei provvedimenti di cui al d.lgs. n. 159/2011 (art. 26, co. 12-bis)
A24: - | B24: È autorizzata alla gestione delle case da gioco, ai sensi della legislazione vigente (art. 26, co. 12-sexies)
B26: Qualora non sia stata selezionata alcuna delle opzioni indicate ai punti precedenti, indicare se la società:
A27: - | B27: È costituita in attuazione dell'art. 34 del regolamento CE n. 13/2013 - Gruppi d'Azione Locale (art. 4, co. 6)
A29: - | B29: Ha per oggetto sociale prevalente la gestione di spazi fieristici e l'organizzazione di eventi fieristici (art. 4, co. 7)
A31: - | B31: Ha per oggetto sociale prevalente la realizzazione e la gestione di impianti di trasporto a fune per la mobilità turistico-sportiva in aree montane (art. 4, co. 7)
A33: - | B33: Ha per oggetto sociale prevalente la produzione di energia da fonti rinnovabili (art. 4, co. 7)
A35: - | B35: Ha caratteristiche di spin off o di start up universitario, o analoghe a quelle degli enti di ricerca, ovvero gestisce aziende agricole con funzioni didattiche (art. 4, co. 8)
A37: - | B37: Produce un servizio di interesse generale a rete (di cui all'art. 3-bis del d.l. 138/2011) fuori dall'ambito territoriale di riferimento, con affidamento dei servizi, in corso e nuovi, tramite procedure ad evidenza pubblica (art. 4, co. 9-bis)
A39: - | B39: Produce beni e servizi strettamente necessari per il perseguimento delle finalità istituzionali dell'ente (art. 4, co. 1)
A41: - | B41: Produce un servizio di interesse generale (art. 4, co. 2, lett. a)
A43: - | B43: Progetta e realizza un'opera pubblica sulla base di un accordo di programma fra amministrazioni pubbliche (art. 4, co. 2, lett. b)
A45: - | B45: Realizza e gestisce un'opera pubblica ovvero organizza e gestisce un servizio di interesse generale attraverso un contratto di partenariato pubblico/privato (art. 4, co. 2, lett. c)
A47: - | B47: Produce beni o servizi strumentali all'ente o agli enti pubblici partecipanti o alla svolgimento delle loro funzioni(art. 4, co. 2, lett. d)
A49: - | B49: Svolge servizi di committenza (art. 4, co. 2, lett. e)
A51: - | B51: Valorizza il patrimonio immobiliare dell'amministrazione partecipante (art. 4, co. 3)
B53: Indicare le motivazioni della riconducibilità o meno ai vincoli di scopo di cui al co. 1 o ad una delle attività di cui ai commi 2 e 3, anche con riferimento alle società che svolgono le attività di cui ai commi 6, 7, 8:
B54: La società, che opera nell'ambito dello sviluppo produttivo in ambito agricolo, rende disponibili beni e servizi essenziali alla comunità reggiana, la cui economia è fortemente caratterizzata da attività agricole avanzate. Pertanto, mediante accordo sottoscritto in data 26/09/2017, le Unioni dei comuni reggiani hanno affidato alla Provincia di Reggio Emilia, ai sensi dell'art. 1 comma 85, lett. d), della legge 56/2014, la tutela dei comuni interessi in questo ambito da attuarsi mediante l'esercizio, in qualità di socio di CRPA Spa, dei relativi poteri di indirizzo. L'attività svolta è a supporto delle politiche del territorio. L'attività svolta dalla società rientra anche nel comma 8 dell'articolo 4 che stabilisce “E' fatta salva la possibilità di costituire, ai sensi degli articoli 2 e 3 del decreto legislativo 27 luglio 1999, n. 297, le società con caratteristiche di spin off o di start up universitari previste dall'articolo 6, comma 9, della legge 30 dicembre 2010, n. 240, nonche' quelle con caratteristiche analoghe degli enti di ricerca.”
B56: (a): Inserire uno dei progressivi già indicati nelle schede di ricognizione (02.01; 02.02).
B57: (b): Inserire la ragione sociale come indicata nelle schede di ricognizione (02.01; 02.02).
B58: (c): Indicare il tipo di partecipazione distinguendo i casi in cui la società sia partecipata direttamente, indirettamente (tramite altra società/organismo),
B59: ovvero in parte direttamente e in parte indirettamente.
B60: (d): Inserire l'attività come indicata nelle schede di ricognizione (02.01; 02.02).

Sheet 03.01_ GAL
B2: 03. REQUISITI TESTO UNICO DELLE SOCIETÀ A PARTECIPAZIONE PUBBLICA
B3: 03.01. Finalità perseguite e attività ammesse (articoli 1, 4 e 26)
B4: Compilare una scheda per ciascuna società
D5: Progressivo società partecipata: | E5: 5 | G5: (a)
D7: Denominazione società partecipata: | E7: GAL Antico frignano e Appennino Reggiano Soc. Coop. | G7: (b)
D9: Tipo partecipazione: | E9: Diretta | G9: (c)
D11: Attività svolta: | E11: Promozione e sviluppo zone montane | G11: (d)
B13: indicare se la società:
A14: - | B14: È a partecipazione pubblica di diritto singolare (art. 1 co. 4)
A16: - | B16: Rientra nell'Allegato "A" del d.lgs. n. 175/2016 (art. 26, co. 2)
A18: - | B18: Ha come oggetto esclusivo la gestione di fondi europei per conto dello Stato o delle Regioni, ovvero la realizzazione di progetti di ricerca finanziati dalle istituzioni dell'Unione Europea (art. 26, co. 2)
A20: - | B20: È stata esclusa, con deliberazione adottata ai sensi dell'art. 4 co. 9, secondo periodo, dall'applicazione totale o parziale delle disposizioni del medesimo articolo (solo per le società partecipate dalle Regioni/Prov. Aut.)
A22: - | B22: È destinataria dei provvedimenti di cui al d.lgs. n. 159/2011 (art. 26, co. 12-bis)
A24: - | B24: È autorizzata alla gestione delle case da gioco, ai sensi della legislazione vigente (art. 26, co. 12-sexies)
B26: Qualora non sia stata selezionata alcuna delle opzioni indicate ai punti precedenti, indicare se la società:
A27: - | B27: È costituita in attuazione dell'art. 34 del regolamento CE n. 13/2013 - Gruppi d'Azione Locale (art. 4, co. 6)
A29: - | B29: Ha per oggetto sociale prevalente la gestione di spazi fieristici e l'organizzazione di eventi fieristici (art. 4, co. 7)
A31: - | B31: Ha per oggetto sociale prevalente la realizzazione e la gestione di impianti di trasporto a fune per la mobilità turistico-sportiva in aree montane (art. 4, co. 7)
A33: - | B33: Ha per oggetto sociale prevalente la produzione di energia da fonti rinnovabili (art. 4, co. 7)
A35: - | B35: Ha caratteristiche di spin off o di start up universitario, o analoghe a quelle degli enti di ricerca, ovvero gestisce aziende agricole con funzioni didattiche (art. 4, co. 8)
A37: - | B37: Produce un servizio di interesse generale a rete (di cui all'art. 3-bis del d.l. 138/2011) fuori dall'ambito territoriale di riferimento, con affidamento dei servizi, in corso e nuovi, tramite procedure ad evidenza pubblica (art. 4, co. 9-bis)
A39: - | B39: Produce beni e servizi strettamente necessari per il perseguimento delle finalità istituzionali dell'ente (art. 4, co. 1)
A41: - | B41: Produce un servizio di interesse generale (art. 4, co. 2, lett. a)
A43: - | B43: Progetta e realizza un'opera pubblica sulla base di un accordo di programma fra amministrazioni pubbliche (art. 4, co. 2, lett. b)
A45: - | B45: Realizza e gestisce un'opera pubblica ovvero organizza e gestisce un servizio di interesse generale attraverso un contratto di partenariato pubblico/privato (art. 4, co. 2, lett. c)
A47: - | B47: Produce beni o servizi strumentali all'ente o agli enti pubblici partecipanti o alla svolgimento delle loro funzioni(art. 4, co. 2, lett. d)
A49: - | B49: Svolge servizi di committenza (art. 4, co. 2, lett. e)
A51: - | B51: Valorizza il patrimonio immobiliare dell'amministrazione partecipante (art. 4, co. 3)
B53: Indicare le motivazioni della riconducibilità o meno ai vincoli di scopo di cui al co. 1 o ad una delle attività di cui ai commi 2 e 3, anche con riferimento alle società che svolgono le attività di cui ai commi 6, 7, 8:
B54: La società coop. a r. l., è un soggetto obbligatorio previsto dal regolamento CE 13/2013 ai fini della programmazione e gestione delle risorse comunitarie per le aree agricole montane, rende quindi disponibili beni e servizi essenziali direttamente alle aree montane e più in generale a tutta la comunità economica reggiana. Pertanto, mediante accordo sottoscritto in data 26/09/2017, le Unioni dei comuni reggiani hanno affidato alla Provincia di Reggio Emilia, ai sensi dell'art. 1 comma 85, lett. d), della legge 56/2014, la tutela dei comuni interessi in questo ambito da attuarsi mediante l'esercizio, in qualità di socio del GAL, dei relativi poteri di indirizzo.
B56: (a): Inserire uno dei progressivi già indicati nelle schede di ricognizione (02.01; 02.02).
B57: (b): Inserire la ragione sociale come indicata nelle schede di ricognizione (02.01; 02.02).
B58: (c): Indicare il tipo di partecipazione distinguendo i casi in cui la società sia partecipata direttamente, indirettamente (tramite altra società/organismo),
B59: ovvero in parte direttamente e in parte indirettamente.
B60: (d): Inserire l'attività come indicata nelle schede di ricognizione (02.01; 02.02).

Sheet 03.01_ Lepida
B2: 03. REQUISITI TESTO UNICO DELLE SOCIETÀ A PARTECIPAZIONE PUBBLICA
B3: 03.01. Finalità perseguite e attività ammesse (articoli 1, 4 e 26)
B4: Compilare una scheda per ciascuna società
D5: Progressivo società partecipata: | E5: 6 | G5: (a)
D7: Denominazione società partecipata: | E7: Lepida Scpa | G7: (b)
D9: Tipo partecipazione: | E9: Diretta | G9: (c)
D11: Attività svolta: | E11: Progettazione, realizzazione e gestione di servizi forniti tramite la rete di trasmissione dati a banda larga, realizzata dalla Regione Emilia-Romagna a favore degli Enti Pubblici, ai sensi dell'art. 9, c. 1 L.R. 11/2004 | G11: (d)
B13: indicare se la società:
A14: - | B14: È a partecipazione pubblica di diritto singolare (art. 1 co. 4)
A16: - | B16: Rientra nell'Allegato "A" del d.lgs. n. 175/2016 (art. 26, co. 2)
A18: - | B18: Ha come oggetto esclusivo la gestione di fondi europei per conto dello Stato o delle Regioni, ovvero la realizzazione di progetti di ricerca finanziati dalle istituzioni dell'Unione Europea (art. 26, co. 2)
A20: - | B20: È stata esclusa, con deliberazione adottata ai sensi dell'art. 4 co. 9, secondo periodo, dall'applicazione totale o parziale delle disposizioni del medesimo articolo (solo per le società partecipate dalle Regioni/Prov. Aut.)
A22: - | B22: È destinataria dei provvedimenti di cui al d.lgs. n. 159/2011 (art. 26, co. 12-bis)
A24: - | B24: È autorizzata alla gestione delle case da gioco, ai sensi della legislazione vigente (art. 26, co. 12-sexies)
B26: Qualora non sia stata selezionata alcuna delle opzioni indicate ai punti precedenti, indicare se la società:
A27: - | B27: È costituita in attuazione dell'art. 34 del regolamento CE n. 13/2013 - Gruppi d'Azione Locale (art. 4, co. 6)
A29: - | B29: Ha per oggetto sociale prevalente la gestione di spazi fieristici e l'organizzazione di eventi fieristici (art. 4, co. 7)
A31: - | B31: Ha per oggetto sociale prevalente la realizzazione e la gestione di impianti di trasporto a fune per la mobilità turistico-sportiva in aree montane (art. 4, co. 7)
A33: - | B33: Ha per oggetto sociale prevalente la produzione di energia da fonti rinnovabili (art. 4, co. 7)
A35: - | B35: Ha caratteristiche di spin off o di start up universitario, o analoghe a quelle degli enti di ricerca, ovvero gestisce aziende agricole con funzioni didattiche (art. 4, co. 8)
A37: - | B37: Produce un servizio di interesse generale a rete (di cui all'art. 3-bis del d.l. 138/2011) fuori dall'ambito territoriale di riferimento, con affidamento dei servizi, in corso e nuovi, tramite procedure ad evidenza pubblica (art. 4, co. 9-bis)
A39: - | B39: Produce beni e servizi strettamente necessari per il perseguimento delle finalità istituzionali dell'ente (art. 4, co. 1)
A41: - | B41: Produce un servizio di interesse generale (art. 4, co. 2, lett. a)
A43: - | B43: Progetta e realizza un'opera pubblica sulla base di un accordo di programma fra amministrazioni pubbliche (art. 4, co. 2, lett. b)
A45: - | B45: Realizza e gestisce un'opera pubblica ovvero organizza e gestisce un servizio di interesse generale attraverso un contratto di partenariato pubblico/privato (art. 4, co. 2, lett. c)
A47: - | B47: Produce beni o servizi strumentali all'ente o agli enti pubblici partecipanti o alla svolgimento delle loro funzioni(art. 4, co. 2, lett. d)
A49: - | B49: Svolge servizi di committenza (art. 4, co. 2, lett. e)
A51: - | B51: Valorizza il patrimonio immobiliare dell'amministrazione partecipante (art. 4, co. 3)
B53: Indicare le motivazioni della riconducibilità o meno ai vincoli di scopo di cui al co. 1 o ad una delle attività di cui ai commi 2 e 3, anche con riferimento alle società che svolgono le attività di cui ai commi 6, 7, 8:
B54: Lepida SpA, costituita con Legge Regionale n. 11/2004, è una società in house providing della Regione Emilia-Romagna e dei suoi enti soci e rappresenta lo strumento operativo per la pianificazione, l’ideazione, la progettazione, lo sviluppo, l’integrazione, il dispiegamento, la configurazione, l’esercizio, la realizzazione delle infrastrutture di telecomunicazione e dei servizi telematici (tra cui anche i servizi di DataCenter & Cloud) che sfruttano le infrastrutture di rete, per Soci e per Enti collegati alla Rete Lepida. La società è sottoposta al “controllo analogo congiunto” delle pubbliche amministrazioni socie per mezzo del comitato istituito ai sensi dell'art. 6, comma 4, L.R. Emilia-Romagna 24 maggio 2004, n. 11. L'attività svolta dalla società consente l'ottimizzazione dei costi e uniformità della rete informatica. A decorrere dall'1/01/2019 la società ha incorporato Cup 2000 s.c.p.a.
B56: (a): Inserire uno dei progressivi già indicati nelle schede di ricognizione (02.01; 02.02).
B57: (b): Inserire la ragione sociale come indicata nelle schede di ricognizione (02.01; 02.02).
B58: (c): Indicare il tipo di partecipazione distinguendo i casi in cui la società sia partecipata direttamente, indirettamente (tramite altra società/organismo),
B59: ovvero in parte direttamente e in parte indirettamente.
B60: (d): Inserire l'attività come indicata nelle schede di ricognizione (02.01; 02.02).

Sheet 03.01_ Montefalcone
B2: 03. REQUISITI TESTO UNICO DELLE SOCIETÀ A PARTECIPAZIONE PUBBLICA
B3: 03.01. Finalità perseguite e attività ammesse (articoli 1, 4 e 26)
B4: Compilare una scheda per ciascuna società
D5: Progressivo società partecipata: | E5: 7 | G5: (a)
D7: Denominazione società partecipata: | E7: Montefalcone Srl | G7: (b)
D9: Tipo partecipazione: | E9: Diretta | G9: (c)
D11: Attività svolta: | E11: Compravendita di beni immobili effettuata su beni propri | G11: (d)
B13: indicare se la società:
A14: - | B14: È a partecipazione pubblica di diritto singolare (art. 1 co. 4)
A16: - | B16: Rientra nell'Allegato "A" del d.lgs. n. 175/2016 (art. 26, co. 2)
A18: - | B18: Ha come oggetto esclusivo la gestione di fondi europei per conto dello Stato o delle Regioni, ovvero la realizzazione di progetti di ricerca finanziati dalle istituzioni dell'Unione Europea (art. 26, co. 2)
A20: - | B20: È stata esclusa, con deliberazione adottata ai sensi dell'art. 4 co. 9, secondo periodo, dall'applicazione totale o parziale delle disposizioni del medesimo articolo (solo per le società partecipate dalle Regioni/Prov. Aut.)
A22: - | B22: È destinataria dei provvedimenti di cui al d.lgs. n. 159/2011 (art. 26, co. 12-bis)
A24: - | B24: È autorizzata alla gestione delle case da gioco, ai sensi della legislazione vigente (art. 26, co. 12-sexies)
B26: Qualora non sia stata selezionata alcuna delle opzioni indicate ai punti precedenti, indicare se la società:
A27: - | B27: È costituita in attuazione dell'art. 34 del regolamento CE n. 13/2013 - Gruppi d'Azione Locale (art. 4, co. 6)
A29: - | B29: Ha per oggetto sociale prevalente la gestione di spazi fieristici e l'organizzazione di eventi fieristici (art. 4, co. 7)
A31: - | B31: Ha per oggetto sociale prevalente la realizzazione e la gestione di impianti di trasporto a fune per la mobilità turistico-sportiva in aree montane (art. 4, co. 7)
A33: - | B33: Ha per oggetto sociale prevalente la produzione di energia da fonti rinnovabili (art. 4, co. 7)
A35: - | B35: Ha caratteristiche di spin off o di start up universitario, o analoghe a quelle degli enti di ricerca, ovvero gestisce aziende agricole con funzioni didattiche (art. 4, co. 8)
A37: - | B37: Produce un servizio di interesse generale a rete (di cui all'art. 3-bis del d.l. 138/2011) fuori dall'ambito territoriale di riferimento, con affidamento dei servizi, in corso e nuovi, tramite procedure ad evidenza pubblica (art. 4, co. 9-bis)
A39: - | B39: Produce beni e servizi strettamente necessari per il perseguimento delle finalità istituzionali dell'ente (art. 4, co. 1)
A41: - | B41: Produce un servizio di interesse generale (art. 4, co. 2, lett. a)
A43: - | B43: Progetta e realizza un'opera pubblica sulla base di un accordo di programma fra amministrazioni pubbliche (art. 4, co. 2, lett. b)
A45: - | B45: Realizza e gestisce un'opera pubblica ovvero organizza e gestisce un servizio di interesse generale attraverso un contratto di partenariato pubblico/privato (art. 4, co. 2, lett. c)
A47: - | B47: Produce beni o servizi strumentali all'ente o agli enti pubblici partecipanti o alla svolgimento delle loro funzioni(art. 4, co. 2, lett. d)
A49: - | B49: Svolge servizi di committenza (art. 4, co. 2, lett. e)
A51: - | B51: Valorizza il patrimonio immobiliare dell'amministrazione partecipante (art. 4, co. 3)
B53: Indicare le motivazioni della riconducibilità o meno ai vincoli di scopo di cui al co. 1 o ad una delle attività di cui ai commi 2 e 3, anche con riferimento alle società che svolgono le attività di cui ai commi 6, 7, 8:
B54: La società è stata dichiarata fallita dal Tribunale di Reggio Emilia con sentenza n. 150 del 18/12/2014
B56: (a): Inserire uno dei progressivi già indicati nelle schede di ricognizione (02.01; 02.02).
B57: (b): Inserire la ragione sociale come indicata nelle schede di ricognizione (02.01; 02.02).
B58: (c): Indicare il tipo di partecipazione distinguendo i casi in cui la società sia partecipata direttamente, indirettamente (tramite altra società/organismo),
B59: ovvero in parte direttamente e in parte indirettamente.
B60: (d): Inserire l'attività come indicata nelle schede di ricognizione (02.01; 02.02).

Sheet 03.01_ REF
B2: 03. REQUISITI TESTO UNICO DELLE SOCIETÀ A PARTECIPAZIONE PUBBLICA
B3: 03.01. Finalità perseguite e attività ammesse (articoli 1, 4 e 26)
B4: Compilare una scheda per ciascuna società
D5: Progressivo società partecipata: | E5: 8 | G5: (a)
D7: Denominazione società partecipata: | E7: Reggio Emilia Fiere Srl in liquidazione | G7: (b)
D9: Tipo partecipazione: | E9: Diretta | G9: (c)
D11: Attività svolta: | E11: Gestione di centri fieristici e specificamente dei beni immobili e mobili adibiti a finalità ed usi fieristici, attività utili per lo sviluppo socio-economico della provincia di Reggio Emilia, realizzazione di immobili e di infrastrutture occorrenti | G11: (d)
B13: indicare se la società:
A14: - | B14: È a partecipazione pubblica di diritto singolare (art. 1 co. 4)
A16: - | B16: Rientra nell'Allegato "A" del d.lgs. n. 175/2016 (art. 26, co. 2)
A18: - | B18: Ha come oggetto esclusivo la gestione di fondi europei per conto dello Stato o delle Regioni, ovvero la realizzazione di progetti di ricerca finanziati dalle istituzioni dell'Unione Europea (art. 26, co. 2)
A20: - | B20: È stata esclusa, con deliberazione adottata ai sensi dell'art. 4 co. 9, secondo periodo, dall'applicazione totale o parziale delle disposizioni del medesimo articolo (solo per le società partecipate dalle Regioni/Prov. Aut.)
A22: - | B22: È destinataria dei provvedimenti di cui al d.lgs. n. 159/2011 (art. 26, co. 12-bis)
A24: - | B24: È autorizzata alla gestione delle case da gioco, ai sensi della legislazione vigente (art. 26, co. 12-sexies)
B26: Qualora non sia stata selezionata alcuna delle opzioni indicate ai punti precedenti, indicare se la società:
A27: - | B27: È costituita in attuazione dell'art. 34 del regolamento CE n. 13/2013 - Gruppi d'Azione Locale (art. 4, co. 6)
A29: - | B29: Ha per oggetto sociale prevalente la gestione di spazi fieristici e l'organizzazione di eventi fieristici (art. 4, co. 7)
A31: - | B31: Ha per oggetto sociale prevalente la realizzazione e la gestione di impianti di trasporto a fune per la mobilità turistico-sportiva in aree montane (art. 4, co. 7)
A33: - | B33: Ha per oggetto sociale prevalente la produzione di energia da fonti rinnovabili (art. 4, co. 7)
A35: - | B35: Ha caratteristiche di spin off o di start up universitario, o analoghe a quelle degli enti di ricerca, ovvero gestisce aziende agricole con funzioni didattiche (art. 4, co. 8)
A37: - | B37: Produce un servizio di interesse generale a rete (di cui all'art. 3-bis del d.l. 138/2011) fuori dall'ambito territoriale di riferimento, con affidamento dei servizi, in corso e nuovi, tramite procedure ad evidenza pubblica (art. 4, co. 9-bis)
A39: - | B39: Produce beni e servizi strettamente necessari per il perseguimento delle finalità istituzionali dell'ente (art. 4, co. 1)
A41: - | B41: Produce un servizio di interesse generale (art. 4, co. 2, lett. a)
A43: - | B43: Progetta e realizza un'opera pubblica sulla base di un accordo di programma fra amministrazioni pubbliche (art. 4, co. 2, lett. b)
A45: - | B45: Realizza e gestisce un'opera pubblica ovvero organizza e gestisce un servizio di interesse generale attraverso un contratto di partenariato pubblico/privato (art. 4, co. 2, lett. c)
A47: - | B47: Produce beni o servizi strumentali all'ente o agli enti pubblici partecipanti o alla svolgimento delle loro funzioni(art. 4, co. 2, lett. d)
A49: - | B49: Svolge servizi di committenza (art. 4, co. 2, lett. e)
A51: - | B51: Valorizza il patrimonio immobiliare dell'amministrazione partecipante (art. 4, co. 3)
B53: Indicare le motivazioni della riconducibilità o meno ai vincoli di scopo di cui al co. 1 o ad una delle attività di cui ai commi 2 e 3, anche con riferimento alle società che svolgono le attività di cui ai commi 6, 7, 8:
B54: In data 27/04/2015 è stato deliberato lo scioglimento della società e la nomina del liquidatore.
B56: (a): Inserire uno dei progressivi già indicati nelle schede di ricognizione (02.01; 02.02).
B57: (b): Inserire la ragione sociale come indicata nelle schede di ricognizione (02.01; 02.02).
B58: (c): Indicare il tipo di partecipazione distinguendo i casi in cui la società sia partecipata direttamente, indirettamente (tramite altra società/organismo),
B59: ovvero in parte direttamente e in parte indirettamente.
B60: (d): Inserire l'attività come indicata nelle schede di ricognizione (02.01; 02.02).

Sheet 03.01_ REI
B2: 03. REQUISITI TESTO UNICO DELLE SOCIETÀ A PARTECIPAZIONE PUBBLICA
B3: 03.01. Finalità perseguite e attività ammesse (articoli 1, 4 e 26)
B4: Compilare una scheda per ciascuna società
D5: Progressivo società partecipata: | E5: 9 | G5: (a)
D7: Denominazione società partecipata: | E7: Reggio Emilia Innovazione scrl - in liquidazione | G7: (b)
D9: Tipo partecipazione: | E9: Diretta | G9: (c)
D11: Attività svolta: | E11: Prestazioni di servizi alle aziende in forma di provedi laboratorio e attività tecniche correlate | G11: (d)
B13: indicare se la società:
A14: - | B14: È a partecipazione pubblica di diritto singolare (art. 1 co. 4)
A16: - | B16: Rientra nell'Allegato "A" del d.lgs. n. 175/2016 (art. 26, co. 2)
A18: - | B18: Ha come oggetto esclusivo la gestione di fondi europei per conto dello Stato o delle Regioni, ovvero la realizzazione di progetti di ricerca finanziati dalle istituzioni dell'Unione Europea (art. 26, co. 2)
A20: - | B20: È stata esclusa, con deliberazione adottata ai sensi dell'art. 4 co. 9, secondo periodo, dall'applicazione totale o parziale delle disposizioni del medesimo articolo (solo per le società partecipate dalle Regioni/Prov. Aut.)
A22: - | B22: È destinataria dei provvedimenti di cui al d.lgs. n. 159/2011 (art. 26, co. 12-bis)
A24: - | B24: È autorizzata alla gestione delle case da gioco, ai sensi della legislazione vigente (art. 26, co. 12-sexies)
B26: Qualora non sia stata selezionata alcuna delle opzioni indicate ai punti precedenti, indicare se la società:
A27: - | B27: È costituita in attuazione dell'art. 34 del regolamento CE n. 13/2013 - Gruppi d'Azione Locale (art. 4, co. 6)
A29: - | B29: Ha per oggetto sociale prevalente la gestione di spazi fieristici e l'organizzazione di eventi fieristici (art. 4, co. 7)
A31: - | B31: Ha per oggetto sociale prevalente la realizzazione e la gestione di impianti di trasporto a fune per la mobilità turistico-sportiva in aree montane (art. 4, co. 7)
A33: - | B33: Ha per oggetto sociale prevalente la produzione di energia da fonti rinnovabili (art. 4, co. 7)
A35: - | B35: Ha caratteristiche di spin off o di start up universitario, o analoghe a quelle degli enti di ricerca, ovvero gestisce aziende agricole con funzioni didattiche (art. 4, co. 8)
A37: - | B37: Produce un servizio di interesse generale a rete (di cui all'art. 3-bis del d.l. 138/2011) fuori dall'ambito territoriale di riferimento, con affidamento dei servizi, in corso e nuovi, tramite procedure ad evidenza pubblica (art. 4, co. 9-bis)
A39: - | B39: Produce beni e servizi strettamente necessari per il perseguimento delle finalità istituzionali dell'ente (art. 4, co. 1)
A41: - | B41: Produce un servizio di interesse generale (art. 4, co. 2, lett. a)
A43: - | B43: Progetta e realizza un'opera pubblica sulla base di un accordo di programma fra amministrazioni pubbliche (art. 4, co. 2, lett. b)
A45: - | B45: Realizza e gestisce un'opera pubblica ovvero organizza e gestisce un servizio di interesse generale attraverso un contratto di partenariato pubblico/privato (art. 4, co. 2, lett. c)
A47: - | B47: Produce beni o servizi strumentali all'ente o agli enti pubblici partecipanti o alla svolgimento delle loro funzioni(art. 4, co. 2, lett. d)
A49: - | B49: Svolge servizi di committenza (art. 4, co. 2, lett. e)
A51: - | B51: Valorizza il patrimonio immobiliare dell'amministrazione partecipante (art. 4, co. 3)
B53: Indicare le motivazioni della riconducibilità o meno ai vincoli di scopo di cui al co. 1 o ad una delle attività di cui ai commi 2 e 3, anche con riferimento alle società che svolgono le attività di cui ai commi 6, 7, 8:
B54: In data 13/07/2017 l'assemblea ha deliberato lo scioglimento anticipato della società e la nomina del liquidatore
B56: (a): Inserire uno dei progressivi già indicati nelle schede di ricognizione (02.01; 02.02).
B57: (b): Inserire la ragione sociale come indicata nelle schede di ricognizione (02.01; 02.02).
B58: (c): Indicare il tipo di partecipazione distinguendo i casi in cui la società sia partecipata direttamente, indirettamente (tramite altra società/organismo),
B59: ovvero in parte direttamente e in parte indirettamente.
B60: (d): Inserire l'attività come indicata nelle schede di ricognizione (02.01; 02.02).

Sheet 03.01_ CONSORZIO_ANTINCENDIO
B2: 03. REQUISITI TESTO UNICO DELLE SOCIETÀ A PARTECIPAZIONE PUBBLICA
B3: 03.01. Finalità perseguite e attività ammesse (articoli 1, 4 e 26)
B4: Compilare una scheda per ciascuna società
D5: Progressivo società partecipata: | E5: ind_1 | G5: (a)
D7: Denominazione società partecipata: | E7: CONSORZIO ANTINCENDIO AEROPORTO DI REGGIO EMILIA SCRL | G7: (b)
D9: Tipo partecipazione: | E9: Indiretta | G9: (c)
D11: Attività svolta: | E11: Espletamento dei servizi antincendio ai sensi della L. 930 del 23/12/1980 | G11: (d)
B13: indicare se la società:
A14: - | B14: È a partecipazione pubblica di diritto singolare (art. 1 co. 4)
A16: - | B16: Rientra nell'Allegato "A" del d.lgs. n. 175/2016 (art. 26, co. 2)
A18: - | B18: Ha come oggetto esclusivo la gestione di fondi europei per conto dello Stato o delle Regioni, ovvero la realizzazione di progetti di ricerca finanziati dalle istituzioni dell'Unione Europea (art. 26, co. 2)
A20: - | B20: È stata esclusa, con deliberazione adottata ai sensi dell'art. 4 co. 9, secondo periodo, dall'applicazione totale o parziale delle disposizioni del medesimo articolo (solo per le società partecipate dalle Regioni/Prov. Aut.)
A22: - | B22: È destinataria dei provvedimenti di cui al d.lgs. n. 159/2011 (art. 26, co. 12-bis)
A24: - | B24: È autorizzata alla gestione delle case da gioco, ai sensi della legislazione vigente (art. 26, co. 12-sexies)
B26: Qualora non sia stata selezionata alcuna delle opzioni indicate ai punti precedenti, indicare se la società:
A27: - | B27: È costituita in attuazione dell'art. 34 del regolamento CE n. 13/2013 - Gruppi d'Azione Locale (art. 4, co. 6)
A29: - | B29: Ha per oggetto sociale prevalente la gestione di spazi fieristici e l'organizzazione di eventi fieristici (art. 4, co. 7)
A31: - | B31: Ha per oggetto sociale prevalente la realizzazione e la gestione di impianti di trasporto a fune per la mobilità turistico-sportiva in aree montane (art. 4, co. 7)
A33: - | B33: Ha per oggetto sociale prevalente la produzione di energia da fonti rinnovabili (art. 4, co. 7)
A35: - | B35: Ha caratteristiche di spin off o di start up universitario, o analoghe a quelle degli enti di ricerca, ovvero gestisce aziende agricole con funzioni didattiche (art. 4, co. 8)
A37: - | B37: Produce un servizio di interesse generale a rete (di cui all'art. 3-bis del d.l. 138/2011) fuori dall'ambito territoriale di riferimento, con affidamento dei servizi, in corso e nuovi, tramite procedure ad evidenza pubblica (art. 4, co. 9-bis)
A39: - | B39: Produce beni e servizi strettamente necessari per il perseguimento delle finalità istituzionali dell'ente (art. 4, co. 1)
A41: - | B41: Produce un servizio di interesse generale (art. 4, co. 2, lett. a)
A43: - | B43: Progetta e realizza un'opera pubblica sulla base di un accordo di programma fra amministrazioni pubbliche (art. 4, co. 2, lett. b)
A45: - | B45: Realizza e gestisce un'opera pubblica ovvero organizza e gestisce un servizio di interesse generale attraverso un contratto di partenariato pubblico/privato (art. 4, co. 2, lett. c)
A47: - | B47: Produce beni o servizi strumentali all'ente o agli enti pubblici partecipanti o alla svolgimento delle loro funzioni(art. 4, co. 2, lett. d)
A49: - | B49: Svolge servizi di committenza (art. 4, co. 2, lett. e)
A51: - | B51: Valorizza il patrimonio immobiliare dell'amministrazione partecipante (art. 4, co. 3)
B53: Indicare le motivazioni della riconducibilità o meno ai vincoli di scopo di cui al co. 1 o ad una delle attività di cui ai commi 2 e 3, anche con riferimento alle società che svolgono le attività di cui ai commi 6, 7, 8:
B54: La società esercita servizi antincendio a favore della società Aeroporto così come previsti dalla normativa di settore.
B56: (a): Inserire uno dei progressivi già indicati nelle schede di ricognizione (02.01; 02.02).
B57: (b): Inserire la ragione sociale come indicata nelle schede di ricognizione (02.01; 02.02).
B58: (c): Indicare il tipo di partecipazione distinguendo i casi in cui la società sia partecipata direttamente, indirettamente (tramite altra società/organismo),
B59: ovvero in parte direttamente e in parte indirettamente.
B60: (d): Inserire l'attività come indicata nelle schede di ricognizione (02.01; 02.02).

