Workbook

Sheet SOMMARIO
A4: Energia elettrica 17
A5: Convenzione per la fornitura di energia elettrica a prezzo fisso o a prezzo variabile e servizi connessi per tutte le Pubbliche Amministrazioni
A7: Configuratore corrispettivi a Prezzo Fisso per la fornitura di Energia Elettrica edizione 17
A9: Sommario
A10: Lotto 1: Valle d’Aosta, Piemonte | I10: Fornitore: Iren Mercato S.p.A.
A11: Lotto 2: Province di Milano e Lodi | D11: Lotto 2: Province di Milano e Lodi | I11: Fornitore: Enel Energia S.p.A.
A12: Lotto 3: Lombardia escluse le Province di Milano e Lodi | I12: Fornitore: Enel Energia S.p.A.
A13: Lotto 4: Trentino Alto Adige, Friuli Venezia Giulia | I13: Fornitore: A2A Energia S.p.A.
A14: Lotto 5: Veneto | I14: Fornitore: Enel Energia S.p.A.
A15: Lotto 6: Emilia Romagna | I15: Fornitore: A2A Energia S.p.A.
A16: Lotto 7: Sardegna, Liguria | I16: Fornitore: Enel Energia S.p.A.
A17: Lotto 8: Toscana | I17: Fornitore: A2A Energia S.p.A.
A18: Lotto 9: Umbria, Marche | I18: Fornitore: A2A Energia S.p.A.
A19: Lotto 10: Provincia di Roma | I19: Fornitore: Enel Energia S.p.A.
A20: Lotto 11: Lazio esclusa la Provincia di Roma | I20: Fornitore: AGSM Energia S.p.A.
A21: Lotto 12: Abruzzo, Molise | I21: Fornitore: A2A Energia S.p.A.
A22: Lotto 13: Campania | I22: Fornitore: Enel Energia S.p.A.
A23: Lotto 14: Puglia, Basilicata | I23: Fornitore: AGSM Energia S.p.A.
... A26: Lotto 17: Italia | I26: Fornitore: Hera Comm S.p.A.
A28: I corrispettivi mensili sono inclusivi degli oneri relativi a:
A29: - Sbilanciamento | I29: Base d'Asta e Perdite di Rete
A30: - Emission Trading (CO2)
A31: - Certificati Verdi (CV) | I31: Opzione Verde
A32: Sono inceve totalmente a carico dell’Amministrazione, alle condizioni stabilite dalle autorità competenti:
A33: - le Perdite di Rete Standard | I33: Delivery e Prodotto Fisso
A34: - il Servizio di Dispacciamento
A35: - il Servizio di Trasporto (trasmissione e distribuzione) | I35: Fasce Orarie
A36: - il Servizio di Misura
A37: - gli Oneri di Sistema relativi al solo mercato libero come stabiliti, tempo per tempo, dall’ARERA (a titolo es. le componenti tariffarie ARIM, ASOS, UC, CMOR).
A38: - le Imposte e le Addizionali previste dalla normativa vigente.
A40: Si segnala che il presente configuratore rappresenta un mero strumento di ausilio diretto a fornire delle indicazioni di massima in ordine al possibile utilizzo della Convenzione da parte della singola P.A. in relazione a sue specifiche esigenze. Consip S.p.A. ed il MEF non assumono pertanto responsabilità alcuna in ordine ad eventuali errori/inesattezze contenuti nel software e/o nel foglio elettronico di calcolo che compongono il configuratore, ovvero anche ad eventuali errori nell’utilizzo di detti strumenti. Restano ferme tutte le condizioni contenute nella Convenzione e relativi allegati, alla cui attenta lettura ed esame, pertanto, si rinvia integralmente.

Sheet OPZIONE VERDE
M1: torna al SOMMARIO
A4: Energia elettrica 17
A5: Convenzione per la fornitura di energia elettrica a prezzo fisso o a prezzo variabile e servizi connessi per tutte le Pubbliche Amministrazioni
A7: Configuratore corrispettivi a Prezzo Fisso per la fornitura di Energia Elettrica edizione 17
A9: Base d'Asta e Prezzi dell' Opzione Verde
A11: Il Fornitore, ai sensi della deliberazione ARERA ARG/elt n. 104/11 e s.m.i., tramite Garanzia d’Origine, è tenuto a certificare la produzione di Energia Verde per tutti i Punti di Prelievo per i quali sia stata attivata l’Opzione Verde per un ammontare non inferiore al consumo totale effettivo degli stessi. L’attivazione dell’Opzione Verde (OV) consente all’amministrazione l’utilizzo del marchio offerto dal rispettivo Fornitore. Il Logo verrà concesso in uso dal Fornitore per la durata della fornitura. Il corrispettivo che si applica ad ogni MWh consumato, è fisso ed invariabile per tutta la durata contrattuale. Per ulteriori informazioni si rimanda alla Convenzione, al Capitolato Tecnico e alla Guida. Informazioni sulla Garanzia d'Origine si trovano sul sito www.gse.it
A13: Base d'Asta Opzione Verde (Euro/MWh) | E13: 1.1
A15: Fornitore | E15: Lotti | H15: Valore Opzione (Euro/MWh) | K15: Marchio
A17: Iren Mercato S.p.A. | E17: Lotto 1 | H17: 1.09
A19: Enel Energia S.p.A. | E19: Lotti 2, 3, 5, 7, 10, 13, 16 | H19: 1.1
A21: AGSM Energia S.p.A. | E21: Lotti 11, 14, 15 | H21: 1.1
A23: A2A Energia S.p.A. | E23: Lotti 4, 6, 8, 9, 12 | H23: 0.9
A25: Hera Comm S.r.l. | E25: Lotto 17 | H25: 1.09

Sheet BASI D'ASTA e PERDITE DI RETE
J1: torna al SOMMARIO
A4: Energia elettrica 17
A5: Convenzione per la fornitura di energia elettrica a prezzo fisso o a prezzo variabile e servizi connessi per tutte le Pubbliche Amministrazioni
A7: Configuratore corrispettivi a Prezzo Fisso per la fornitura di Energia Elettrica edizione 17
A9: Basi d'Asta e Perdite di Rete
A12: SPREAD a Base d'Asta (al netto delle perdite di rete)*
A13: F1 | B13: F2 | C13: F3
A14: 12 | B14: 12 | C14: 12
A16: *Per tutte le tipologie di contratto di cui al comma 2.2 del TIT 2016-2019
A19: Tipologie di contratto di cui al comma 2.2 del TIT 2016-2019 | H19: Fattori percentuali di perdita di energia elettrica sulle reti con obbligo di connessione di terzi. Tabella 4 del TIS - Allegato A alla Deliberazione ARERA ARG/elt 107/09 s.m.i.
A20: Lettera b) Utenze in bassa tensione di illuminazione pubblica
A21: Lettera c) Utenze in BT ricarica veicoli elettrici pubblici
A22: Lettera d) Altre utenze in bassa tensione | H22: Livello di Tensione | J22: Perdite (%)
A23: Lettera e) Utenze in media tensione di illuminazione pubblica | H23: 380 kV | J23: 0.7
A24: Lettera f) Altre utenze in media tensione | H24: 220 kV | J24: 1.1
A25: Lettera g) Utenze in alta tensione | H25: ≤ 150 kV | J25: 1.8
A26: Lettera h) Utenze in altissima tensione < 380 kV | H26: MT (Media Tensione) | J26: 3.8
A27: Lettera i) Utenze in altissima tensione ≥ 380 kV | H27: BT (Bassa Tensione) | J27: 10.4

Sheet DELIVERY e PRODOTTO FISSO
O1: torna al SOMMARIO
A4: Energia elettrica 17
A5: Convenzione per la fornitura di energia elettrica a prezzo fisso o a prezzo variabile e servizi connessi per tutte le Pubbliche Amministrazioni
A7: Configuratore corrispettivi a Prezzo Fisso per la fornitura di Energia Elettrica edizione 17
A9: Delivery e Prodotto Fisso FIX12 e FIX18
I11: PRODOTTO FISSO | N11: Delivery per Forniture a Prezzo Fisso a 12 mesi
N12: Mese di ricezione ODA a Sistema | O12: Mese di Attivazione Delivery | P12: Quarter di riferimentodella Delivery
I13: Mese di validità dell'acquisto della Delivery | J13: Mese di avvio delivery | K13: FIX12 Euro/MWh | L13: FIX18 Euro/MWh | O13: Attivazione Delivery | P13: della Delivery
N14: dicembre (anno-1) | O14: Marzo | P14: Q2; Q3; Q4; Q1(anno+1)
N15: Gennaio | O15: Aprile
I16: 43497 | J16: 43586 | K16: 65.46 | L16: 63.01 | N16: Febbraio | O16: Maggio
I17: 43525 | J17: 43617 | K17: 60.52 | L17: 60.16 | N17: Marzo | O17: Giugno | P17: Q3; Q4; Q1(anno+1); Q2(anno+1)
I18: 43556 | J18: 43647 | K18: 57.74 | L18: 57.82 | N18: Aprile | O18: Luglio
I19: 43586 | J19: 43678 | K19: 63.69 | L19: 63.6 | N19: Maggio | O19: Agosto
I20: 43617 | J20: 43709 | K20: 61.57 | L20: 61.86 | N20: Giugno | O20: Settembre | P20: Q4; Q1(anno+1); Q2(anno+1); Q3(anno+1)
I21: 43647 | J21: 43739 | K21: 60.97 | L21: 61.57 | N21: Luglio | O21: Ottobre
I22: 43678 | J22: 43770 | K22: 62.33 | L22: 63.28 | N22: Agosto | O22: Novembre
I23: 43709 | J23: 43800 | K23: 58.99 | L23: 59.79 | N23: Settembre | O23: Dicembre | P23: Q1(anno+1); Q2(anno+1); Q3(anno+1); Q4(anno+1)
I24: 43739 | J24: 43831 | K24: 61.28 | L24: 62 | N24: Ottobre | O24: gennaio (anno+1)
I25: 43770 | J25: 43862 | K25: 59.13 | L25: 60.02 | N25: Novembre | O25: febbraio (anno+1)
I26: 43800 | J26: 43891 | K26: 57.98 | L26: 57.1
I27: 43831 | J27: 43922 | K27: 55.46 | L27: 54.54
I28: 43862 | J28: 43952 | K28: 50.91 | L28: 50.7 | N28: Delivery per Forniture a Prezzo Fisso a 18 mesi
I29: 43891 | J29: 43983 | K29: 50.31 | L29: 51.26 | N29: Mese di ricezione ODA a Sistema | O29: Mese di Attivazione Delivery | P29: Quarter di riferimentodella Delivery
I30: 43922 | J30: 44013 | K30: 42.44 | L30: 43.41 | O30: Attivazione Delivery | P30: della Delivery
I31: 43952 | J31: 44044 | K31: 45.633864 | L31: 46.25803 | N31: dicembre (anno-1) | O31: Marzo | P31: Q2; Q3; Q4; Q1(anno+1); Q2(anno+1); Q3(anno+1)
I32: 43983 | J32: 44075 | K32: 45.58 | L32: 47.23 | N32: gennaio | O32: Aprile
I33: 44013 | J33: 44105 | K33: 46.82 | L33: 48.73 | N33: febbraio | O33: Maggio
I34: 44044 | J34: 44136 | K34: 46.14 | L34: 48.25 | N34: marzo | O34: Giugno | P34: Q3; Q4; Q1(anno+1); Q2(anno+1); Q3(anno+1); Q4(anno+1)
I35: 44075 | J35: 44166 | K35: 49.26 | L35: 50.2 | N35: aprile | O35: Luglio
I36: 44105 | J36: 44197 | K36: 49.53 | L36: 49.45 | N36: maggio | O36: Agosto
I37: 44136 | J37: 44228 | K37: 47.29 | L37: 47.21 | N37: giugno | O37: Settembre | P37: Q4; Q1(anno+1); Q2(anno+1); Q3(anno+1); Q4(anno+1); Q1(anno+2)
N38: luglio | O38: Ottobre
N39: agosto | O39: Novembre
N40: settembre | O40: Dicembre | P40: Q1(anno+1); Q2(anno+1); Q3(anno+1); Q4(anno+1); Q1(anno+2); Q2(anno+2)
N41: ottobre | O41: gennaio (anno+1)
N42: novembre | O42: febbraio (anno+1)

Sheet FASCE ORARIE
J1: torna al SOMMARIO
A4: Energia elettrica 17
A5: Convenzione per la fornitura di energia elettrica a prezzo fisso o a prezzo variabile e servizi connessi per tutte le Pubbliche Amministrazioni
A7: Configuratore corrispettivi a Prezzo Fisso per la fornitura di Energia Elettrica edizione 17
A9: Fasce Orarie
A11: Deliberazione ARERA n. 301/2012/R/eel e s.m.i. - "TIV" - Allegato A - Tabella 6: Fasce orarie
A12: F1 | B12: Nei giorni dal lunedì al venerdì: dalle ore 8.00 alle ore 19.00
A13: F2 | B13: Nei giorni dal lunedì al venerdì: dalle ore 7.00 alle ore 8.00 e dalle ore 19.00 alle ore 23.00
B14: Nei giorni di sabato: dalle ore 7.00 alle ore 23.00
A15: F3 | B15: Nei giorni dal lunedì al sabato: dalle ore 00.00 alle ore 7.00 e dalle ore 23.00 dalle ore 24.00
B16: Nei giorni di domenica e festivi*: Tutte le ore della giornata
A17: * Si considerano festivi: 1 gennaio; 6 gennaio; lunedì di Pasqua; 25 Aprile; 1 maggio; 2 giugno; 15 agosto; 1 novembre; 8 dicembre; 25 dicembre; 26 dicembre
A20: inizio | B20: fine | C20: Lunedì | D20: Martedì | E20: Mercoledì | F20: Giovedì | G20: Venerdì | H20: Sabato | I20: Domenica
A21: 0 | B21: 0.041666667 | C21: F3 | D21: F3 | E21: F3 | F21: F3 | G21: F3 | H21: F3 | I21: F3
A22: 0.041666667 | B22: 0.083333333 | C22: F3 | D22: F3 | E22: F3 | F22: F3 | G22: F3 | H22: F3 | I22: F3
A23: 0.083333333 | B23: 0.125 | C23: F3 | D23: F3 | E23: F3 | F23: F3 | G23: F3 | H23: F3 | I23: F3
A24: 0.125 | B24: 0.16666667 | C24: F3 | D24: F3 | E24: F3 | F24: F3 | G24: F3 | H24: F3 | I24: F3
A25: 0.16666667 | B25: 0.20833333 | C25: F3 | D25: F3 | E25: F3 | F25: F3 | G25: F3 | H25: F3 | I25: F3
A26: 0.20833333 | B26: 0.25 | C26: F3 | D26: F3 | E26: F3 | F26: F3 | G26: F3 | H26: F3 | I26: F3
A27: 0.25 | B27: 0.29166667 | C27: F3 | D27: F3 | E27: F3 | F27: F3 | G27: F3 | H27: F3 | I27: F3
A28: 0.29166667 | B28: 0.33333333 | C28: F2 | D28: F2 | E28: F2 | F28: F2 | G28: F2 | H28: F2 | I28: F3
A29: 0.33333333 | B29: 0.375 | C29: F1 | D29: F1 | E29: F1 | F29: F1 | G29: F1 | H29: F2 | I29: F3
A30: 0.375 | B30: 0.41666667 | C30: F1 | D30: F1 | E30: F1 | F30: F1 | G30: F1 | H30: F2 | I30: F3
A31: 0.41666667 | B31: 0.45833333 | C31: F1 | D31: F1 | E31: F1 | F31: F1 | G31: F1 | H31: F2 | I31: F3
A32: 0.45833333 | B32: 0.5 | C32: F1 | D32: F1 | E32: F1 | F32: F1 | G32: F1 | H32: F2 | I32: F3
... A44: 0.95833333 | B44: 1 | C44: F3 | D44: F3 | E44: F3 | F44: F3 | G44: F3 | H44: F3 | I44: F3

Sheet Lotto 1
Q1: torna al SOMMARIO
A4: Energia elettrica 17
A5: Convenzione per la fornitura di energia elettrica a prezzo fisso o a prezzo variabile e servizi connessi per tutte le Pubbliche Amministrazioni
A7: Configuratore corrispettivi a Prezzo Fisso per la fornitura di Energia Elettrica edizione 17
A9: =+SOMMARIO!A10 -> Lotto 1: Valle d’Aosta, Piemonte
A11: Sconto PA Virtuose S | C11: 0,10 Euro/MWh
A12: Opzione Verde | C12: 1,09 Euro/MWh
A14: Forniture a Prezzo Fisso a 12 mesi | M14: 44044 | N14: 44075 | O14: 44105 | P14: 44136 | Q14: 44166 | R14: 44197 | S14: 44228 | T14: 44256 | U14: 44287 | V14: 44317 | W14: 44348 | X14: 44378
A15: Acquistabile fino al: | E15: 43829 | F15: 43861 | G15: 43890 | H15: 43921 | I15: 43951 | J15: 43982 | K15: 44012 | L15: 44043 | M15: 44074 | N15: 44104 | O15: 44135 | P15: 44165
A16: Per forniture: | E16: da mar-20 | F16: da apr-20 | G16: da mag-20 | H16: da giu-20 | I16: da lug-20 | J16: da ago-20 | K16: da set-20 | L16: da ott-20 | M16: da nov-20 | N16: da dic-20 | O16: da gen-21 | P16: da feb-21
E17: a feb-21 | F17: a mar-21 | G17: a apr-21 | H17: a mag-21 | I17: a giu-21 | J17: a lug-21 | K17: a ago-21 | L17: a set-21 | M17: a ott-21 | N17: a nov-21 | O17: a dic-21 | P17: a gen-22
B18: Fascia oraria | C18: ΨFIX | E18: FIX12 | F18: FIX12 | G18: FIX12 | H18: FIX12 | I18: FIX12 | J18: FIX12 | K18: FIX12 | L18: FIX12 | M18: FIX12 | N18: FIX12 | O18: FIX12 | P18: FIX12
A19: Mono | B19: F0 | C19: 4.54 | E19: =+$C19+'DELIVERY e PRODOTTO FISSO'!$K$26 -> 62.52 | F19: =+$C19+'DELIVERY e PRODOTTO FISSO'!$K$27 -> 60 | G19: =+$C19+'DELIVERY e PRODOTTO FISSO'!$K$28 -> 55.45 | H19: =+$C19+'DELIVERY e PRODOTTO FISSO'!$K$29 -> 54.85 | I19: =+$C19+'DELIVERY e PRODOTTO FISSO'!$K$30 -> 46.98 | J19: =+$C19+'DELIVERY e PRODOTTO FISSO'!$K$31 -> 50.173864 | K19: =+$C19+'DELIVERY e PRODOTTO FISSO'!$K$32 -> 50.12 | L19: =+$C19+'DELIVERY e PRODOTTO FISSO'!$K$33 -> 51.36 | M19: =_xlfn.IFNA($C$19+VLOOKUP(M$14,'DELIVERY e PRODOTTO FISSO'!$I:$L,3,FALSE),"") -> 50.68 | N19: =_xlfn.IFNA($C$19+VLOOKUP(N$14,'DELIVERY e PRODOTTO FISSO'!$I:$L,3,FALSE),"") -> 53.8 | O19: =_xlfn.IFNA($C$19+VLOOKUP(O$14,'DELIVERY e PRODOTTO FISSO'!$I:$L,3,FALSE),"") -> 54.07 | P19: =_xlfn.IFNA($C$19+VLOOKUP(P$14,'DELIVERY e PRODOTTO FISSO'!$I:$L,3,FALSE),"") -> 51.83 | Q19: =_xlfn.IFNA($C$19+VLOOKUP(Q$14,'DELIVERY e PRODOTTO FISSO'!$I:$L,3,FALSE),"") | R19: =_xlfn.IFNA($C$19+VLOOKUP(R$14,'DELIVERY e PRODOTTO FISSO'!$I:$L,3,FALSE),"") | S19: =_xlfn.IFNA($C$19+VLOOKUP(S$14,'DELIVERY e PRODOTTO FISSO'!$I:$L,3,FALSE),"") | T19: =_xlfn.IFNA($C$19+VLOOKUP(T$14,'DELIVERY e PRODOTTO FISSO'!$I:$L,3,FALSE),"") | ... Z19: =_xlfn.IFNA($C$19+VLOOKUP(Z$14,'DELIVERY e PRODOTTO FISSO'!$I:$L,3,FALSE),"")
A20: Multiorari | B20: F1 | C20: 9.89 | E20: =+$C20+'DELIVERY e PRODOTTO FISSO'!$K$26 -> 67.87 | F20: =+$C20+'DELIVERY e PRODOTTO FISSO'!$K$27 -> 65.35 | G20: =+$C20+'DELIVERY e PRODOTTO FISSO'!$K$28 -> 60.8 | H20: =+$C20+'DELIVERY e PRODOTTO FISSO'!$K$29 -> 60.2 | I20: =+$C20+'DELIVERY e PRODOTTO FISSO'!$K$30 -> 52.33 | J20: =+$C20+'DELIVERY e PRODOTTO FISSO'!$K$31 -> 55.523864 | K20: =+$C20+'DELIVERY e PRODOTTO FISSO'!$K$32 -> 55.47 | L20: =+$C20+'DELIVERY e PRODOTTO FISSO'!$K$33 -> 56.71 | M20: =_xlfn.IFNA($C$20+VLOOKUP(M$14,'DELIVERY e PRODOTTO FISSO'!$I:$L,3,FALSE),"") -> 56.03 | N20: =_xlfn.IFNA($C$20+VLOOKUP(N$14,'DELIVERY e PRODOTTO FISSO'!$I:$L,3,FALSE),"") -> 59.15 | O20: =_xlfn.IFNA($C$20+VLOOKUP(O$14,'DELIVERY e PRODOTTO FISSO'!$I:$L,3,FALSE),"") -> 59.42 | P20: =_xlfn.IFNA($C$20+VLOOKUP(P$14,'DELIVERY e PRODOTTO FISSO'!$I:$L,3,FALSE),"") -> 57.18 | Q20: =_xlfn.IFNA($C$20+VLOOKUP(Q$14,'DELIVERY e PRODOTTO FISSO'!$I:$L,3,FALSE),"") | R20: =_xlfn.IFNA($C$20+VLOOKUP(R$14,'DELIVERY e PRODOTTO FISSO'!$I:$L,3,FALSE),"") | S20: =_xlfn.IFNA($C$20+VLOOKUP(S$14,'DELIVERY e PRODOTTO FISSO'!$I:$L,3,FALSE),"") | T20: =_xlfn.IFNA($C$20+VLOOKUP(T$14,'DELIVERY e PRODOTTO FISSO'!$I:$L,3,FALSE),"") | ... Z20: =_xlfn.IFNA($C$20+VLOOKUP(Z$14,'DELIVERY e PRODOTTO FISSO'!$I:$L,3,FALSE),"")
B21: F2 | C21: 10.27 | E21: =+$C21+'DELIVERY e PRODOTTO FISSO'!$K$26 -> 68.25 | F21: =+$C21+'DELIVERY e PRODOTTO FISSO'!$K$27 -> 65.73 | G21: =+$C21+'DELIVERY e PRODOTTO FISSO'!$K$28 -> 61.18 | H21: =+$C21+'DELIVERY e PRODOTTO FISSO'!$K$29 -> 60.58 | I21: =+$C21+'DELIVERY e PRODOTTO FISSO'!$K$30 -> 52.71 | J21: =+$C21+'DELIVERY e PRODOTTO FISSO'!$K$31 -> 55.903864 | K21: =+$C21+'DELIVERY e PRODOTTO FISSO'!$K$32 -> 55.85 | L21: =+$C21+'DELIVERY e PRODOTTO FISSO'!$K$33 -> 57.09 | M21: =_xlfn.IFNA($C$21+VLOOKUP(M$14,'DELIVERY e PRODOTTO FISSO'!$I:$L,3,FALSE),"") -> 56.41 | N21: =_xlfn.IFNA($C$21+VLOOKUP(N$14,'DELIVERY e PRODOTTO FISSO'!$I:$L,3,FALSE),"") -> 59.53 | O21: =_xlfn.IFNA($C$21+VLOOKUP(O$14,'DELIVERY e PRODOTTO FISSO'!$I:$L,3,FALSE),"") -> 59.8 | P21: =_xlfn.IFNA($C$21+VLOOKUP(P$14,'DELIVERY e PRODOTTO FISSO'!$I:$L,3,FALSE),"") -> 57.56 | Q21: =_xlfn.IFNA($C$21+VLOOKUP(Q$14,'DELIVERY e PRODOTTO FISSO'!$I:$L,3,FALSE),"") | R21: =_xlfn.IFNA($C$21+VLOOKUP(R$14,'DELIVERY e PRODOTTO FISSO'!$I:$L,3,FALSE),"") | S21: =_xlfn.IFNA($C$21+VLOOKUP(S$14,'DELIVERY e PRODOTTO FISSO'!$I:$L,3,FALSE),"") | T21: =_xlfn.IFNA($C$21+VLOOKUP(T$14,'DELIVERY e PRODOTTO FISSO'!$I:$L,3,FALSE),"") | ... Z21: =_xlfn.IFNA($C$21+VLOOKUP(Z$14,'DELIVERY e PRODOTTO FISSO'!$I:$L,3,FALSE),"")
B22: F3 | C22: -3.68 | E22: =+$C22+'DELIVERY e PRODOTTO FISSO'!$K$26 -> 54.3 | F22: =+$C22+'DELIVERY e PRODOTTO FISSO'!$K$27 -> 51.78 | G22: =+$C22+'DELIVERY e PRODOTTO FISSO'!$K$28 -> 47.23 | H22: =+$C22+'DELIVERY e PRODOTTO FISSO'!$K$29 -> 46.63 | I22: =+$C22+'DELIVERY e PRODOTTO FISSO'!$K$30 -> 38.76 | J22: =+$C22+'DELIVERY e PRODOTTO FISSO'!$K$31 -> 41.953864 | K22: =+$C22+'DELIVERY e PRODOTTO FISSO'!$K$32 -> 41.9 | L22: =+$C22+'DELIVERY e PRODOTTO FISSO'!$K$33 -> 43.14 | M22: =_xlfn.IFNA($C$22+VLOOKUP(M$14,'DELIVERY e PRODOTTO FISSO'!$I:$L,3,FALSE),"") -> 42.46 | N22: =_xlfn.IFNA($C$22+VLOOKUP(N$14,'DELIVERY e PRODOTTO FISSO'!$I:$L,3,FALSE),"") -> 45.58 | O22: =_xlfn.IFNA($C$22+VLOOKUP(O$14,'DELIVERY e PRODOTTO FISSO'!$I:$L,3,FALSE),"") -> 45.85 | P22: =_xlfn.IFNA($C$22+VLOOKUP(P$14,'DELIVERY e PRODOTTO FISSO'!$I:$L,3,FALSE),"") -> 43.61 | Q22: =_xlfn.IFNA($C$22+VLOOKUP(Q$14,'DELIVERY e PRODOTTO FISSO'!$I:$L,3,FALSE),"") | R22: =_xlfn.IFNA($C$22+VLOOKUP(R$14,'DELIVERY e PRODOTTO FISSO'!$I:$L,3,FALSE),"") | S22: =_xlfn.IFNA($C$22+VLOOKUP(S$14,'DELIVERY e PRODOTTO FISSO'!$I:$L,3,FALSE),"") | T22: =_xlfn.IFNA($C$22+VLOOKUP(T$14,'DELIVERY e PRODOTTO FISSO'!$I:$L,3,FALSE),"") | ... Z22: =_xlfn.IFNA($C$22+VLOOKUP(Z$14,'DELIVERY e PRODOTTO FISSO'!$I:$L,3,FALSE),"")
A23: LOTTO 1 - Prezzi Fissi al netto delle perdite di rete (Euro/MWh)
A26: Forniture a Prezzo Fisso a 18 mesi
A27: Acquistabile fino al: | E27: 43829 | F27: 43861 | G27: 43890 | H27: 43921 | I27: 43951 | J27: 43982 | K27: 44012 | L27: 44043 | M27: 44074 | N27: 44104 | O27: 44135 | P27: 44165
A28: Per forniture: | E28: da mar-20 | F28: da apr-20 | G28: da mag-20 | H28: da giu-20 | I28: da lug-20 | J28: da ago-20 | K28: da set-20 | L28: da ott-20 | M28: da nov-20 | N28: da dic-20 | O28: da gen-21 | P28: da feb-21
E29: a ago-21 | F29: a set-21 | G29: a ott-21 | H29: a nov-21 | I29: a dic-21 | J29: a gen-22 | K29: a feb-22 | L29: a mar-22 | M29: a apr-22 | N29: a mag-22 | O29: a giu-22 | P29: a lug-22
B30: Fascia oraria | C30: ΨFIX | E30: FIX18 | F30: FIX18 | G30: FIX18 | H30: FIX18 | I30: FIX18 | J30: FIX18 | K30: FIX18 | L30: FIX18 | M30: FIX18 | N30: FIX18 | O30: FIX18 | P30: FIX18
A31: Mono | B31: F0 | C31: 4.54 | E31: =+$C31+'DELIVERY e PRODOTTO FISSO'!$L$26 -> 61.64 | F31: =+$C31+'DELIVERY e PRODOTTO FISSO'!$L$27 -> 59.08 | G31: =+$C31+'DELIVERY e PRODOTTO FISSO'!$L$28 -> 55.24 | H31: =+$C31+'DELIVERY e PRODOTTO FISSO'!$L$29 -> 55.8 | I31: =+$C31+'DELIVERY e PRODOTTO FISSO'!$L$30 -> 47.95 | J31: =+$C31+'DELIVERY e PRODOTTO FISSO'!$L$31 -> 50.79803 | K31: =+$C31+'DELIVERY e PRODOTTO FISSO'!$L$32 -> 51.77 | L31: =+$C31+'DELIVERY e PRODOTTO FISSO'!$L$33 -> 53.27 | M31: =_xlfn.IFNA($C$31+VLOOKUP(M$14,'DELIVERY e PRODOTTO FISSO'!$I:$L,4,FALSE),"") -> 52.79 | N31: =_xlfn.IFNA($C$31+VLOOKUP(N$14,'DELIVERY e PRODOTTO FISSO'!$I:$L,4,FALSE),"") -> 54.74 | O31: =_xlfn.IFNA($C$31+VLOOKUP(O$14,'DELIVERY e PRODOTTO FISSO'!$I:$L,4,FALSE),"") -> 53.99 | P31: =_xlfn.IFNA($C$31+VLOOKUP(P$14,'DELIVERY e PRODOTTO FISSO'!$I:$L,4,FALSE),"") -> 51.75 | Q31: =_xlfn.IFNA($C$31+VLOOKUP(Q$14,'DELIVERY e PRODOTTO FISSO'!$I:$L,4,FALSE),"") | R31: =_xlfn.IFNA($C$31+VLOOKUP(R$14,'DELIVERY e PRODOTTO FISSO'!$I:$L,4,FALSE),"") | S31: =_xlfn.IFNA($C$31+VLOOKUP(S$14,'DELIVERY e PRODOTTO FISSO'!$I:$L,4,FALSE),"") | T31: =_xlfn.IFNA($C$31+VLOOKUP(T$14,'DELIVERY e PRODOTTO FISSO'!$I:$L,4,FALSE),"") | ... Z31: =_xlfn.IFNA($C$31+VLOOKUP(Z$14,'DELIVERY e PRODOTTO FISSO'!$I:$L,4,FALSE),"")
A32: Multiorari | B32: F1 | C32: 9.89 | E32: =+$C32+'DELIVERY e PRODOTTO FISSO'!$L$26 -> 66.99 | F32: =+$C32+'DELIVERY e PRODOTTO FISSO'!$L$27 -> 64.43 | G32: =+$C32+'DELIVERY e PRODOTTO FISSO'!$L$28 -> 60.59 | H32: =+$C32+'DELIVERY e PRODOTTO FISSO'!$L$29 -> 61.15 | I32: =+$C32+'DELIVERY e PRODOTTO FISSO'!$L$30 -> 53.3 | J32: =+$C32+'DELIVERY e PRODOTTO FISSO'!$L$31 -> 56.14803 | K32: =+$C32+'DELIVERY e PRODOTTO FISSO'!$L$32 -> 57.12 | L32: =+$C32+'DELIVERY e PRODOTTO FISSO'!$L$33 -> 58.62 | M32: =_xlfn.IFNA($C$32+VLOOKUP(M$14,'DELIVERY e PRODOTTO FISSO'!$I:$L,4,FALSE),"") -> 58.14 | N32: =_xlfn.IFNA($C$32+VLOOKUP(N$14,'DELIVERY e PRODOTTO FISSO'!$I:$L,4,FALSE),"") -> 60.09 | O32: =_xlfn.IFNA($C$32+VLOOKUP(O$14,'DELIVERY e PRODOTTO FISSO'!$I:$L,4,FALSE),"") -> 59.34 | P32: =_xlfn.IFNA($C$32+VLOOKUP(P$14,'DELIVERY e PRODOTTO FISSO'!$I:$L,4,FALSE),"") -> 57.1 | Q32: =_xlfn.IFNA($C$32+VLOOKUP(Q$14,'DELIVERY e PRODOTTO FISSO'!$I:$L,4,FALSE),"") | R32: =_xlfn.IFNA($C$32+VLOOKUP(R$14,'DELIVERY e PRODOTTO FISSO'!$I:$L,4,FALSE),"") | S32: =_xlfn.IFNA($C$32+VLOOKUP(S$14,'DELIVERY e PRODOTTO FISSO'!$I:$L,4,FALSE),"") | T32: =_xlfn.IFNA($C$32+VLOOKUP(T$14,'DELIVERY e PRODOTTO FISSO'!$I:$L,4,FALSE),"") | ... Z32: =_xlfn.IFNA($C$32+VLOOKUP(Z$14,'DELIVERY e PRODOTTO FISSO'!$I:$L,4,FALSE),"")
B33: F2 | C33: 10.27 | E33: =+$C33+'DELIVERY e PRODOTTO FISSO'!$L$26 -> 67.37 | F33: =+$C33+'DELIVERY e PRODOTTO FISSO'!$L$27 -> 64.81 | G33: =+$C33+'DELIVERY e PRODOTTO FISSO'!$L$28 -> 60.97 | H33: =+$C33+'DELIVERY e PRODOTTO FISSO'!$L$29 -> 61.53 | I33: =+$C33+'DELIVERY e PRODOTTO FISSO'!$L$30 -> 53.68 | J33: =+$C33+'DELIVERY e PRODOTTO FISSO'!$L$31 -> 56.52803 | K33: =+$C33+'DELIVERY e PRODOTTO FISSO'!$L$32 -> 57.5 | L33: =+$C33+'DELIVERY e PRODOTTO FISSO'!$L$33 -> 59 | M33: =_xlfn.IFNA($C$33+VLOOKUP(M$14,'DELIVERY e PRODOTTO FISSO'!$I:$L,4,FALSE),"") -> 58.52 | N33: =_xlfn.IFNA($C$33+VLOOKUP(N$14,'DELIVERY e PRODOTTO FISSO'!$I:$L,4,FALSE),"") -> 60.47 | O33: =_xlfn.IFNA($C$33+VLOOKUP(O$14,'DELIVERY e PRODOTTO FISSO'!$I:$L,4,FALSE),"") -> 59.72 | P33: =_xlfn.IFNA($C$33+VLOOKUP(P$14,'DELIVERY e PRODOTTO FISSO'!$I:$L,4,FALSE),"") -> 57.48 | Q33: =_xlfn.IFNA($C$33+VLOOKUP(Q$14,'DELIVERY e PRODOTTO FISSO'!$I:$L,4,FALSE),"") | R33: =_xlfn.IFNA($C$33+VLOOKUP(R$14,'DELIVERY e PRODOTTO FISSO'!$I:$L,4,FALSE),"") | S33: =_xlfn.IFNA($C$33+VLOOKUP(S$14,'DELIVERY e PRODOTTO FISSO'!$I:$L,4,FALSE),"") | T33: =_xlfn.IFNA($C$33+VLOOKUP(T$14,'DELIVERY e PRODOTTO FISSO'!$I:$L,4,FALSE),"") | ... Z33: =_xlfn.IFNA($C$33+VLOOKUP(Z$14,'DELIVERY e PRODOTTO FISSO'!$I:$L,4,FALSE),"")
B34: F3 | C34: -3.68 | E34: =+$C34+'DELIVERY e PRODOTTO FISSO'!$L$26 -> 53.42 | F34: =+$C34+'DELIVERY e PRODOTTO FISSO'!$L$27 -> 50.86 | G34: =+$C34+'DELIVERY e PRODOTTO FISSO'!$L$28 -> 47.02 | H34: =+$C34+'DELIVERY e PRODOTTO FISSO'!$L$29 -> 47.58 | I34: =+$C34+'DELIVERY e PRODOTTO FISSO'!$L$30 -> 39.73 | J34: =+$C34+'DELIVERY e PRODOTTO FISSO'!$L$31 -> 42.57803 | K34: =+$C34+'DELIVERY e PRODOTTO FISSO'!$L$32 -> 43.55 | L34: =+$C34+'DELIVERY e PRODOTTO FISSO'!$L$33 -> 45.05 | M34: =_xlfn.IFNA($C$34+VLOOKUP(M$14,'DELIVERY e PRODOTTO FISSO'!$I:$L,4,FALSE),"") -> 44.57 | N34: =_xlfn.IFNA($C$34+VLOOKUP(N$14,'DELIVERY e PRODOTTO FISSO'!$I:$L,4,FALSE),"") -> 46.52 | O34: =_xlfn.IFNA($C$34+VLOOKUP(O$14,'DELIVERY e PRODOTTO FISSO'!$I:$L,4,FALSE),"") -> 45.77 | P34: =_xlfn.IFNA($C$34+VLOOKUP(P$14,'DELIVERY e PRODOTTO FISSO'!$I:$L,4,FALSE),"") -> 43.53 | Q34: =_xlfn.IFNA($C$34+VLOOKUP(Q$14,'DELIVERY e PRODOTTO FISSO'!$I:$L,4,FALSE),"") | R34: =_xlfn.IFNA($C$34+VLOOKUP(R$14,'DELIVERY e PRODOTTO FISSO'!$I:$L,4,FALSE),"") | S34: =_xlfn.IFNA($C$34+VLOOKUP(S$14,'DELIVERY e PRODOTTO FISSO'!$I:$L,4,FALSE),"") | T34: =_xlfn.IFNA($C$34+VLOOKUP(T$14,'DELIVERY e PRODOTTO FISSO'!$I:$L,4,FALSE),"") | ... Z34: =_xlfn.IFNA($C$34+VLOOKUP(Z$14,'DELIVERY e PRODOTTO FISSO'!$I:$L,4,FALSE),"")
A35: LOTTO 1 - Prezzi Fissi al netto delle perdite di rete (Euro/MWh)

Sheet Lotto 2
Q1: torna al SOMMARIO
A4: Energia elettrica 17
A5: Convenzione per la fornitura di energia elettrica a prezzo fisso o a prezzo variabile e servizi connessi per tutte le Pubbliche Amministrazioni
A7: Configuratore corrispettivi a Prezzo Fisso per la fornitura di Energia Elettrica edizione 17
A9: =+SOMMARIO!A11 -> Lotto 2: Province di Milano e Lodi
A11: Sconto PA Virtuose S | C11: 0,65 Euro/MWh
A12: Opzione Verde | C12: 1,1 Euro/MWh
A14: Forniture a Prezzo Fisso a 12 mesi | M14: 44044 | N14: 44075 | O14: 44105 | P14: 44136 | Q14: 44166 | R14: 44197 | S14: 44228 | T14: 44256 | U14: 44287 | V14: 44317 | W14: 44348 | X14: 44378
A15: Acquistabile fino al: | E15: 43829 | F15: 43861 | G15: 43890 | H15: 43921 | I15: 43951 | J15: 43982 | K15: 44012 | L15: 44043 | M15: 44074 | N15: 44104 | O15: 44135 | P15: 44165
A16: Per forniture: | E16: da mar-20 | F16: da apr-20 | G16: da mag-20 | H16: da giu-20 | I16: da lug-20 | J16: da ago-20 | K16: da set-20 | L16: da ott-20 | M16: da nov-20 | N16: da dic-20 | O16: da gen-21 | P16: da feb-21
E17: a feb-21 | F17: a mar-21 | G17: a apr-21 | H17: a mag-21 | I17: a giu-21 | J17: a lug-21 | K17: a ago-21 | L17: a set-21 | M17: a ott-21 | N17: a nov-21 | O17: a dic-21 | P17: a gen-22
B18: Fascia oraria | C18: ΨFIX | E18: FIX12 | F18: FIX12 | G18: FIX12 | H18: FIX12 | I18: FIX12 | J18: FIX12 | K18: FIX12 | L18: FIX12 | M18: FIX12 | N18: FIX12 | O18: FIX12 | P18: FIX12
A19: Mono | B19: F0 | C19: 0.87 | E19: =+$C19+'DELIVERY e PRODOTTO FISSO'!$K$26 -> 58.85 | F19: =+$C19+'DELIVERY e PRODOTTO FISSO'!$K$27 -> 56.33 | G19: =+$C19+'DELIVERY e PRODOTTO FISSO'!$K$28 -> 51.78 | H19: =+$C19+'DELIVERY e PRODOTTO FISSO'!$K$29 -> 51.18 | I19: =+$C19+'DELIVERY e PRODOTTO FISSO'!$K$30 -> 43.31 | J19: =+$C19+'DELIVERY e PRODOTTO FISSO'!$K$31 -> 46.503864 | K19: =+$C19+'DELIVERY e PRODOTTO FISSO'!$K$32 -> 46.45 | L19: =+$C19+'DELIVERY e PRODOTTO FISSO'!$K$33 -> 47.69 | M19: =_xlfn.IFNA($C$19+VLOOKUP(M$14,'DELIVERY e PRODOTTO FISSO'!$I:$L,3,FALSE),"") -> 47.01 | N19: =_xlfn.IFNA($C$19+VLOOKUP(N$14,'DELIVERY e PRODOTTO FISSO'!$I:$L,3,FALSE),"") -> 50.13 | O19: =_xlfn.IFNA($C$19+VLOOKUP(O$14,'DELIVERY e PRODOTTO FISSO'!$I:$L,3,FALSE),"") -> 50.4 | P19: =_xlfn.IFNA($C$19+VLOOKUP(P$14,'DELIVERY e PRODOTTO FISSO'!$I:$L,3,FALSE),"") -> 48.16 | Q19: =_xlfn.IFNA($C$19+VLOOKUP(Q$14,'DELIVERY e PRODOTTO FISSO'!$I:$L,3,FALSE),"") | R19: =_xlfn.IFNA($C$19+VLOOKUP(R$14,'DELIVERY e PRODOTTO FISSO'!$I:$L,3,FALSE),"") | S19: =_xlfn.IFNA($C$19+VLOOKUP(S$14,'DELIVERY e PRODOTTO FISSO'!$I:$L,3,FALSE),"") | T19: =_xlfn.IFNA($C$19+VLOOKUP(T$14,'DELIVERY e PRODOTTO FISSO'!$I:$L,3,FALSE),"") | ... Z19: =_xlfn.IFNA($C$19+VLOOKUP(Z$14,'DELIVERY e PRODOTTO FISSO'!$I:$L,3,FALSE),"")
A20: Multiorari | B20: F1 | C20: 11.93 | E20: =+$C20+'DELIVERY e PRODOTTO FISSO'!$K$26 -> 69.91 | F20: =+$C20+'DELIVERY e PRODOTTO FISSO'!$K$27 -> 67.39 | G20: =+$C20+'DELIVERY e PRODOTTO FISSO'!$K$28 -> 62.84 | H20: =+$C20+'DELIVERY e PRODOTTO FISSO'!$K$29 -> 62.24 | I20: =+$C20+'DELIVERY e PRODOTTO FISSO'!$K$30 -> 54.37 | J20: =+$C20+'DELIVERY e PRODOTTO FISSO'!$K$31 -> 57.563864 | K20: =+$C20+'DELIVERY e PRODOTTO FISSO'!$K$32 -> 57.51 | L20: =+$C20+'DELIVERY e PRODOTTO FISSO'!$K$33 -> 58.75 | M20: =_xlfn.IFNA($C$20+VLOOKUP(M$14,'DELIVERY e PRODOTTO FISSO'!$I:$L,3,FALSE),"") -> 58.07 | N20: =_xlfn.IFNA($C$20+VLOOKUP(N$14,'DELIVERY e PRODOTTO FISSO'!$I:$L,3,FALSE),"") -> 61.19 | O20: =_xlfn.IFNA($C$20+VLOOKUP(O$14,'DELIVERY e PRODOTTO FISSO'!$I:$L,3,FALSE),"") -> 61.46 | P20: =_xlfn.IFNA($C$20+VLOOKUP(P$14,'DELIVERY e PRODOTTO FISSO'!$I:$L,3,FALSE),"") -> 59.22 | Q20: =_xlfn.IFNA($C$20+VLOOKUP(Q$14,'DELIVERY e PRODOTTO FISSO'!$I:$L,3,FALSE),"") | R20: =_xlfn.IFNA($C$20+VLOOKUP(R$14,'DELIVERY e PRODOTTO FISSO'!$I:$L,3,FALSE),"") | S20: =_xlfn.IFNA($C$20+VLOOKUP(S$14,'DELIVERY e PRODOTTO FISSO'!$I:$L,3,FALSE),"") | T20: =_xlfn.IFNA($C$20+VLOOKUP(T$14,'DELIVERY e PRODOTTO FISSO'!$I:$L,3,FALSE),"") | ... Z20: =_xlfn.IFNA($C$20+VLOOKUP(Z$14,'DELIVERY e PRODOTTO FISSO'!$I:$L,3,FALSE),"")
B21: F2 | C21: 5.93 | E21: =+$C21+'DELIVERY e PRODOTTO FISSO'!$K$26 -> 63.91 | F21: =+$C21+'DELIVERY e PRODOTTO FISSO'!$K$27 -> 61.39 | G21: =+$C21+'DELIVERY e PRODOTTO FISSO'!$K$28 -> 56.84 | H21: =+$C21+'DELIVERY e PRODOTTO FISSO'!$K$29 -> 56.24 | I21: =+$C21+'DELIVERY e PRODOTTO FISSO'!$K$30 -> 48.37 | J21: =+$C21+'DELIVERY e PRODOTTO FISSO'!$K$31 -> 51.563864 | K21: =+$C21+'DELIVERY e PRODOTTO FISSO'!$K$32 -> 51.51 | L21: =+$C21+'DELIVERY e PRODOTTO FISSO'!$K$33 -> 52.75 | M21: =_xlfn.IFNA($C$21+VLOOKUP(M$14,'DELIVERY e PRODOTTO FISSO'!$I:$L,3,FALSE),"") -> 52.07 | N21: =_xlfn.IFNA($C$21+VLOOKUP(N$14,'DELIVERY e PRODOTTO FISSO'!$I:$L,3,FALSE),"") -> 55.19 | O21: =_xlfn.IFNA($C$21+VLOOKUP(O$14,'DELIVERY e PRODOTTO FISSO'!$I:$L,3,FALSE),"") -> 55.46 | P21: =_xlfn.IFNA($C$21+VLOOKUP(P$14,'DELIVERY e PRODOTTO FISSO'!$I:$L,3,FALSE),"") -> 53.22 | Q21: =_xlfn.IFNA($C$21+VLOOKUP(Q$14,'DELIVERY e PRODOTTO FISSO'!$I:$L,3,FALSE),"") | R21: =_xlfn.IFNA($C$21+VLOOKUP(R$14,'DELIVERY e PRODOTTO FISSO'!$I:$L,3,FALSE),"") | S21: =_xlfn.IFNA($C$21+VLOOKUP(S$14,'DELIVERY e PRODOTTO FISSO'!$I:$L,3,FALSE),"") | T21: =_xlfn.IFNA($C$21+VLOOKUP(T$14,'DELIVERY e PRODOTTO FISSO'!$I:$L,3,FALSE),"") | ... Z21: =_xlfn.IFNA($C$21+VLOOKUP(Z$14,'DELIVERY e PRODOTTO FISSO'!$I:$L,3,FALSE),"")
B22: F3 | C22: -12.27 | E22: =+$C22+'DELIVERY e PRODOTTO FISSO'!$K$26 -> 45.71 | F22: =+$C22+'DELIVERY e PRODOTTO FISSO'!$K$27 -> 43.19 | G22: =+$C22+'DELIVERY e PRODOTTO FISSO'!$K$28 -> 38.64 | H22: =+$C22+'DELIVERY e PRODOTTO FISSO'!$K$29 -> 38.04 | I22: =+$C22+'DELIVERY e PRODOTTO FISSO'!$K$30 -> 30.17 | J22: =+$C22+'DELIVERY e PRODOTTO FISSO'!$K$31 -> 33.363864 | K22: =+$C22+'DELIVERY e PRODOTTO FISSO'!$K$32 -> 33.31 | L22: =+$C22+'DELIVERY e PRODOTTO FISSO'!$K$33 -> 34.55 | M22: =_xlfn.IFNA($C$22+VLOOKUP(M$14,'DELIVERY e PRODOTTO FISSO'!$I:$L,3,FALSE),"") -> 33.87 | N22: =_xlfn.IFNA($C$22+VLOOKUP(N$14,'DELIVERY e PRODOTTO FISSO'!$I:$L,3,FALSE),"") -> 36.99 | O22: =_xlfn.IFNA($C$22+VLOOKUP(O$14,'DELIVERY e PRODOTTO FISSO'!$I:$L,3,FALSE),"") -> 37.26 | P22: =_xlfn.IFNA($C$22+VLOOKUP(P$14,'DELIVERY e PRODOTTO FISSO'!$I:$L,3,FALSE),"") -> 35.02 | Q22: =_xlfn.IFNA($C$22+VLOOKUP(Q$14,'DELIVERY e PRODOTTO FISSO'!$I:$L,3,FALSE),"") | R22: =_xlfn.IFNA($C$22+VLOOKUP(R$14,'DELIVERY e PRODOTTO FISSO'!$I:$L,3,FALSE),"") | S22: =_xlfn.IFNA($C$22+VLOOKUP(S$14,'DELIVERY e PRODOTTO FISSO'!$I:$L,3,FALSE),"") | T22: =_xlfn.IFNA($C$22+VLOOKUP(T$14,'DELIVERY e PRODOTTO FISSO'!$I:$L,3,FALSE),"") | ... Z22: =_xlfn.IFNA($C$22+VLOOKUP(Z$14,'DELIVERY e PRODOTTO FISSO'!$I:$L,3,FALSE),"")
A23: LOTTO 2 - Prezzi Fissi al netto delle perdite di rete (Euro/MWh)
A26: Forniture a Prezzo Fisso a 18 mesi
A27: Acquistabile fino al: | E27: 43829 | F27: 43861 | G27: 43890 | H27: 43921 | I27: 43951 | J27: 43982 | K27: 44012 | L27: 44043 | M27: 44074 | N27: 44104 | O27: 44135 | P27: 44165
A28: Per forniture: | E28: da mar-20 | F28: da apr-20 | G28: da mag-20 | H28: da giu-20 | I28: da lug-20 | J28: da ago-20 | K28: da set-20 | L28: da ott-20 | M28: da nov-20 | N28: da dic-20 | O28: da gen-21 | P28: da feb-21
E29: a ago-21 | F29: a set-21 | G29: a ott-21 | H29: a nov-21 | I29: a dic-21 | J29: a gen-22 | K29: a feb-22 | L29: a mar-22 | M29: a apr-22 | N29: a mag-22 | O29: a giu-22 | P29: a lug-22
B30: Fascia oraria | C30: ΨFIX | E30: FIX18 | F30: FIX18 | G30: FIX18 | H30: FIX18 | I30: FIX18 | J30: FIX18 | K30: FIX18 | L30: FIX18 | M30: FIX18 | N30: FIX18 | O30: FIX18 | P30: FIX18
A31: Mono | B31: F0 | C31: 0.87 | E31: =+$C31+'DELIVERY e PRODOTTO FISSO'!$L$26 -> 57.97 | F31: =+$C31+'DELIVERY e PRODOTTO FISSO'!$L$27 -> 55.41 | G31: =+$C31+'DELIVERY e PRODOTTO FISSO'!$L$28 -> 51.57 | H31: =+$C31+'DELIVERY e PRODOTTO FISSO'!$L$29 -> 52.13 | I31: =+$C31+'DELIVERY e PRODOTTO FISSO'!$L$30 -> 44.28 | J31: =+$C31+'DELIVERY e PRODOTTO FISSO'!$L$31 -> 47.12803 | K31: =+$C31+'DELIVERY e PRODOTTO FISSO'!$L$32 -> 48.1 | L31: =+$C31+'DELIVERY e PRODOTTO FISSO'!$L$33 -> 49.6 | M31: =_xlfn.IFNA($C$31+VLOOKUP(M$14,'DELIVERY e PRODOTTO FISSO'!$I:$L,4,FALSE),"") -> 49.12 | N31: =_xlfn.IFNA($C$31+VLOOKUP(N$14,'DELIVERY e PRODOTTO FISSO'!$I:$L,4,FALSE),"") -> 51.07 | O31: =_xlfn.IFNA($C$31+VLOOKUP(O$14,'DELIVERY e PRODOTTO FISSO'!$I:$L,4,FALSE),"") -> 50.32 | P31: =_xlfn.IFNA($C$31+VLOOKUP(P$14,'DELIVERY e PRODOTTO FISSO'!$I:$L,4,FALSE),"") -> 48.08 | Q31: =_xlfn.IFNA($C$31+VLOOKUP(Q$14,'DELIVERY e PRODOTTO FISSO'!$I:$L,4,FALSE),"") | R31: =_xlfn.IFNA($C$31+VLOOKUP(R$14,'DELIVERY e PRODOTTO FISSO'!$I:$L,4,FALSE),"") | S31: =_xlfn.IFNA($C$31+VLOOKUP(S$14,'DELIVERY e PRODOTTO FISSO'!$I:$L,4,FALSE),"") | T31: =_xlfn.IFNA($C$31+VLOOKUP(T$14,'DELIVERY e PRODOTTO FISSO'!$I:$L,4,FALSE),"") | ... Z31: =_xlfn.IFNA($C$31+VLOOKUP(Z$14,'DELIVERY e PRODOTTO FISSO'!$I:$L,4,FALSE),"")
A32: Multiorari | B32: F1 | C32: 11.93 | E32: =+$C32+'DELIVERY e PRODOTTO FISSO'!$L$26 -> 69.03 | F32: =+$C32+'DELIVERY e PRODOTTO FISSO'!$L$27 -> 66.47 | G32: =+$C32+'DELIVERY e PRODOTTO FISSO'!$L$28 -> 62.63 | H32: =+$C32+'DELIVERY e PRODOTTO FISSO'!$L$29 -> 63.19 | I32: =+$C32+'DELIVERY e PRODOTTO FISSO'!$L$30 -> 55.34 | J32: =+$C32+'DELIVERY e PRODOTTO FISSO'!$L$31 -> 58.18803 | K32: =+$C32+'DELIVERY e PRODOTTO FISSO'!$L$32 -> 59.16 | L32: =+$C32+'DELIVERY e PRODOTTO FISSO'!$L$33 -> 60.66 | M32: =_xlfn.IFNA($C$32+VLOOKUP(M$14,'DELIVERY e PRODOTTO FISSO'!$I:$L,4,FALSE),"") -> 60.18 | N32: =_xlfn.IFNA($C$32+VLOOKUP(N$14,'DELIVERY e PRODOTTO FISSO'!$I:$L,4,FALSE),"") -> 62.13 | O32: =_xlfn.IFNA($C$32+VLOOKUP(O$14,'DELIVERY e PRODOTTO FISSO'!$I:$L,4,FALSE),"") -> 61.38 | P32: =_xlfn.IFNA($C$32+VLOOKUP(P$14,'DELIVERY e PRODOTTO FISSO'!$I:$L,4,FALSE),"") -> 59.14 | Q32: =_xlfn.IFNA($C$32+VLOOKUP(Q$14,'DELIVERY e PRODOTTO FISSO'!$I:$L,4,FALSE),"") | R32: =_xlfn.IFNA($C$32+VLOOKUP(R$14,'DELIVERY e PRODOTTO FISSO'!$I:$L,4,FALSE),"") | S32: =_xlfn.IFNA($C$32+VLOOKUP(S$14,'DELIVERY e PRODOTTO FISSO'!$I:$L,4,FALSE),"") | T32: =_xlfn.IFNA($C$32+VLOOKUP(T$14,'DELIVERY e PRODOTTO FISSO'!$I:$L,4,FALSE),"") | ... Z32: =_xlfn.IFNA($C$32+VLOOKUP(Z$14,'DELIVERY e PRODOTTO FISSO'!$I:$L,4,FALSE),"")
B33: F2 | C33: 5.93 | E33: =+$C33+'DELIVERY e PRODOTTO FISSO'!$L$26 -> 63.03 | F33: =+$C33+'DELIVERY e PRODOTTO FISSO'!$L$27 -> 60.47 | G33: =+$C33+'DELIVERY e PRODOTTO FISSO'!$L$28 -> 56.63 | H33: =+$C33+'DELIVERY e PRODOTTO FISSO'!$L$29 -> 57.19 | I33: =+$C33+'DELIVERY e PRODOTTO FISSO'!$L$30 -> 49.34 | J33: =+$C33+'DELIVERY e PRODOTTO FISSO'!$L$31 -> 52.18803 | K33: =+$C33+'DELIVERY e PRODOTTO FISSO'!$L$32 -> 53.16 | L33: =+$C33+'DELIVERY e PRODOTTO FISSO'!$L$33 -> 54.66 | M33: =_xlfn.IFNA($C$33+VLOOKUP(M$14,'DELIVERY e PRODOTTO FISSO'!$I:$L,4,FALSE),"") -> 54.18 | N33: =_xlfn.IFNA($C$33+VLOOKUP(N$14,'DELIVERY e PRODOTTO FISSO'!$I:$L,4,FALSE),"") -> 56.13 | O33: =_xlfn.IFNA($C$33+VLOOKUP(O$14,'DELIVERY e PRODOTTO FISSO'!$I:$L,4,FALSE),"") -> 55.38 | P33: =_xlfn.IFNA($C$33+VLOOKUP(P$14,'DELIVERY e PRODOTTO FISSO'!$I:$L,4,FALSE),"") -> 53.14 | Q33: =_xlfn.IFNA($C$33+VLOOKUP(Q$14,'DELIVERY e PRODOTTO FISSO'!$I:$L,4,FALSE),"") | R33: =_xlfn.IFNA($C$33+VLOOKUP(R$14,'DELIVERY e PRODOTTO FISSO'!$I:$L,4,FALSE),"") | S33: =_xlfn.IFNA($C$33+VLOOKUP(S$14,'DELIVERY e PRODOTTO FISSO'!$I:$L,4,FALSE),"") | T33: =_xlfn.IFNA($C$33+VLOOKUP(T$14,'DELIVERY e PRODOTTO FISSO'!$I:$L,4,FALSE),"") | ... Z33: =_xlfn.IFNA($C$33+VLOOKUP(Z$14,'DELIVERY e PRODOTTO FISSO'!$I:$L,4,FALSE),"")
B34: F3 | C34: -12.27 | E34: =+$C34+'DELIVERY e PRODOTTO FISSO'!$L$26 -> 44.83 | F34: =+$C34+'DELIVERY e PRODOTTO FISSO'!$L$27 -> 42.27 | G34: =+$C34+'DELIVERY e PRODOTTO FISSO'!$L$28 -> 38.43 | H34: =+$C34+'DELIVERY e PRODOTTO FISSO'!$L$29 -> 38.99 | I34: =+$C34+'DELIVERY e PRODOTTO FISSO'!$L$30 -> 31.14 | J34: =+$C34+'DELIVERY e PRODOTTO FISSO'!$L$31 -> 33.98803 | K34: =+$C34+'DELIVERY e PRODOTTO FISSO'!$L$32 -> 34.96 | L34: =+$C34+'DELIVERY e PRODOTTO FISSO'!$L$33 -> 36.46 | M34: =_xlfn.IFNA($C$34+VLOOKUP(M$14,'DELIVERY e PRODOTTO FISSO'!$I:$L,4,FALSE),"") -> 35.98 | N34: =_xlfn.IFNA($C$34+VLOOKUP(N$14,'DELIVERY e PRODOTTO FISSO'!$I:$L,4,FALSE),"") -> 37.93 | O34: =_xlfn.IFNA($C$34+VLOOKUP(O$14,'DELIVERY e PRODOTTO FISSO'!$I:$L,4,FALSE),"") -> 37.18 | P34: =_xlfn.IFNA($C$34+VLOOKUP(P$14,'DELIVERY e PRODOTTO FISSO'!$I:$L,4,FALSE),"") -> 34.94 | Q34: =_xlfn.IFNA($C$34+VLOOKUP(Q$14,'DELIVERY e PRODOTTO FISSO'!$I:$L,4,FALSE),"") | R34: =_xlfn.IFNA($C$34+VLOOKUP(R$14,'DELIVERY e PRODOTTO FISSO'!$I:$L,4,FALSE),"") | S34: =_xlfn.IFNA($C$34+VLOOKUP(S$14,'DELIVERY e PRODOTTO FISSO'!$I:$L,4,FALSE),"") | T34: =_xlfn.IFNA($C$34+VLOOKUP(T$14,'DELIVERY e PRODOTTO FISSO'!$I:$L,4,FALSE),"") | ... Z34: =_xlfn.IFNA($C$34+VLOOKUP(Z$14,'DELIVERY e PRODOTTO FISSO'!$I:$L,4,FALSE),"")
A35: LOTTO 2 - Prezzi Fissi al netto delle perdite di rete (Euro/MWh)

Sheet Lotto 3
Q1: torna al SOMMARIO
A4: Energia elettrica 17
A5: Convenzione per la fornitura di energia elettrica a prezzo fisso o a prezzo variabile e servizi connessi per tutte le Pubbliche Amministrazioni
A7: Configuratore corrispettivi a Prezzo Fisso per la fornitura di Energia Elettrica edizione 17
A9: =+SOMMARIO!A12 -> Lotto 3: Lombardia escluse le Province di Milano e Lodi
A11: Sconto PA Virtuose S | C11: 0,65 Euro/MWh
A12: Opzione Verde | C12: 1,1 Euro/MWh
A14: Forniture a Prezzo Fisso a 12 mesi | M14: 44044 | N14: 44075 | O14: 44105 | P14: 44136 | Q14: 44166 | R14: 44197 | S14: 44228 | T14: 44256 | U14: 44287 | V14: 44317 | W14: 44348 | X14: 44378
A15: Acquistabile fino al: | E15: 43829 | F15: 43861 | G15: 43890 | H15: 43921 | I15: 43951 | J15: 43982 | K15: 44012 | L15: 44043 | M15: 44074 | N15: 44104 | O15: 44135 | P15: 44165
A16: Per forniture: | E16: da mar-20 | F16: da apr-20 | G16: da mag-20 | H16: da giu-20 | I16: da lug-20 | J16: da ago-20 | K16: da set-20 | L16: da ott-20 | M16: da nov-20 | N16: da dic-20 | O16: da gen-21 | P16: da feb-21
E17: a feb-21 | F17: a mar-21 | G17: a apr-21 | H17: a mag-21 | I17: a giu-21 | J17: a lug-21 | K17: a ago-21 | L17: a set-21 | M17: a ott-21 | N17: a nov-21 | O17: a dic-21 | P17: a gen-22
B18: Fascia oraria | C18: ΨFIX | E18: FIX12 | F18: FIX12 | G18: FIX12 | H18: FIX12 | I18: FIX12 | J18: FIX12 | K18: FIX12 | L18: FIX12 | M18: FIX12 | N18: FIX12 | O18: FIX12 | P18: FIX12
A19: Mono | B19: F0 | C19: 1.32 | E19: =+$C19+'DELIVERY e PRODOTTO FISSO'!$K$26 -> 59.3 | F19: =+$C19+'DELIVERY e PRODOTTO FISSO'!$K$27 -> 56.78 | G19: =+$C19+'DELIVERY e PRODOTTO FISSO'!$K$28 -> 52.23 | H19: =+$C19+'DELIVERY e PRODOTTO FISSO'!$K$29 -> 51.63 | I19: =+$C19+'DELIVERY e PRODOTTO FISSO'!$K$30 -> 43.76 | J19: =+$C19+'DELIVERY e PRODOTTO FISSO'!$K$31 -> 46.953864 | K19: =+$C19+'DELIVERY e PRODOTTO FISSO'!$K$32 -> 46.9 | L19: =+$C19+'DELIVERY e PRODOTTO FISSO'!$K$33 -> 48.14 | M19: =_xlfn.IFNA($C$19+VLOOKUP(M$14,'DELIVERY e PRODOTTO FISSO'!$I:$L,3,FALSE),"") -> 47.46 | N19: =_xlfn.IFNA($C$19+VLOOKUP(N$14,'DELIVERY e PRODOTTO FISSO'!$I:$L,3,FALSE),"") -> 50.58 | O19: =_xlfn.IFNA($C$19+VLOOKUP(O$14,'DELIVERY e PRODOTTO FISSO'!$I:$L,3,FALSE),"") -> 50.85 | P19: =_xlfn.IFNA($C$19+VLOOKUP(P$14,'DELIVERY e PRODOTTO FISSO'!$I:$L,3,FALSE),"") -> 48.61 | Q19: =_xlfn.IFNA($C$19+VLOOKUP(Q$14,'DELIVERY e PRODOTTO FISSO'!$I:$L,3,FALSE),"") | R19: =_xlfn.IFNA($C$19+VLOOKUP(R$14,'DELIVERY e PRODOTTO FISSO'!$I:$L,3,FALSE),"") | S19: =_xlfn.IFNA($C$19+VLOOKUP(S$14,'DELIVERY e PRODOTTO FISSO'!$I:$L,3,FALSE),"") | T19: =_xlfn.IFNA($C$19+VLOOKUP(T$14,'DELIVERY e PRODOTTO FISSO'!$I:$L,3,FALSE),"") | ... Z19: =_xlfn.IFNA($C$19+VLOOKUP(Z$14,'DELIVERY e PRODOTTO FISSO'!$I:$L,3,FALSE),"")
A20: Multiorari | B20: F1 | C20: 0.12 | E20: =+$C20+'DELIVERY e PRODOTTO FISSO'!$K$26 -> 58.1 | F20: =+$C20+'DELIVERY e PRODOTTO FISSO'!$K$27 -> 55.58 | G20: =+$C20+'DELIVERY e PRODOTTO FISSO'!$K$28 -> 51.03 | H20: =+$C20+'DELIVERY e PRODOTTO FISSO'!$K$29 -> 50.43 | I20: =+$C20+'DELIVERY e PRODOTTO FISSO'!$K$30 -> 42.56 | J20: =+$C20+'DELIVERY e PRODOTTO FISSO'!$K$31 -> 45.753864 | K20: =+$C20+'DELIVERY e PRODOTTO FISSO'!$K$32 -> 45.7 | L20: =+$C20+'DELIVERY e PRODOTTO FISSO'!$K$33 -> 46.94 | M20: =_xlfn.IFNA($C$20+VLOOKUP(M$14,'DELIVERY e PRODOTTO FISSO'!$I:$L,3,FALSE),"") -> 46.26 | N20: =_xlfn.IFNA($C$20+VLOOKUP(N$14,'DELIVERY e PRODOTTO FISSO'!$I:$L,3,FALSE),"") -> 49.38 | O20: =_xlfn.IFNA($C$20+VLOOKUP(O$14,'DELIVERY e PRODOTTO FISSO'!$I:$L,3,FALSE),"") -> 49.65 | P20: =_xlfn.IFNA($C$20+VLOOKUP(P$14,'DELIVERY e PRODOTTO FISSO'!$I:$L,3,FALSE),"") -> 47.41 | Q20: =_xlfn.IFNA($C$20+VLOOKUP(Q$14,'DELIVERY e PRODOTTO FISSO'!$I:$L,3,FALSE),"") | R20: =_xlfn.IFNA($C$20+VLOOKUP(R$14,'DELIVERY e PRODOTTO FISSO'!$I:$L,3,FALSE),"") | S20: =_xlfn.IFNA($C$20+VLOOKUP(S$14,'DELIVERY e PRODOTTO FISSO'!$I:$L,3,FALSE),"") | T20: =_xlfn.IFNA($C$20+VLOOKUP(T$14,'DELIVERY e PRODOTTO FISSO'!$I:$L,3,FALSE),"") | ... Z20: =_xlfn.IFNA($C$20+VLOOKUP(Z$14,'DELIVERY e PRODOTTO FISSO'!$I:$L,3,FALSE),"")
B21: F2 | C21: 0.12 | E21: =+$C21+'DELIVERY e PRODOTTO FISSO'!$K$26 -> 58.1 | F21: =+$C21+'DELIVERY e PRODOTTO FISSO'!$K$27 -> 55.58 | G21: =+$C21+'DELIVERY e PRODOTTO FISSO'!$K$28 -> 51.03 | H21: =+$C21+'DELIVERY e PRODOTTO FISSO'!$K$29 -> 50.43 | I21: =+$C21+'DELIVERY e PRODOTTO FISSO'!$K$30 -> 42.56 | J21: =+$C21+'DELIVERY e PRODOTTO FISSO'!$K$31 -> 45.753864 | K21: =+$C21+'DELIVERY e PRODOTTO FISSO'!$K$32 -> 45.7 | L21: =+$C21+'DELIVERY e PRODOTTO FISSO'!$K$33 -> 46.94 | M21: =_xlfn.IFNA($C$21+VLOOKUP(M$14,'DELIVERY e PRODOTTO FISSO'!$I:$L,3,FALSE),"") -> 46.26 | N21: =_xlfn.IFNA($C$21+VLOOKUP(N$14,'DELIVERY e PRODOTTO FISSO'!$I:$L,3,FALSE),"") -> 49.38 | O21: =_xlfn.IFNA($C$21+VLOOKUP(O$14,'DELIVERY e PRODOTTO FISSO'!$I:$L,3,FALSE),"") -> 49.65 | P21: =_xlfn.IFNA($C$21+VLOOKUP(P$14,'DELIVERY e PRODOTTO FISSO'!$I:$L,3,FALSE),"") -> 47.41 | Q21: =_xlfn.IFNA($C$21+VLOOKUP(Q$14,'DELIVERY e PRODOTTO FISSO'!$I:$L,3,FALSE),"") | R21: =_xlfn.IFNA($C$21+VLOOKUP(R$14,'DELIVERY e PRODOTTO FISSO'!$I:$L,3,FALSE),"") | S21: =_xlfn.IFNA($C$21+VLOOKUP(S$14,'DELIVERY e PRODOTTO FISSO'!$I:$L,3,FALSE),"") | T21: =_xlfn.IFNA($C$21+VLOOKUP(T$14,'DELIVERY e PRODOTTO FISSO'!$I:$L,3,FALSE),"") | ... Z21: =_xlfn.IFNA($C$21+VLOOKUP(Z$14,'DELIVERY e PRODOTTO FISSO'!$I:$L,3,FALSE),"")
B22: F3 | C22: 3.12 | E22: =+$C22+'DELIVERY e PRODOTTO FISSO'!$K$26 -> 61.1 | F22: =+$C22+'DELIVERY e PRODOTTO FISSO'!$K$27 -> 58.58 | G22: =+$C22+'DELIVERY e PRODOTTO FISSO'!$K$28 -> 54.03 | H22: =+$C22+'DELIVERY e PRODOTTO FISSO'!$K$29 -> 53.43 | I22: =+$C22+'DELIVERY e PRODOTTO FISSO'!$K$30 -> 45.56 | J22: =+$C22+'DELIVERY e PRODOTTO FISSO'!$K$31 -> 48.753864 | K22: =+$C22+'DELIVERY e PRODOTTO FISSO'!$K$32 -> 48.7 | L22: =+$C22+'DELIVERY e PRODOTTO FISSO'!$K$33 -> 49.94 | M22: =_xlfn.IFNA($C$22+VLOOKUP(M$14,'DELIVERY e PRODOTTO FISSO'!$I:$L,3,FALSE),"") -> 49.26 | N22: =_xlfn.IFNA($C$22+VLOOKUP(N$14,'DELIVERY e PRODOTTO FISSO'!$I:$L,3,FALSE),"") -> 52.38 | O22: =_xlfn.IFNA($C$22+VLOOKUP(O$14,'DELIVERY e PRODOTTO FISSO'!$I:$L,3,FALSE),"") -> 52.65 | P22: =_xlfn.IFNA($C$22+VLOOKUP(P$14,'DELIVERY e PRODOTTO FISSO'!$I:$L,3,FALSE),"") -> 50.41 | Q22: =_xlfn.IFNA($C$22+VLOOKUP(Q$14,'DELIVERY e PRODOTTO FISSO'!$I:$L,3,FALSE),"") | R22: =_xlfn.IFNA($C$22+VLOOKUP(R$14,'DELIVERY e PRODOTTO FISSO'!$I:$L,3,FALSE),"") | S22: =_xlfn.IFNA($C$22+VLOOKUP(S$14,'DELIVERY e PRODOTTO FISSO'!$I:$L,3,FALSE),"") | T22: =_xlfn.IFNA($C$22+VLOOKUP(T$14,'DELIVERY e PRODOTTO FISSO'!$I:$L,3,FALSE),"") | ... Z22: =_xlfn.IFNA($C$22+VLOOKUP(Z$14,'DELIVERY e PRODOTTO FISSO'!$I:$L,3,FALSE),"")
A23: LOTTO 3 - Prezzi Fissi al netto delle perdite di rete (Euro/MWh)
A26: Forniture a Prezzo Fisso a 18 mesi
A27: Acquistabile fino al: | E27: 43829 | F27: 43861 | G27: 43890 | H27: 43921 | I27: 43951 | J27: 43982 | K27: 44012 | L27: 44043 | M27: 44074 | N27: 44104 | O27: 44135 | P27: 44165
A28: Per forniture: | E28: da mar-20 | F28: da apr-20 | G28: da mag-20 | H28: da giu-20 | I28: da lug-20 | J28: da ago-20 | K28: da set-20 | L28: da ott-20 | M28: da nov-20 | N28: da dic-20 | O28: da gen-21 | P28: da feb-21
E29: a ago-21 | F29: a set-21 | G29: a ott-21 | H29: a nov-21 | I29: a dic-21 | J29: a gen-22 | K29: a feb-22 | L29: a mar-22 | M29: a apr-22 | N29: a mag-22 | O29: a giu-22 | P29: a lug-22
B30: Fascia oraria | C30: ΨFIX | E30: FIX18 | F30: FIX18 | G30: FIX18 | H30: FIX18 | I30: FIX18 | J30: FIX18 | K30: FIX18 | L30: FIX18 | M30: FIX18 | N30: FIX18 | O30: FIX18 | P30: FIX18
A31: Mono | B31: F0 | C31: 1.32 | E31: =+$C31+'DELIVERY e PRODOTTO FISSO'!$L$26 -> 58.42 | F31: =+$C31+'DELIVERY e PRODOTTO FISSO'!$L$27 -> 55.86 | G31: =+$C31+'DELIVERY e PRODOTTO FISSO'!$L$28 -> 52.02 | H31: =+$C31+'DELIVERY e PRODOTTO FISSO'!$L$29 -> 52.58 | I31: =+$C31+'DELIVERY e PRODOTTO FISSO'!$L$30 -> 44.73 | J31: =+$C31+'DELIVERY e PRODOTTO FISSO'!$L$31 -> 47.57803 | K31: =+$C31+'DELIVERY e PRODOTTO FISSO'!$L$32 -> 48.55 | L31: =+$C31+'DELIVERY e PRODOTTO FISSO'!$L$33 -> 50.05 | M31: =_xlfn.IFNA($C$31+VLOOKUP(M$14,'DELIVERY e PRODOTTO FISSO'!$I:$L,4,FALSE),"") -> 49.57 | N31: =_xlfn.IFNA($C$31+VLOOKUP(N$14,'DELIVERY e PRODOTTO FISSO'!$I:$L,4,FALSE),"") -> 51.52 | O31: =_xlfn.IFNA($C$31+VLOOKUP(O$14,'DELIVERY e PRODOTTO FISSO'!$I:$L,4,FALSE),"") -> 50.77 | P31: =_xlfn.IFNA($C$31+VLOOKUP(P$14,'DELIVERY e PRODOTTO FISSO'!$I:$L,4,FALSE),"") -> 48.53 | Q31: =_xlfn.IFNA($C$31+VLOOKUP(Q$14,'DELIVERY e PRODOTTO FISSO'!$I:$L,4,FALSE),"") | R31: =_xlfn.IFNA($C$31+VLOOKUP(R$14,'DELIVERY e PRODOTTO FISSO'!$I:$L,4,FALSE),"") | S31: =_xlfn.IFNA($C$31+VLOOKUP(S$14,'DELIVERY e PRODOTTO FISSO'!$I:$L,4,FALSE),"") | T31: =_xlfn.IFNA($C$31+VLOOKUP(T$14,'DELIVERY e PRODOTTO FISSO'!$I:$L,4,FALSE),"") | ... Z31: =_xlfn.IFNA($C$31+VLOOKUP(Z$14,'DELIVERY e PRODOTTO FISSO'!$I:$L,4,FALSE),"")
A32: Multiorari | B32: F1 | C32: 0.12 | E32: =+$C32+'DELIVERY e PRODOTTO FISSO'!$L$26 -> 57.22 | F32: =+$C32+'DELIVERY e PRODOTTO FISSO'!$L$27 -> 54.66 | G32: =+$C32+'DELIVERY e PRODOTTO FISSO'!$L$28 -> 50.82 | H32: =+$C32+'DELIVERY e PRODOTTO FISSO'!$L$29 -> 51.38 | I32: =+$C32+'DELIVERY e PRODOTTO FISSO'!$L$30 -> 43.53 | J32: =+$C32+'DELIVERY e PRODOTTO FISSO'!$L$31 -> 46.37803 | K32: =+$C32+'DELIVERY e PRODOTTO FISSO'!$L$32 -> 47.35 | L32: =+$C32+'DELIVERY e PRODOTTO FISSO'!$L$33 -> 48.85 | M32: =_xlfn.IFNA($C$32+VLOOKUP(M$14,'DELIVERY e PRODOTTO FISSO'!$I:$L,4,FALSE),"") -> 48.37 | N32: =_xlfn.IFNA($C$32+VLOOKUP(N$14,'DELIVERY e PRODOTTO FISSO'!$I:$L,4,FALSE),"") -> 50.32 | O32: =_xlfn.IFNA($C$32+VLOOKUP(O$14,'DELIVERY e PRODOTTO FISSO'!$I:$L,4,FALSE),"") -> 49.57 | P32: =_xlfn.IFNA($C$32+VLOOKUP(P$14,'DELIVERY e PRODOTTO FISSO'!$I:$L,4,FALSE),"") -> 47.33 | Q32: =_xlfn.IFNA($C$32+VLOOKUP(Q$14,'DELIVERY e PRODOTTO FISSO'!$I:$L,4,FALSE),"") | R32: =_xlfn.IFNA($C$32+VLOOKUP(R$14,'DELIVERY e PRODOTTO FISSO'!$I:$L,4,FALSE),"") | S32: =_xlfn.IFNA($C$32+VLOOKUP(S$14,'DELIVERY e PRODOTTO FISSO'!$I:$L,4,FALSE),"") | T32: =_xlfn.IFNA($C$32+VLOOKUP(T$14,'DELIVERY e PRODOTTO FISSO'!$I:$L,4,FALSE),"") | ... Z32: =_xlfn.IFNA($C$32+VLOOKUP(Z$14,'DELIVERY e PRODOTTO FISSO'!$I:$L,4,FALSE),"")
B33: F2 | C33: 0.12 | E33: =+$C33+'DELIVERY e PRODOTTO FISSO'!$L$26 -> 57.22 | F33: =+$C33+'DELIVERY e PRODOTTO FISSO'!$L$27 -> 54.66 | G33: =+$C33+'DELIVERY e PRODOTTO FISSO'!$L$28 -> 50.82 | H33: =+$C33+'DELIVERY e PRODOTTO FISSO'!$L$29 -> 51.38 | I33: =+$C33+'DELIVERY e PRODOTTO FISSO'!$L$30 -> 43.53 | J33: =+$C33+'DELIVERY e PRODOTTO FISSO'!$L$31 -> 46.37803 | K33: =+$C33+'DELIVERY e PRODOTTO FISSO'!$L$32 -> 47.35 | L33: =+$C33+'DELIVERY e PRODOTTO FISSO'!$L$33 -> 48.85 | M33: =_xlfn.IFNA($C$33+VLOOKUP(M$14,'DELIVERY e PRODOTTO FISSO'!$I:$L,4,FALSE),"") -> 48.37 | N33: =_xlfn.IFNA($C$33+VLOOKUP(N$14,'DELIVERY e PRODOTTO FISSO'!$I:$L,4,FALSE),"") -> 50.32 | O33: =_xlfn.IFNA($C$33+VLOOKUP(O$14,'DELIVERY e PRODOTTO FISSO'!$I:$L,4,FALSE),"") -> 49.57 | P33: =_xlfn.IFNA($C$33+VLOOKUP(P$14,'DELIVERY e PRODOTTO FISSO'!$I:$L,4,FALSE),"") -> 47.33 | Q33: =_xlfn.IFNA($C$33+VLOOKUP(Q$14,'DELIVERY e PRODOTTO FISSO'!$I:$L,4,FALSE),"") | R33: =_xlfn.IFNA($C$33+VLOOKUP(R$14,'DELIVERY e PRODOTTO FISSO'!$I:$L,4,FALSE),"") | S33: =_xlfn.IFNA($C$33+VLOOKUP(S$14,'DELIVERY e PRODOTTO FISSO'!$I:$L,4,FALSE),"") | T33: =_xlfn.IFNA($C$33+VLOOKUP(T$14,'DELIVERY e PRODOTTO FISSO'!$I:$L,4,FALSE),"") | ... Z33: =_xlfn.IFNA($C$33+VLOOKUP(Z$14,'DELIVERY e PRODOTTO FISSO'!$I:$L,4,FALSE),"")
B34: F3 | C34: 3.12 | E34: =+$C34+'DELIVERY e PRODOTTO FISSO'!$L$26 -> 60.22 | F34: =+$C34+'DELIVERY e PRODOTTO FISSO'!$L$27 -> 57.66 | G34: =+$C34+'DELIVERY e PRODOTTO FISSO'!$L$28 -> 53.82 | H34: =+$C34+'DELIVERY e PRODOTTO FISSO'!$L$29 -> 54.38 | I34: =+$C34+'DELIVERY e PRODOTTO FISSO'!$L$30 -> 46.53 | J34: =+$C34+'DELIVERY e PRODOTTO FISSO'!$L$31 -> 49.37803 | K34: =+$C34+'DELIVERY e PRODOTTO FISSO'!$L$32 -> 50.35 | L34: =+$C34+'DELIVERY e PRODOTTO FISSO'!$L$33 -> 51.85 | M34: =_xlfn.IFNA($C$34+VLOOKUP(M$14,'DELIVERY e PRODOTTO FISSO'!$I:$L,4,FALSE),"") -> 51.37 | N34: =_xlfn.IFNA($C$34+VLOOKUP(N$14,'DELIVERY e PRODOTTO FISSO'!$I:$L,4,FALSE),"") -> 53.32 | O34: =_xlfn.IFNA($C$34+VLOOKUP(O$14,'DELIVERY e PRODOTTO FISSO'!$I:$L,4,FALSE),"") -> 52.57 | P34: =_xlfn.IFNA($C$34+VLOOKUP(P$14,'DELIVERY e PRODOTTO FISSO'!$I:$L,4,FALSE),"") -> 50.33 | Q34: =_xlfn.IFNA($C$34+VLOOKUP(Q$14,'DELIVERY e PRODOTTO FISSO'!$I:$L,4,FALSE),"") | R34: =_xlfn.IFNA($C$34+VLOOKUP(R$14,'DELIVERY e PRODOTTO FISSO'!$I:$L,4,FALSE),"") | S34: =_xlfn.IFNA($C$34+VLOOKUP(S$14,'DELIVERY e PRODOTTO FISSO'!$I:$L,4,FALSE),"") | T34: =_xlfn.IFNA($C$34+VLOOKUP(T$14,'DELIVERY e PRODOTTO FISSO'!$I:$L,4,FALSE),"") | ... Z34: =_xlfn.IFNA($C$34+VLOOKUP(Z$14,'DELIVERY e PRODOTTO FISSO'!$I:$L,4,FALSE),"")
A35: LOTTO 3 - Prezzi Fissi al netto delle perdite di rete (Euro/MWh)

Sheet Lotto 4
Q1: torna al SOMMARIO
A4: Energia elettrica 17
A5: Convenzione per la fornitura di energia elettrica a prezzo fisso o a prezzo variabile e servizi connessi per tutte le Pubbliche Amministrazioni
A7: Configuratore corrispettivi a Prezzo Fisso per la fornitura di Energia Elettrica edizione 17
A9: =+SOMMARIO!A13 -> Lotto 4: Trentino Alto Adige, Friuli Venezia Giulia
A11: Sconto PA Virtuose S | C11: 0,10 Euro/MWh
A12: Opzione Verde | C12: 0,9 Euro/MWh
A14: Forniture a Prezzo Fisso a 12 mesi | M14: 44044 | N14: 44075 | O14: 44105 | P14: 44136 | Q14: 44166 | R14: 44197 | S14: 44228 | T14: 44256 | U14: 44287 | V14: 44317 | W14: 44348 | X14: 44378
A15: Acquistabile fino al: | E15: 43829 | F15: 43861 | G15: 43890 | H15: 43921 | I15: 43951 | J15: 43982 | K15: 44012 | L15: 44043 | M15: 44074 | N15: 44104 | O15: 44135 | P15: 44165
A16: Per forniture: | E16: da mar-20 | F16: da apr-20 | G16: da mag-20 | H16: da giu-20 | I16: da lug-20 | J16: da ago-20 | K16: da set-20 | L16: da ott-20 | M16: da nov-20 | N16: da dic-20 | O16: da gen-21 | P16: da feb-21
E17: a feb-21 | F17: a mar-21 | G17: a apr-21 | H17: a mag-21 | I17: a giu-21 | J17: a lug-21 | K17: a ago-21 | L17: a set-21 | M17: a ott-21 | N17: a nov-21 | O17: a dic-21 | P17: a gen-22
B18: Fascia oraria | C18: ΨFIX | E18: FIX12 | F18: FIX12 | G18: FIX12 | H18: FIX12 | I18: FIX12 | J18: FIX12 | K18: FIX12 | L18: FIX12 | M18: FIX12 | N18: FIX12 | O18: FIX12 | P18: FIX12
A19: Mono | B19: F0 | C19: 2.66 | E19: =+$C19+'DELIVERY e PRODOTTO FISSO'!$K$26 -> 60.64 | F19: =+$C19+'DELIVERY e PRODOTTO FISSO'!$K$27 -> 58.12 | G19: =+$C19+'DELIVERY e PRODOTTO FISSO'!$K$28 -> 53.57 | H19: =+$C19+'DELIVERY e PRODOTTO FISSO'!$K$29 -> 52.97 | I19: =+$C19+'DELIVERY e PRODOTTO FISSO'!$K$30 -> 45.1 | J19: =+$C19+'DELIVERY e PRODOTTO FISSO'!$K$31 -> 48.293864 | K19: =+$C19+'DELIVERY e PRODOTTO FISSO'!$K$32 -> 48.24 | L19: =+$C19+'DELIVERY e PRODOTTO FISSO'!$K$33 -> 49.48 | M19: =_xlfn.IFNA($C$19+VLOOKUP(M$14,'DELIVERY e PRODOTTO FISSO'!$I:$L,3,FALSE),"") -> 48.8 | N19: =_xlfn.IFNA($C$19+VLOOKUP(N$14,'DELIVERY e PRODOTTO FISSO'!$I:$L,3,FALSE),"") -> 51.92 | O19: =_xlfn.IFNA($C$19+VLOOKUP(O$14,'DELIVERY e PRODOTTO FISSO'!$I:$L,3,FALSE),"") -> 52.19 | P19: =_xlfn.IFNA($C$19+VLOOKUP(P$14,'DELIVERY e PRODOTTO FISSO'!$I:$L,3,FALSE),"") -> 49.95 | Q19: =_xlfn.IFNA($C$19+VLOOKUP(Q$14,'DELIVERY e PRODOTTO FISSO'!$I:$L,3,FALSE),"") | R19: =_xlfn.IFNA($C$19+VLOOKUP(R$14,'DELIVERY e PRODOTTO FISSO'!$I:$L,3,FALSE),"") | S19: =_xlfn.IFNA($C$19+VLOOKUP(S$14,'DELIVERY e PRODOTTO FISSO'!$I:$L,3,FALSE),"") | T19: =_xlfn.IFNA($C$19+VLOOKUP(T$14,'DELIVERY e PRODOTTO FISSO'!$I:$L,3,FALSE),"") | ... Z19: =_xlfn.IFNA($C$19+VLOOKUP(Z$14,'DELIVERY e PRODOTTO FISSO'!$I:$L,3,FALSE),"")
A20: Multiorari | B20: F1 | C20: 8.02 | E20: =+$C20+'DELIVERY e PRODOTTO FISSO'!$K$26 -> 66 | F20: =+$C20+'DELIVERY e PRODOTTO FISSO'!$K$27 -> 63.48 | G20: =+$C20+'DELIVERY e PRODOTTO FISSO'!$K$28 -> 58.93 | H20: =+$C20+'DELIVERY e PRODOTTO FISSO'!$K$29 -> 58.33 | I20: =+$C20+'DELIVERY e PRODOTTO FISSO'!$K$30 -> 50.46 | J20: =+$C20+'DELIVERY e PRODOTTO FISSO'!$K$31 -> 53.653864 | K20: =+$C20+'DELIVERY e PRODOTTO FISSO'!$K$32 -> 53.6 | L20: =+$C20+'DELIVERY e PRODOTTO FISSO'!$K$33 -> 54.84 | M20: =_xlfn.IFNA($C$20+VLOOKUP(M$14,'DELIVERY e PRODOTTO FISSO'!$I:$L,3,FALSE),"") -> 54.16 | N20: =_xlfn.IFNA($C$20+VLOOKUP(N$14,'DELIVERY e PRODOTTO FISSO'!$I:$L,3,FALSE),"") -> 57.28 | O20: =_xlfn.IFNA($C$20+VLOOKUP(O$14,'DELIVERY e PRODOTTO FISSO'!$I:$L,3,FALSE),"") -> 57.55 | P20: =_xlfn.IFNA($C$20+VLOOKUP(P$14,'DELIVERY e PRODOTTO FISSO'!$I:$L,3,FALSE),"") -> 55.31 | Q20: =_xlfn.IFNA($C$20+VLOOKUP(Q$14,'DELIVERY e PRODOTTO FISSO'!$I:$L,3,FALSE),"") | R20: =_xlfn.IFNA($C$20+VLOOKUP(R$14,'DELIVERY e PRODOTTO FISSO'!$I:$L,3,FALSE),"") | S20: =_xlfn.IFNA($C$20+VLOOKUP(S$14,'DELIVERY e PRODOTTO FISSO'!$I:$L,3,FALSE),"") | T20: =_xlfn.IFNA($C$20+VLOOKUP(T$14,'DELIVERY e PRODOTTO FISSO'!$I:$L,3,FALSE),"") | ... Z20: =_xlfn.IFNA($C$20+VLOOKUP(Z$14,'DELIVERY e PRODOTTO FISSO'!$I:$L,3,FALSE),"")
B21: F2 | C21: 6.85 | E21: =+$C21+'DELIVERY e PRODOTTO FISSO'!$K$26 -> 64.83 | F21: =+$C21+'DELIVERY e PRODOTTO FISSO'!$K$27 -> 62.31 | G21: =+$C21+'DELIVERY e PRODOTTO FISSO'!$K$28 -> 57.76 | H21: =+$C21+'DELIVERY e PRODOTTO FISSO'!$K$29 -> 57.16 | I21: =+$C21+'DELIVERY e PRODOTTO FISSO'!$K$30 -> 49.29 | J21: =+$C21+'DELIVERY e PRODOTTO FISSO'!$K$31 -> 52.483864 | K21: =+$C21+'DELIVERY e PRODOTTO FISSO'!$K$32 -> 52.43 | L21: =+$C21+'DELIVERY e PRODOTTO FISSO'!$K$33 -> 53.67 | M21: =_xlfn.IFNA($C$21+VLOOKUP(M$14,'DELIVERY e PRODOTTO FISSO'!$I:$L,3,FALSE),"") -> 52.99 | N21: =_xlfn.IFNA($C$21+VLOOKUP(N$14,'DELIVERY e PRODOTTO FISSO'!$I:$L,3,FALSE),"") -> 56.11 | O21: =_xlfn.IFNA($C$21+VLOOKUP(O$14,'DELIVERY e PRODOTTO FISSO'!$I:$L,3,FALSE),"") -> 56.38 | P21: =_xlfn.IFNA($C$21+VLOOKUP(P$14,'DELIVERY e PRODOTTO FISSO'!$I:$L,3,FALSE),"") -> 54.14 | Q21: =_xlfn.IFNA($C$21+VLOOKUP(Q$14,'DELIVERY e PRODOTTO FISSO'!$I:$L,3,FALSE),"") | R21: =_xlfn.IFNA($C$21+VLOOKUP(R$14,'DELIVERY e PRODOTTO FISSO'!$I:$L,3,FALSE),"") | S21: =_xlfn.IFNA($C$21+VLOOKUP(S$14,'DELIVERY e PRODOTTO FISSO'!$I:$L,3,FALSE),"") | T21: =_xlfn.IFNA($C$21+VLOOKUP(T$14,'DELIVERY e PRODOTTO FISSO'!$I:$L,3,FALSE),"") | ... Z21: =_xlfn.IFNA($C$21+VLOOKUP(Z$14,'DELIVERY e PRODOTTO FISSO'!$I:$L,3,FALSE),"")
B22: F3 | C22: -4.7 | E22: =+$C22+'DELIVERY e PRODOTTO FISSO'!$K$26 -> 53.28 | F22: =+$C22+'DELIVERY e PRODOTTO FISSO'!$K$27 -> 50.76 | G22: =+$C22+'DELIVERY e PRODOTTO FISSO'!$K$28 -> 46.21 | H22: =+$C22+'DELIVERY e PRODOTTO FISSO'!$K$29 -> 45.61 | I22: =+$C22+'DELIVERY e PRODOTTO FISSO'!$K$30 -> 37.74 | J22: =+$C22+'DELIVERY e PRODOTTO FISSO'!$K$31 -> 40.933864 | K22: =+$C22+'DELIVERY e PRODOTTO FISSO'!$K$32 -> 40.88 | L22: =+$C22+'DELIVERY e PRODOTTO FISSO'!$K$33 -> 42.12 | M22: =_xlfn.IFNA($C$22+VLOOKUP(M$14,'DELIVERY e PRODOTTO FISSO'!$I:$L,3,FALSE),"") -> 41.44 | N22: =_xlfn.IFNA($C$22+VLOOKUP(N$14,'DELIVERY e PRODOTTO FISSO'!$I:$L,3,FALSE),"") -> 44.56 | O22: =_xlfn.IFNA($C$22+VLOOKUP(O$14,'DELIVERY e PRODOTTO FISSO'!$I:$L,3,FALSE),"") -> 44.83 | P22: =_xlfn.IFNA($C$22+VLOOKUP(P$14,'DELIVERY e PRODOTTO FISSO'!$I:$L,3,FALSE),"") -> 42.59 | Q22: =_xlfn.IFNA($C$22+VLOOKUP(Q$14,'DELIVERY e PRODOTTO FISSO'!$I:$L,3,FALSE),"") | R22: =_xlfn.IFNA($C$22+VLOOKUP(R$14,'DELIVERY e PRODOTTO FISSO'!$I:$L,3,FALSE),"") | S22: =_xlfn.IFNA($C$22+VLOOKUP(S$14,'DELIVERY e PRODOTTO FISSO'!$I:$L,3,FALSE),"") | T22: =_xlfn.IFNA($C$22+VLOOKUP(T$14,'DELIVERY e PRODOTTO FISSO'!$I:$L,3,FALSE),"") | ... Z22: =_xlfn.IFNA($C$22+VLOOKUP(Z$14,'DELIVERY e PRODOTTO FISSO'!$I:$L,3,FALSE),"")
A23: LOTTO 4 - Prezzi Fissi al netto delle perdite di rete (Euro/MWh)
A26: Forniture a Prezzo Fisso a 18 mesi
A27: Acquistabile fino al: | E27: 43829 | F27: 43861 | G27: 43890 | H27: 43921 | I27: 43951 | J27: 43982 | K27: 44012 | L27: 44043 | M27: 44074 | N27: 44104 | O27: 44135 | P27: 44165
A28: Per forniture: | E28: da mar-20 | F28: da apr-20 | G28: da mag-20 | H28: da giu-20 | I28: da lug-20 | J28: da ago-20 | K28: da set-20 | L28: da ott-20 | M28: da nov-20 | N28: da dic-20 | O28: da gen-21 | P28: da feb-21
E29: a ago-21 | F29: a set-21 | G29: a ott-21 | H29: a nov-21 | I29: a dic-21 | J29: a gen-22 | K29: a feb-22 | L29: a mar-22 | M29: a apr-22 | N29: a mag-22 | O29: a giu-22 | P29: a lug-22
B30: Fascia oraria | C30: ΨFIX | E30: FIX18 | F30: FIX18 | G30: FIX18 | H30: FIX18 | I30: FIX18 | J30: FIX18 | K30: FIX18 | L30: FIX18 | M30: FIX18 | N30: FIX18 | O30: FIX18 | P30: FIX18
A31: Mono | B31: F0 | C31: 2.66 | E31: =+$C31+'DELIVERY e PRODOTTO FISSO'!$L$26 -> 59.76 | F31: =+$C31+'DELIVERY e PRODOTTO FISSO'!$L$27 -> 57.2 | G31: =+$C31+'DELIVERY e PRODOTTO FISSO'!$L$28 -> 53.36 | H31: =+$C31+'DELIVERY e PRODOTTO FISSO'!$L$29 -> 53.92 | I31: =+$C31+'DELIVERY e PRODOTTO FISSO'!$L$30 -> 46.07 | J31: =+$C31+'DELIVERY e PRODOTTO FISSO'!$L$31 -> 48.91803 | K31: =+$C31+'DELIVERY e PRODOTTO FISSO'!$L$32 -> 49.89 | L31: =+$C31+'DELIVERY e PRODOTTO FISSO'!$L$33 -> 51.39 | M31: =_xlfn.IFNA($C$31+VLOOKUP(M$14,'DELIVERY e PRODOTTO FISSO'!$I:$L,4,FALSE),"") -> 50.91 | N31: =_xlfn.IFNA($C$31+VLOOKUP(N$14,'DELIVERY e PRODOTTO FISSO'!$I:$L,4,FALSE),"") -> 52.86 | O31: =_xlfn.IFNA($C$31+VLOOKUP(O$14,'DELIVERY e PRODOTTO FISSO'!$I:$L,4,FALSE),"") -> 52.11 | P31: =_xlfn.IFNA($C$31+VLOOKUP(P$14,'DELIVERY e PRODOTTO FISSO'!$I:$L,4,FALSE),"") -> 49.87 | Q31: =_xlfn.IFNA($C$31+VLOOKUP(Q$14,'DELIVERY e PRODOTTO FISSO'!$I:$L,4,FALSE),"") | R31: =_xlfn.IFNA($C$31+VLOOKUP(R$14,'DELIVERY e PRODOTTO FISSO'!$I:$L,4,FALSE),"") | S31: =_xlfn.IFNA($C$31+VLOOKUP(S$14,'DELIVERY e PRODOTTO FISSO'!$I:$L,4,FALSE),"") | T31: =_xlfn.IFNA($C$31+VLOOKUP(T$14,'DELIVERY e PRODOTTO FISSO'!$I:$L,4,FALSE),"") | ... Z31: =_xlfn.IFNA($C$31+VLOOKUP(Z$14,'DELIVERY e PRODOTTO FISSO'!$I:$L,4,FALSE),"")
A32: Multiorari | B32: F1 | C32: 8.02 | E32: =+$C32+'DELIVERY e PRODOTTO FISSO'!$L$26 -> 65.12 | F32: =+$C32+'DELIVERY e PRODOTTO FISSO'!$L$27 -> 62.56 | G32: =+$C32+'DELIVERY e PRODOTTO FISSO'!$L$28 -> 58.72 | H32: =+$C32+'DELIVERY e PRODOTTO FISSO'!$L$29 -> 59.28 | I32: =+$C32+'DELIVERY e PRODOTTO FISSO'!$L$30 -> 51.43 | J32: =+$C32+'DELIVERY e PRODOTTO FISSO'!$L$31 -> 54.27803 | K32: =+$C32+'DELIVERY e PRODOTTO FISSO'!$L$32 -> 55.25 | L32: =+$C32+'DELIVERY e PRODOTTO FISSO'!$L$33 -> 56.75 | M32: =_xlfn.IFNA($C$32+VLOOKUP(M$14,'DELIVERY e PRODOTTO FISSO'!$I:$L,4,FALSE),"") -> 56.27 | N32: =_xlfn.IFNA($C$32+VLOOKUP(N$14,'DELIVERY e PRODOTTO FISSO'!$I:$L,4,FALSE),"") -> 58.22 | O32: =_xlfn.IFNA($C$32+VLOOKUP(O$14,'DELIVERY e PRODOTTO FISSO'!$I:$L,4,FALSE),"") -> 57.47 | P32: =_xlfn.IFNA($C$32+VLOOKUP(P$14,'DELIVERY e PRODOTTO FISSO'!$I:$L,4,FALSE),"") -> 55.23 | Q32: =_xlfn.IFNA($C$32+VLOOKUP(Q$14,'DELIVERY e PRODOTTO FISSO'!$I:$L,4,FALSE),"") | R32: =_xlfn.IFNA($C$32+VLOOKUP(R$14,'DELIVERY e PRODOTTO FISSO'!$I:$L,4,FALSE),"") | S32: =_xlfn.IFNA($C$32+VLOOKUP(S$14,'DELIVERY e PRODOTTO FISSO'!$I:$L,4,FALSE),"") | T32: =_xlfn.IFNA($C$32+VLOOKUP(T$14,'DELIVERY e PRODOTTO FISSO'!$I:$L,4,FALSE),"") | ... Z32: =_xlfn.IFNA($C$32+VLOOKUP(Z$14,'DELIVERY e PRODOTTO FISSO'!$I:$L,4,FALSE),"")
B33: F2 | C33: 6.85 | E33: =+$C33+'DELIVERY e PRODOTTO FISSO'!$L$26 -> 63.95 | F33: =+$C33+'DELIVERY e PRODOTTO FISSO'!$L$27 -> 61.39 | G33: =+$C33+'DELIVERY e PRODOTTO FISSO'!$L$28 -> 57.55 | H33: =+$C33+'DELIVERY e PRODOTTO FISSO'!$L$29 -> 58.11 | I33: =+$C33+'DELIVERY e PRODOTTO FISSO'!$L$30 -> 50.26 | J33: =+$C33+'DELIVERY e PRODOTTO FISSO'!$L$31 -> 53.10803 | K33: =+$C33+'DELIVERY e PRODOTTO FISSO'!$L$32 -> 54.08 | L33: =+$C33+'DELIVERY e PRODOTTO FISSO'!$L$33 -> 55.58 | M33: =_xlfn.IFNA($C$33+VLOOKUP(M$14,'DELIVERY e PRODOTTO FISSO'!$I:$L,4,FALSE),"") -> 55.1 | N33: =_xlfn.IFNA($C$33+VLOOKUP(N$14,'DELIVERY e PRODOTTO FISSO'!$I:$L,4,FALSE),"") -> 57.05 | O33: =_xlfn.IFNA($C$33+VLOOKUP(O$14,'DELIVERY e PRODOTTO FISSO'!$I:$L,4,FALSE),"") -> 56.3 | P33: =_xlfn.IFNA($C$33+VLOOKUP(P$14,'DELIVERY e PRODOTTO FISSO'!$I:$L,4,FALSE),"") -> 54.06 | Q33: =_xlfn.IFNA($C$33+VLOOKUP(Q$14,'DELIVERY e PRODOTTO FISSO'!$I:$L,4,FALSE),"") | R33: =_xlfn.IFNA($C$33+VLOOKUP(R$14,'DELIVERY e PRODOTTO FISSO'!$I:$L,4,FALSE),"") | S33: =_xlfn.IFNA($C$33+VLOOKUP(S$14,'DELIVERY e PRODOTTO FISSO'!$I:$L,4,FALSE),"") | T33: =_xlfn.IFNA($C$33+VLOOKUP(T$14,'DELIVERY e PRODOTTO FISSO'!$I:$L,4,FALSE),"") | ... Z33: =_xlfn.IFNA($C$33+VLOOKUP(Z$14,'DELIVERY e PRODOTTO FISSO'!$I:$L,4,FALSE),"")
B34: F3 | C34: -4.7 | E34: =+$C34+'DELIVERY e PRODOTTO FISSO'!$L$26 -> 52.4 | F34: =+$C34+'DELIVERY e PRODOTTO FISSO'!$L$27 -> 49.84 | G34: =+$C34+'DELIVERY e PRODOTTO FISSO'!$L$28 -> 46 | H34: =+$C34+'DELIVERY e PRODOTTO FISSO'!$L$29 -> 46.56 | I34: =+$C34+'DELIVERY e PRODOTTO FISSO'!$L$30 -> 38.71 | J34: =+$C34+'DELIVERY e PRODOTTO FISSO'!$L$31 -> 41.55803 | K34: =+$C34+'DELIVERY e PRODOTTO FISSO'!$L$32 -> 42.53 | L34: =+$C34+'DELIVERY e PRODOTTO FISSO'!$L$33 -> 44.03 | M34: =_xlfn.IFNA($C$34+VLOOKUP(M$14,'DELIVERY e PRODOTTO FISSO'!$I:$L,4,FALSE),"") -> 43.55 | N34: =_xlfn.IFNA($C$34+VLOOKUP(N$14,'DELIVERY e PRODOTTO FISSO'!$I:$L,4,FALSE),"") -> 45.5 | O34: =_xlfn.IFNA($C$34+VLOOKUP(O$14,'DELIVERY e PRODOTTO FISSO'!$I:$L,4,FALSE),"") -> 44.75 | P34: =_xlfn.IFNA($C$34+VLOOKUP(P$14,'DELIVERY e PRODOTTO FISSO'!$I:$L,4,FALSE),"") -> 42.51 | Q34: =_xlfn.IFNA($C$34+VLOOKUP(Q$14,'DELIVERY e PRODOTTO FISSO'!$I:$L,4,FALSE),"") | R34: =_xlfn.IFNA($C$34+VLOOKUP(R$14,'DELIVERY e PRODOTTO FISSO'!$I:$L,4,FALSE),"") | S34: =_xlfn.IFNA($C$34+VLOOKUP(S$14,'DELIVERY e PRODOTTO FISSO'!$I:$L,4,FALSE),"") | T34: =_xlfn.IFNA($C$34+VLOOKUP(T$14,'DELIVERY e PRODOTTO FISSO'!$I:$L,4,FALSE),"") | ... Z34: =_xlfn.IFNA($C$34+VLOOKUP(Z$14,'DELIVERY e PRODOTTO FISSO'!$I:$L,4,FALSE),"")
A35: LOTTO 4 - Prezzi Fissi al netto delle perdite di rete (Euro/MWh)

Sheet Lotto 5
Q1: torna al SOMMARIO
A4: Energia elettrica 17
A5: Convenzione per la fornitura di energia elettrica a prezzo fisso o a prezzo variabile e servizi connessi per tutte le Pubbliche Amministrazioni
A7: Configuratore corrispettivi a Prezzo Fisso per la fornitura di Energia Elettrica edizione 17
A9: =+SOMMARIO!A14 -> Lotto 5: Veneto
A11: Sconto PA Virtuose S | C11: 0,59 Euro/MWh
A12: Opzione Verde | C12: 1,1 Euro/MWh
A14: Forniture a Prezzo Fisso a 12 mesi | M14: 44044 | N14: 44075 | O14: 44105 | P14: 44136 | Q14: 44166 | R14: 44197 | S14: 44228 | T14: 44256 | U14: 44287 | V14: 44317 | W14: 44348 | X14: 44378
A15: Acquistabile fino al: | E15: 43829 | F15: 43861 | G15: 43890 | H15: 43921 | I15: 43951 | J15: 43982 | K15: 44012 | L15: 44043 | M15: 44074 | N15: 44104 | O15: 44135 | P15: 44165
A16: Per forniture: | E16: da mar-20 | F16: da apr-20 | G16: da mag-20 | H16: da giu-20 | I16: da lug-20 | J16: da ago-20 | K16: da set-20 | L16: da ott-20 | M16: da nov-20 | N16: da dic-20 | O16: da gen-21 | P16: da feb-21
E17: a feb-21 | F17: a mar-21 | G17: a apr-21 | H17: a mag-21 | I17: a giu-21 | J17: a lug-21 | K17: a ago-21 | L17: a set-21 | M17: a ott-21 | N17: a nov-21 | O17: a dic-21 | P17: a gen-22
B18: Fascia oraria | C18: ΨFIX | E18: FIX12 | F18: FIX12 | G18: FIX12 | H18: FIX12 | I18: FIX12 | J18: FIX12 | K18: FIX12 | L18: FIX12 | M18: FIX12 | N18: FIX12 | O18: FIX12 | P18: FIX12
A19: Mono | B19: F0 | C19: 2.32 | E19: =+$C19+'DELIVERY e PRODOTTO FISSO'!$K$26 -> 60.3 | F19: =+$C19+'DELIVERY e PRODOTTO FISSO'!$K$27 -> 57.78 | G19: =+$C19+'DELIVERY e PRODOTTO FISSO'!$K$28 -> 53.23 | H19: =+$C19+'DELIVERY e PRODOTTO FISSO'!$K$29 -> 52.63 | I19: =+$C19+'DELIVERY e PRODOTTO FISSO'!$K$30 -> 44.76 | J19: =+$C19+'DELIVERY e PRODOTTO FISSO'!$K$31 -> 47.953864 | K19: =+$C19+'DELIVERY e PRODOTTO FISSO'!$K$32 -> 47.9 | L19: =+$C19+'DELIVERY e PRODOTTO FISSO'!$K$33 -> 49.14 | M19: =_xlfn.IFNA($C$19+VLOOKUP(M$14,'DELIVERY e PRODOTTO FISSO'!$I:$L,3,FALSE),"") -> 48.46 | N19: =_xlfn.IFNA($C$19+VLOOKUP(N$14,'DELIVERY e PRODOTTO FISSO'!$I:$L,3,FALSE),"") -> 51.58 | O19: =_xlfn.IFNA($C$19+VLOOKUP(O$14,'DELIVERY e PRODOTTO FISSO'!$I:$L,3,FALSE),"") -> 51.85 | P19: =_xlfn.IFNA($C$19+VLOOKUP(P$14,'DELIVERY e PRODOTTO FISSO'!$I:$L,3,FALSE),"") -> 49.61 | Q19: =_xlfn.IFNA($C$19+VLOOKUP(Q$14,'DELIVERY e PRODOTTO FISSO'!$I:$L,3,FALSE),"") | R19: =_xlfn.IFNA($C$19+VLOOKUP(R$14,'DELIVERY e PRODOTTO FISSO'!$I:$L,3,FALSE),"") | S19: =_xlfn.IFNA($C$19+VLOOKUP(S$14,'DELIVERY e PRODOTTO FISSO'!$I:$L,3,FALSE),"") | T19: =_xlfn.IFNA($C$19+VLOOKUP(T$14,'DELIVERY e PRODOTTO FISSO'!$I:$L,3,FALSE),"") | ... Z19: =_xlfn.IFNA($C$19+VLOOKUP(Z$14,'DELIVERY e PRODOTTO FISSO'!$I:$L,3,FALSE),"")
A20: Multiorari | B20: F1 | C20: 0.72 | E20: =+$C20+'DELIVERY e PRODOTTO FISSO'!$K$26 -> 58.7 | F20: =+$C20+'DELIVERY e PRODOTTO FISSO'!$K$27 -> 56.18 | G20: =+$C20+'DELIVERY e PRODOTTO FISSO'!$K$28 -> 51.63 | H20: =+$C20+'DELIVERY e PRODOTTO FISSO'!$K$29 -> 51.03 | I20: =+$C20+'DELIVERY e PRODOTTO FISSO'!$K$30 -> 43.16 | J20: =+$C20+'DELIVERY e PRODOTTO FISSO'!$K$31 -> 46.353864 | K20: =+$C20+'DELIVERY e PRODOTTO FISSO'!$K$32 -> 46.3 | L20: =+$C20+'DELIVERY e PRODOTTO FISSO'!$K$33 -> 47.54 | M20: =_xlfn.IFNA($C$20+VLOOKUP(M$14,'DELIVERY e PRODOTTO FISSO'!$I:$L,3,FALSE),"") -> 46.86 | N20: =_xlfn.IFNA($C$20+VLOOKUP(N$14,'DELIVERY e PRODOTTO FISSO'!$I:$L,3,FALSE),"") -> 49.98 | O20: =_xlfn.IFNA($C$20+VLOOKUP(O$14,'DELIVERY e PRODOTTO FISSO'!$I:$L,3,FALSE),"") -> 50.25 | P20: =_xlfn.IFNA($C$20+VLOOKUP(P$14,'DELIVERY e PRODOTTO FISSO'!$I:$L,3,FALSE),"") -> 48.01 | Q20: =_xlfn.IFNA($C$20+VLOOKUP(Q$14,'DELIVERY e PRODOTTO FISSO'!$I:$L,3,FALSE),"") | R20: =_xlfn.IFNA($C$20+VLOOKUP(R$14,'DELIVERY e PRODOTTO FISSO'!$I:$L,3,FALSE),"") | S20: =_xlfn.IFNA($C$20+VLOOKUP(S$14,'DELIVERY e PRODOTTO FISSO'!$I:$L,3,FALSE),"") | T20: =_xlfn.IFNA($C$20+VLOOKUP(T$14,'DELIVERY e PRODOTTO FISSO'!$I:$L,3,FALSE),"") | ... Z20: =_xlfn.IFNA($C$20+VLOOKUP(Z$14,'DELIVERY e PRODOTTO FISSO'!$I:$L,3,FALSE),"")
B21: F2 | C21: 0.72 | E21: =+$C21+'DELIVERY e PRODOTTO FISSO'!$K$26 -> 58.7 | F21: =+$C21+'DELIVERY e PRODOTTO FISSO'!$K$27 -> 56.18 | G21: =+$C21+'DELIVERY e PRODOTTO FISSO'!$K$28 -> 51.63 | H21: =+$C21+'DELIVERY e PRODOTTO FISSO'!$K$29 -> 51.03 | I21: =+$C21+'DELIVERY e PRODOTTO FISSO'!$K$30 -> 43.16 | J21: =+$C21+'DELIVERY e PRODOTTO FISSO'!$K$31 -> 46.353864 | K21: =+$C21+'DELIVERY e PRODOTTO FISSO'!$K$32 -> 46.3 | L21: =+$C21+'DELIVERY e PRODOTTO FISSO'!$K$33 -> 47.54 | M21: =_xlfn.IFNA($C$21+VLOOKUP(M$14,'DELIVERY e PRODOTTO FISSO'!$I:$L,3,FALSE),"") -> 46.86 | N21: =_xlfn.IFNA($C$21+VLOOKUP(N$14,'DELIVERY e PRODOTTO FISSO'!$I:$L,3,FALSE),"") -> 49.98 | O21: =_xlfn.IFNA($C$21+VLOOKUP(O$14,'DELIVERY e PRODOTTO FISSO'!$I:$L,3,FALSE),"") -> 50.25 | P21: =_xlfn.IFNA($C$21+VLOOKUP(P$14,'DELIVERY e PRODOTTO FISSO'!$I:$L,3,FALSE),"") -> 48.01 | Q21: =_xlfn.IFNA($C$21+VLOOKUP(Q$14,'DELIVERY e PRODOTTO FISSO'!$I:$L,3,FALSE),"") | R21: =_xlfn.IFNA($C$21+VLOOKUP(R$14,'DELIVERY e PRODOTTO FISSO'!$I:$L,3,FALSE),"") | S21: =_xlfn.IFNA($C$21+VLOOKUP(S$14,'DELIVERY e PRODOTTO FISSO'!$I:$L,3,FALSE),"") | T21: =_xlfn.IFNA($C$21+VLOOKUP(T$14,'DELIVERY e PRODOTTO FISSO'!$I:$L,3,FALSE),"") | ... Z21: =_xlfn.IFNA($C$21+VLOOKUP(Z$14,'DELIVERY e PRODOTTO FISSO'!$I:$L,3,FALSE),"")
B22: F3 | C22: 4.72 | E22: =+$C22+'DELIVERY e PRODOTTO FISSO'!$K$26 -> 62.7 | F22: =+$C22+'DELIVERY e PRODOTTO FISSO'!$K$27 -> 60.18 | G22: =+$C22+'DELIVERY e PRODOTTO FISSO'!$K$28 -> 55.63 | H22: =+$C22+'DELIVERY e PRODOTTO FISSO'!$K$29 -> 55.03 | I22: =+$C22+'DELIVERY e PRODOTTO FISSO'!$K$30 -> 47.16 | J22: =+$C22+'DELIVERY e PRODOTTO FISSO'!$K$31 -> 50.353864 | K22: =+$C22+'DELIVERY e PRODOTTO FISSO'!$K$32 -> 50.3 | L22: =+$C22+'DELIVERY e PRODOTTO FISSO'!$K$33 -> 51.54 | M22: =_xlfn.IFNA($C$22+VLOOKUP(M$14,'DELIVERY e PRODOTTO FISSO'!$I:$L,3,FALSE),"") -> 50.86 | N22: =_xlfn.IFNA($C$22+VLOOKUP(N$14,'DELIVERY e PRODOTTO FISSO'!$I:$L,3,FALSE),"") -> 53.98 | O22: =_xlfn.IFNA($C$22+VLOOKUP(O$14,'DELIVERY e PRODOTTO FISSO'!$I:$L,3,FALSE),"") -> 54.25 | P22: =_xlfn.IFNA($C$22+VLOOKUP(P$14,'DELIVERY e PRODOTTO FISSO'!$I:$L,3,FALSE),"") -> 52.01 | Q22: =_xlfn.IFNA($C$22+VLOOKUP(Q$14,'DELIVERY e PRODOTTO FISSO'!$I:$L,3,FALSE),"") | R22: =_xlfn.IFNA($C$22+VLOOKUP(R$14,'DELIVERY e PRODOTTO FISSO'!$I:$L,3,FALSE),"") | S22: =_xlfn.IFNA($C$22+VLOOKUP(S$14,'DELIVERY e PRODOTTO FISSO'!$I:$L,3,FALSE),"") | T22: =_xlfn.IFNA($C$22+VLOOKUP(T$14,'DELIVERY e PRODOTTO FISSO'!$I:$L,3,FALSE),"") | ... Z22: =_xlfn.IFNA($C$22+VLOOKUP(Z$14,'DELIVERY e PRODOTTO FISSO'!$I:$L,3,FALSE),"")
A23: LOTTO 5 - Prezzi Fissi al netto delle perdite di rete (Euro/MWh)
A26: Forniture a Prezzo Fisso a 18 mesi
A27: Acquistabile fino al: | E27: 43829 | F27: 43861 | G27: 43890 | H27: 43921 | I27: 43951 | J27: 43982 | K27: 44012 | L27: 44043 | M27: 44074 | N27: 44104 | O27: 44135 | P27: 44165
A28: Per forniture: | E28: da mar-20 | F28: da apr-20 | G28: da mag-20 | H28: da giu-20 | I28: da lug-20 | J28: da ago-20 | K28: da set-20 | L28: da ott-20 | M28: da nov-20 | N28: da dic-20 | O28: da gen-21 | P28: da feb-21
E29: a ago-21 | F29: a set-21 | G29: a ott-21 | H29: a nov-21 | I29: a dic-21 | J29: a gen-22 | K29: a feb-22 | L29: a mar-22 | M29: a apr-22 | N29: a mag-22 | O29: a giu-22 | P29: a lug-22
B30: Fascia oraria | C30: ΨFIX | E30: FIX18 | F30: FIX18 | G30: FIX18 | H30: FIX18 | I30: FIX18 | J30: FIX18 | K30: FIX18 | L30: FIX18 | M30: FIX18 | N30: FIX18 | O30: FIX18 | P30: FIX18
A31: Mono | B31: F0 | C31: 2.32 | E31: =+$C31+'DELIVERY e PRODOTTO FISSO'!$L$26 -> 59.42 | F31: =+$C31+'DELIVERY e PRODOTTO FISSO'!$L$27 -> 56.86 | G31: =+$C31+'DELIVERY e PRODOTTO FISSO'!$L$28 -> 53.02 | H31: =+$C31+'DELIVERY e PRODOTTO FISSO'!$L$29 -> 53.58 | I31: =+$C31+'DELIVERY e PRODOTTO FISSO'!$L$30 -> 45.73 | J31: =+$C31+'DELIVERY e PRODOTTO FISSO'!$L$31 -> 48.57803 | K31: =+$C31+'DELIVERY e PRODOTTO FISSO'!$L$32 -> 49.55 | L31: =+$C31+'DELIVERY e PRODOTTO FISSO'!$L$33 -> 51.05 | M31: =_xlfn.IFNA($C$31+VLOOKUP(M$14,'DELIVERY e PRODOTTO FISSO'!$I:$L,4,FALSE),"") -> 50.57 | N31: =_xlfn.IFNA($C$31+VLOOKUP(N$14,'DELIVERY e PRODOTTO FISSO'!$I:$L,4,FALSE),"") -> 52.52 | O31: =_xlfn.IFNA($C$31+VLOOKUP(O$14,'DELIVERY e PRODOTTO FISSO'!$I:$L,4,FALSE),"") -> 51.77 | P31: =_xlfn.IFNA($C$31+VLOOKUP(P$14,'DELIVERY e PRODOTTO FISSO'!$I:$L,4,FALSE),"") -> 49.53 | Q31: =_xlfn.IFNA($C$31+VLOOKUP(Q$14,'DELIVERY e PRODOTTO FISSO'!$I:$L,4,FALSE),"") | R31: =_xlfn.IFNA($C$31+VLOOKUP(R$14,'DELIVERY e PRODOTTO FISSO'!$I:$L,4,FALSE),"") | S31: =_xlfn.IFNA($C$31+VLOOKUP(S$14,'DELIVERY e PRODOTTO FISSO'!$I:$L,4,FALSE),"") | T31: =_xlfn.IFNA($C$31+VLOOKUP(T$14,'DELIVERY e PRODOTTO FISSO'!$I:$L,4,FALSE),"") | ... Z31: =_xlfn.IFNA($C$31+VLOOKUP(Z$14,'DELIVERY e PRODOTTO FISSO'!$I:$L,4,FALSE),"")
A32: Multiorari | B32: F1 | C32: 0.72 | E32: =+$C32+'DELIVERY e PRODOTTO FISSO'!$L$26 -> 57.82 | F32: =+$C32+'DELIVERY e PRODOTTO FISSO'!$L$27 -> 55.26 | G32: =+$C32+'DELIVERY e PRODOTTO FISSO'!$L$28 -> 51.42 | H32: =+$C32+'DELIVERY e PRODOTTO FISSO'!$L$29 -> 51.98 | I32: =+$C32+'DELIVERY e PRODOTTO FISSO'!$L$30 -> 44.13 | J32: =+$C32+'DELIVERY e PRODOTTO FISSO'!$L$31 -> 46.97803 | K32: =+$C32+'DELIVERY e PRODOTTO FISSO'!$L$32 -> 47.95 | L32: =+$C32+'DELIVERY e PRODOTTO FISSO'!$L$33 -> 49.45 | M32: =_xlfn.IFNA($C$32+VLOOKUP(M$14,'DELIVERY e PRODOTTO FISSO'!$I:$L,4,FALSE),"") -> 48.97 | N32: =_xlfn.IFNA($C$32+VLOOKUP(N$14,'DELIVERY e PRODOTTO FISSO'!$I:$L,4,FALSE),"") -> 50.92 | O32: =_xlfn.IFNA($C$32+VLOOKUP(O$14,'DELIVERY e PRODOTTO FISSO'!$I:$L,4,FALSE),"") -> 50.17 | P32: =_xlfn.IFNA($C$32+VLOOKUP(P$14,'DELIVERY e PRODOTTO FISSO'!$I:$L,4,FALSE),"") -> 47.93 | Q32: =_xlfn.IFNA($C$32+VLOOKUP(Q$14,'DELIVERY e PRODOTTO FISSO'!$I:$L,4,FALSE),"") | R32: =_xlfn.IFNA($C$32+VLOOKUP(R$14,'DELIVERY e PRODOTTO FISSO'!$I:$L,4,FALSE),"") | S32: =_xlfn.IFNA($C$32+VLOOKUP(S$14,'DELIVERY e PRODOTTO FISSO'!$I:$L,4,FALSE),"") | T32: =_xlfn.IFNA($C$32+VLOOKUP(T$14,'DELIVERY e PRODOTTO FISSO'!$I:$L,4,FALSE),"") | ... Z32: =_xlfn.IFNA($C$32+VLOOKUP(Z$14,'DELIVERY e PRODOTTO FISSO'!$I:$L,4,FALSE),"")
B33: F2 | C33: 0.72 | E33: =+$C33+'DELIVERY e PRODOTTO FISSO'!$L$26 -> 57.82 | F33: =+$C33+'DELIVERY e PRODOTTO FISSO'!$L$27 -> 55.26 | G33: =+$C33+'DELIVERY e PRODOTTO FISSO'!$L$28 -> 51.42 | H33: =+$C33+'DELIVERY e PRODOTTO FISSO'!$L$29 -> 51.98 | I33: =+$C33+'DELIVERY e PRODOTTO FISSO'!$L$30 -> 44.13 | J33: =+$C33+'DELIVERY e PRODOTTO FISSO'!$L$31 -> 46.97803 | K33: =+$C33+'DELIVERY e PRODOTTO FISSO'!$L$32 -> 47.95 | L33: =+$C33+'DELIVERY e PRODOTTO FISSO'!$L$33 -> 49.45 | M33: =_xlfn.IFNA($C$33+VLOOKUP(M$14,'DELIVERY e PRODOTTO FISSO'!$I:$L,4,FALSE),"") -> 48.97 | N33: =_xlfn.IFNA($C$33+VLOOKUP(N$14,'DELIVERY e PRODOTTO FISSO'!$I:$L,4,FALSE),"") -> 50.92 | O33: =_xlfn.IFNA($C$33+VLOOKUP(O$14,'DELIVERY e PRODOTTO FISSO'!$I:$L,4,FALSE),"") -> 50.17 | P33: =_xlfn.IFNA($C$33+VLOOKUP(P$14,'DELIVERY e PRODOTTO FISSO'!$I:$L,4,FALSE),"") -> 47.93 | Q33: =_xlfn.IFNA($C$33+VLOOKUP(Q$14,'DELIVERY e PRODOTTO FISSO'!$I:$L,4,FALSE),"") | R33: =_xlfn.IFNA($C$33+VLOOKUP(R$14,'DELIVERY e PRODOTTO FISSO'!$I:$L,4,FALSE),"") | S33: =_xlfn.IFNA($C$33+VLOOKUP(S$14,'DELIVERY e PRODOTTO FISSO'!$I:$L,4,FALSE),"") | T33: =_xlfn.IFNA($C$33+VLOOKUP(T$14,'DELIVERY e PRODOTTO FISSO'!$I:$L,4,FALSE),"") | ... Z33: =_xlfn.IFNA($C$33+VLOOKUP(Z$14,'DELIVERY e PRODOTTO FISSO'!$I:$L,4,FALSE),"")
B34: F3 | C34: 4.72 | E34: =+$C34+'DELIVERY e PRODOTTO FISSO'!$L$26 -> 61.82 | F34: =+$C34+'DELIVERY e PRODOTTO FISSO'!$L$27 -> 59.26 | G34: =+$C34+'DELIVERY e PRODOTTO FISSO'!$L$28 -> 55.42 | H34: =+$C34+'DELIVERY e PRODOTTO FISSO'!$L$29 -> 55.98 | I34: =+$C34+'DELIVERY e PRODOTTO FISSO'!$L$30 -> 48.13 | J34: =+$C34+'DELIVERY e PRODOTTO FISSO'!$L$31 -> 50.97803 | K34: =+$C34+'DELIVERY e PRODOTTO FISSO'!$L$32 -> 51.95 | L34: =+$C34+'DELIVERY e PRODOTTO FISSO'!$L$33 -> 53.45 | M34: =_xlfn.IFNA($C$34+VLOOKUP(M$14,'DELIVERY e PRODOTTO FISSO'!$I:$L,4,FALSE),"") -> 52.97 | N34: =_xlfn.IFNA($C$34+VLOOKUP(N$14,'DELIVERY e PRODOTTO FISSO'!$I:$L,4,FALSE),"") -> 54.92 | O34: =_xlfn.IFNA($C$34+VLOOKUP(O$14,'DELIVERY e PRODOTTO FISSO'!$I:$L,4,FALSE),"") -> 54.17 | P34: =_xlfn.IFNA($C$34+VLOOKUP(P$14,'DELIVERY e PRODOTTO FISSO'!$I:$L,4,FALSE),"") -> 51.93 | Q34: =_xlfn.IFNA($C$34+VLOOKUP(Q$14,'DELIVERY e PRODOTTO FISSO'!$I:$L,4,FALSE),"") | R34: =_xlfn.IFNA($C$34+VLOOKUP(R$14,'DELIVERY e PRODOTTO FISSO'!$I:$L,4,FALSE),"") | S34: =_xlfn.IFNA($C$34+VLOOKUP(S$14,'DELIVERY e PRODOTTO FISSO'!$I:$L,4,FALSE),"") | T34: =_xlfn.IFNA($C$34+VLOOKUP(T$14,'DELIVERY e PRODOTTO FISSO'!$I:$L,4,FALSE),"") | ... Z34: =_xlfn.IFNA($C$34+VLOOKUP(Z$14,'DELIVERY e PRODOTTO FISSO'!$I:$L,4,FALSE),"")
A35: LOTTO 5 - Prezzi Fissi al netto delle perdite di rete (Euro/MWh)

Sheet Lotto 6
Q1: torna al SOMMARIO
A4: Energia elettrica 17
A5: Convenzione per la fornitura di energia elettrica a prezzo fisso o a prezzo variabile e servizi connessi per tutte le Pubbliche Amministrazioni
A7: Configuratore corrispettivi a Prezzo Fisso per la fornitura di Energia Elettrica edizione 17
A9: =+SOMMARIO!A15 -> Lotto 6: Emilia Romagna
A11: Sconto PA Virtuose S | C11: 0,1 Euro/MWh
A12: Opzione Verde | C12: 0,9 Euro/MWh
A14: Forniture a Prezzo Fisso a 12 mesi | M14: 44044 | N14: 44075 | O14: 44105 | P14: 44136 | Q14: 44166 | R14: 44197 | S14: 44228 | T14: 44256 | U14: 44287 | V14: 44317 | W14: 44348 | X14: 44378
A15: Acquistabile fino al: | E15: 43829 | F15: 43861 | G15: 43890 | H15: 43921 | I15: 43951 | J15: 43982 | K15: 44012 | L15: 44043 | M15: 44074 | N15: 44104 | O15: 44135 | P15: 44165
A16: Per forniture: | E16: da mar-20 | F16: da apr-20 | G16: da mag-20 | H16: da giu-20 | I16: da lug-20 | J16: da ago-20 | K16: da set-20 | L16: da ott-20 | M16: da nov-20 | N16: da dic-20 | O16: da gen-21 | P16: da feb-21
E17: a feb-21 | F17: a mar-21 | G17: a apr-21 | H17: a mag-21 | I17: a giu-21 | J17: a lug-21 | K17: a ago-21 | L17: a set-21 | M17: a ott-21 | N17: a nov-21 | O17: a dic-21 | P17: a gen-22
B18: Fascia oraria | C18: ΨFIX | E18: FIX12 | F18: FIX12 | G18: FIX12 | H18: FIX12 | I18: FIX12 | J18: FIX12 | K18: FIX12 | L18: FIX12 | M18: FIX12 | N18: FIX12 | O18: FIX12 | P18: FIX12
A19: Mono | B19: F0 | C19: 3.03 | E19: =+$C19+'DELIVERY e PRODOTTO FISSO'!$K$26 -> 61.01 | F19: =+$C19+'DELIVERY e PRODOTTO FISSO'!$K$27 -> 58.49 | G19: =+$C19+'DELIVERY e PRODOTTO FISSO'!$K$28 -> 53.94 | H19: =+$C19+'DELIVERY e PRODOTTO FISSO'!$K$29 -> 53.34 | I19: =+$C19+'DELIVERY e PRODOTTO FISSO'!$K$30 -> 45.47 | J19: =+$C19+'DELIVERY e PRODOTTO FISSO'!$K$31 -> 48.663864 | K19: =+$C19+'DELIVERY e PRODOTTO FISSO'!$K$32 -> 48.61 | L19: =+$C19+'DELIVERY e PRODOTTO FISSO'!$K$33 -> 49.85 | M19: =_xlfn.IFNA($C$19+VLOOKUP(M$14,'DELIVERY e PRODOTTO FISSO'!$I:$L,3,FALSE),"") -> 49.17 | N19: =_xlfn.IFNA($C$19+VLOOKUP(N$14,'DELIVERY e PRODOTTO FISSO'!$I:$L,3,FALSE),"") -> 52.29 | O19: =_xlfn.IFNA($C$19+VLOOKUP(O$14,'DELIVERY e PRODOTTO FISSO'!$I:$L,3,FALSE),"") -> 52.56 | P19: =_xlfn.IFNA($C$19+VLOOKUP(P$14,'DELIVERY e PRODOTTO FISSO'!$I:$L,3,FALSE),"") -> 50.32 | Q19: =_xlfn.IFNA($C$19+VLOOKUP(Q$14,'DELIVERY e PRODOTTO FISSO'!$I:$L,3,FALSE),"") | R19: =_xlfn.IFNA($C$19+VLOOKUP(R$14,'DELIVERY e PRODOTTO FISSO'!$I:$L,3,FALSE),"") | S19: =_xlfn.IFNA($C$19+VLOOKUP(S$14,'DELIVERY e PRODOTTO FISSO'!$I:$L,3,FALSE),"") | T19: =_xlfn.IFNA($C$19+VLOOKUP(T$14,'DELIVERY e PRODOTTO FISSO'!$I:$L,3,FALSE),"") | ... Z19: =_xlfn.IFNA($C$19+VLOOKUP(Z$14,'DELIVERY e PRODOTTO FISSO'!$I:$L,3,FALSE),"")
A20: Multiorari | B20: F1 | C20: 8.32 | E20: =+$C20+'DELIVERY e PRODOTTO FISSO'!$K$26 -> 66.3 | F20: =+$C20+'DELIVERY e PRODOTTO FISSO'!$K$27 -> 63.78 | G20: =+$C20+'DELIVERY e PRODOTTO FISSO'!$K$28 -> 59.23 | H20: =+$C20+'DELIVERY e PRODOTTO FISSO'!$K$29 -> 58.63 | I20: =+$C20+'DELIVERY e PRODOTTO FISSO'!$K$30 -> 50.76 | J20: =+$C20+'DELIVERY e PRODOTTO FISSO'!$K$31 -> 53.953864 | K20: =+$C20+'DELIVERY e PRODOTTO FISSO'!$K$32 -> 53.9 | L20: =+$C20+'DELIVERY e PRODOTTO FISSO'!$K$33 -> 55.14 | M20: =_xlfn.IFNA($C$20+VLOOKUP(M$14,'DELIVERY e PRODOTTO FISSO'!$I:$L,3,FALSE),"") -> 54.46 | N20: =_xlfn.IFNA($C$20+VLOOKUP(N$14,'DELIVERY e PRODOTTO FISSO'!$I:$L,3,FALSE),"") -> 57.58 | O20: =_xlfn.IFNA($C$20+VLOOKUP(O$14,'DELIVERY e PRODOTTO FISSO'!$I:$L,3,FALSE),"") -> 57.85 | P20: =_xlfn.IFNA($C$20+VLOOKUP(P$14,'DELIVERY e PRODOTTO FISSO'!$I:$L,3,FALSE),"") -> 55.61 | Q20: =_xlfn.IFNA($C$20+VLOOKUP(Q$14,'DELIVERY e PRODOTTO FISSO'!$I:$L,3,FALSE),"") | R20: =_xlfn.IFNA($C$20+VLOOKUP(R$14,'DELIVERY e PRODOTTO FISSO'!$I:$L,3,FALSE),"") | S20: =_xlfn.IFNA($C$20+VLOOKUP(S$14,'DELIVERY e PRODOTTO FISSO'!$I:$L,3,FALSE),"") | T20: =_xlfn.IFNA($C$20+VLOOKUP(T$14,'DELIVERY e PRODOTTO FISSO'!$I:$L,3,FALSE),"") | ... Z20: =_xlfn.IFNA($C$20+VLOOKUP(Z$14,'DELIVERY e PRODOTTO FISSO'!$I:$L,3,FALSE),"")
B21: F2 | C21: 7.39 | E21: =+$C21+'DELIVERY e PRODOTTO FISSO'!$K$26 -> 65.37 | F21: =+$C21+'DELIVERY e PRODOTTO FISSO'!$K$27 -> 62.85 | G21: =+$C21+'DELIVERY e PRODOTTO FISSO'!$K$28 -> 58.3 | H21: =+$C21+'DELIVERY e PRODOTTO FISSO'!$K$29 -> 57.7 | I21: =+$C21+'DELIVERY e PRODOTTO FISSO'!$K$30 -> 49.83 | J21: =+$C21+'DELIVERY e PRODOTTO FISSO'!$K$31 -> 53.023864 | K21: =+$C21+'DELIVERY e PRODOTTO FISSO'!$K$32 -> 52.97 | L21: =+$C21+'DELIVERY e PRODOTTO FISSO'!$K$33 -> 54.21 | M21: =_xlfn.IFNA($C$21+VLOOKUP(M$14,'DELIVERY e PRODOTTO FISSO'!$I:$L,3,FALSE),"") -> 53.53 | N21: =_xlfn.IFNA($C$21+VLOOKUP(N$14,'DELIVERY e PRODOTTO FISSO'!$I:$L,3,FALSE),"") -> 56.65 | O21: =_xlfn.IFNA($C$21+VLOOKUP(O$14,'DELIVERY e PRODOTTO FISSO'!$I:$L,3,FALSE),"") -> 56.92 | P21: =_xlfn.IFNA($C$21+VLOOKUP(P$14,'DELIVERY e PRODOTTO FISSO'!$I:$L,3,FALSE),"") -> 54.68 | Q21: =_xlfn.IFNA($C$21+VLOOKUP(Q$14,'DELIVERY e PRODOTTO FISSO'!$I:$L,3,FALSE),"") | R21: =_xlfn.IFNA($C$21+VLOOKUP(R$14,'DELIVERY e PRODOTTO FISSO'!$I:$L,3,FALSE),"") | S21: =_xlfn.IFNA($C$21+VLOOKUP(S$14,'DELIVERY e PRODOTTO FISSO'!$I:$L,3,FALSE),"") | T21: =_xlfn.IFNA($C$21+VLOOKUP(T$14,'DELIVERY e PRODOTTO FISSO'!$I:$L,3,FALSE),"") | ... Z21: =_xlfn.IFNA($C$21+VLOOKUP(Z$14,'DELIVERY e PRODOTTO FISSO'!$I:$L,3,FALSE),"")
B22: F3 | C22: -4.37 | E22: =+$C22+'DELIVERY e PRODOTTO FISSO'!$K$26 -> 53.61 | F22: =+$C22+'DELIVERY e PRODOTTO FISSO'!$K$27 -> 51.09 | G22: =+$C22+'DELIVERY e PRODOTTO FISSO'!$K$28 -> 46.54 | H22: =+$C22+'DELIVERY e PRODOTTO FISSO'!$K$29 -> 45.94 | I22: =+$C22+'DELIVERY e PRODOTTO FISSO'!$K$30 -> 38.07 | J22: =+$C22+'DELIVERY e PRODOTTO FISSO'!$K$31 -> 41.263864 | K22: =+$C22+'DELIVERY e PRODOTTO FISSO'!$K$32 -> 41.21 | L22: =+$C22+'DELIVERY e PRODOTTO FISSO'!$K$33 -> 42.45 | M22: =_xlfn.IFNA($C$22+VLOOKUP(M$14,'DELIVERY e PRODOTTO FISSO'!$I:$L,3,FALSE),"") -> 41.77 | N22: =_xlfn.IFNA($C$22+VLOOKUP(N$14,'DELIVERY e PRODOTTO FISSO'!$I:$L,3,FALSE),"") -> 44.89 | O22: =_xlfn.IFNA($C$22+VLOOKUP(O$14,'DELIVERY e PRODOTTO FISSO'!$I:$L,3,FALSE),"") -> 45.16 | P22: =_xlfn.IFNA($C$22+VLOOKUP(P$14,'DELIVERY e PRODOTTO FISSO'!$I:$L,3,FALSE),"") -> 42.92 | Q22: =_xlfn.IFNA($C$22+VLOOKUP(Q$14,'DELIVERY e PRODOTTO FISSO'!$I:$L,3,FALSE),"") | R22: =_xlfn.IFNA($C$22+VLOOKUP(R$14,'DELIVERY e PRODOTTO FISSO'!$I:$L,3,FALSE),"") | S22: =_xlfn.IFNA($C$22+VLOOKUP(S$14,'DELIVERY e PRODOTTO FISSO'!$I:$L,3,FALSE),"") | T22: =_xlfn.IFNA($C$22+VLOOKUP(T$14,'DELIVERY e PRODOTTO FISSO'!$I:$L,3,FALSE),"") | ... Z22: =_xlfn.IFNA($C$22+VLOOKUP(Z$14,'DELIVERY e PRODOTTO FISSO'!$I:$L,3,FALSE),"")
A23: LOTTO 6 - Prezzi Fissi al netto delle perdite di rete (Euro/MWh)
A26: Forniture a Prezzo Fisso a 18 mesi
A27: Acquistabile fino al: | E27: 43829 | F27: 43861 | G27: 43890 | H27: 43921 | I27: 43951 | J27: 43982 | K27: 44012 | L27: 44043 | M27: 44074 | N27: 44104 | O27: 44135 | P27: 44165
A28: Per forniture: | E28: da mar-20 | F28: da apr-20 | G28: da mag-20 | H28: da giu-20 | I28: da lug-20 | J28: da ago-20 | K28: da set-20 | L28: da ott-20 | M28: da nov-20 | N28: da dic-20 | O28: da gen-21 | P28: da feb-21
E29: a ago-21 | F29: a set-21 | G29: a ott-21 | H29: a nov-21 | I29: a dic-21 | J29: a gen-22 | K29: a feb-22 | L29: a mar-22 | M29: a apr-22 | N29: a mag-22 | O29: a giu-22 | P29: a lug-22
B30: Fascia oraria | C30: ΨFIX | E30: FIX18 | F30: FIX18 | G30: FIX18 | H30: FIX18 | I30: FIX18 | J30: FIX18 | K30: FIX18 | L30: FIX18 | M30: FIX18 | N30: FIX18 | O30: FIX18 | P30: FIX18
A31: Mono | B31: F0 | C31: 3.03 | E31: =+$C31+'DELIVERY e PRODOTTO FISSO'!$L$26 -> 60.13 | F31: =+$C31+'DELIVERY e PRODOTTO FISSO'!$L$27 -> 57.57 | G31: =+$C31+'DELIVERY e PRODOTTO FISSO'!$L$28 -> 53.73 | H31: =+$C31+'DELIVERY e PRODOTTO FISSO'!$L$29 -> 54.29 | I31: =+$C31+'DELIVERY e PRODOTTO FISSO'!$L$30 -> 46.44 | J31: =+$C31+'DELIVERY e PRODOTTO FISSO'!$L$31 -> 49.28803 | K31: =+$C31+'DELIVERY e PRODOTTO FISSO'!$L$32 -> 50.26 | L31: =+$C31+'DELIVERY e PRODOTTO FISSO'!$L$33 -> 51.76 | M31: =_xlfn.IFNA($C$31+VLOOKUP(M$14,'DELIVERY e PRODOTTO FISSO'!$I:$L,4,FALSE),"") -> 51.28 | N31: =_xlfn.IFNA($C$31+VLOOKUP(N$14,'DELIVERY e PRODOTTO FISSO'!$I:$L,4,FALSE),"") -> 53.23 | O31: =_xlfn.IFNA($C$31+VLOOKUP(O$14,'DELIVERY e PRODOTTO FISSO'!$I:$L,4,FALSE),"") -> 52.48 | P31: =_xlfn.IFNA($C$31+VLOOKUP(P$14,'DELIVERY e PRODOTTO FISSO'!$I:$L,4,FALSE),"") -> 50.24 | Q31: =_xlfn.IFNA($C$31+VLOOKUP(Q$14,'DELIVERY e PRODOTTO FISSO'!$I:$L,4,FALSE),"") | R31: =_xlfn.IFNA($C$31+VLOOKUP(R$14,'DELIVERY e PRODOTTO FISSO'!$I:$L,4,FALSE),"") | S31: =_xlfn.IFNA($C$31+VLOOKUP(S$14,'DELIVERY e PRODOTTO FISSO'!$I:$L,4,FALSE),"") | T31: =_xlfn.IFNA($C$31+VLOOKUP(T$14,'DELIVERY e PRODOTTO FISSO'!$I:$L,4,FALSE),"") | ... Z31: =_xlfn.IFNA($C$31+VLOOKUP(Z$14,'DELIVERY e PRODOTTO FISSO'!$I:$L,4,FALSE),"")
A32: Multiorari | B32: F1 | C32: 8.32 | E32: =+$C32+'DELIVERY e PRODOTTO FISSO'!$L$26 -> 65.42 | F32: =+$C32+'DELIVERY e PRODOTTO FISSO'!$L$27 -> 62.86 | G32: =+$C32+'DELIVERY e PRODOTTO FISSO'!$L$28 -> 59.02 | H32: =+$C32+'DELIVERY e PRODOTTO FISSO'!$L$29 -> 59.58 | I32: =+$C32+'DELIVERY e PRODOTTO FISSO'!$L$30 -> 51.73 | J32: =+$C32+'DELIVERY e PRODOTTO FISSO'!$L$31 -> 54.57803 | K32: =+$C32+'DELIVERY e PRODOTTO FISSO'!$L$32 -> 55.55 | L32: =+$C32+'DELIVERY e PRODOTTO FISSO'!$L$33 -> 57.05 | M32: =_xlfn.IFNA($C$32+VLOOKUP(M$14,'DELIVERY e PRODOTTO FISSO'!$I:$L,4,FALSE),"") -> 56.57 | N32: =_xlfn.IFNA($C$32+VLOOKUP(N$14,'DELIVERY e PRODOTTO FISSO'!$I:$L,4,FALSE),"") -> 58.52 | O32: =_xlfn.IFNA($C$32+VLOOKUP(O$14,'DELIVERY e PRODOTTO FISSO'!$I:$L,4,FALSE),"") -> 57.77 | P32: =_xlfn.IFNA($C$32+VLOOKUP(P$14,'DELIVERY e PRODOTTO FISSO'!$I:$L,4,FALSE),"") -> 55.53 | Q32: =_xlfn.IFNA($C$32+VLOOKUP(Q$14,'DELIVERY e PRODOTTO FISSO'!$I:$L,4,FALSE),"") | R32: =_xlfn.IFNA($C$32+VLOOKUP(R$14,'DELIVERY e PRODOTTO FISSO'!$I:$L,4,FALSE),"") | S32: =_xlfn.IFNA($C$32+VLOOKUP(S$14,'DELIVERY e PRODOTTO FISSO'!$I:$L,4,FALSE),"") | T32: =_xlfn.IFNA($C$32+VLOOKUP(T$14,'DELIVERY e PRODOTTO FISSO'!$I:$L,4,FALSE),"") | ... Z32: =_xlfn.IFNA($C$32+VLOOKUP(Z$14,'DELIVERY e PRODOTTO FISSO'!$I:$L,4,FALSE),"")
B33: F2 | C33: 7.39 | E33: =+$C33+'DELIVERY e PRODOTTO FISSO'!$L$26 -> 64.49 | F33: =+$C33+'DELIVERY e PRODOTTO FISSO'!$L$27 -> 61.93 | G33: =+$C33+'DELIVERY e PRODOTTO FISSO'!$L$28 -> 58.09 | H33: =+$C33+'DELIVERY e PRODOTTO FISSO'!$L$29 -> 58.65 | I33: =+$C33+'DELIVERY e PRODOTTO FISSO'!$L$30 -> 50.8 | J33: =+$C33+'DELIVERY e PRODOTTO FISSO'!$L$31 -> 53.64803 | K33: =+$C33+'DELIVERY e PRODOTTO FISSO'!$L$32 -> 54.62 | L33: =+$C33+'DELIVERY e PRODOTTO FISSO'!$L$33 -> 56.12 | M33: =_xlfn.IFNA($C$33+VLOOKUP(M$14,'DELIVERY e PRODOTTO FISSO'!$I:$L,4,FALSE),"") -> 55.64 | N33: =_xlfn.IFNA($C$33+VLOOKUP(N$14,'DELIVERY e PRODOTTO FISSO'!$I:$L,4,FALSE),"") -> 57.59 | O33: =_xlfn.IFNA($C$33+VLOOKUP(O$14,'DELIVERY e PRODOTTO FISSO'!$I:$L,4,FALSE),"") -> 56.84 | P33: =_xlfn.IFNA($C$33+VLOOKUP(P$14,'DELIVERY e PRODOTTO FISSO'!$I:$L,4,FALSE),"") -> 54.6 | Q33: =_xlfn.IFNA($C$33+VLOOKUP(Q$14,'DELIVERY e PRODOTTO FISSO'!$I:$L,4,FALSE),"") | R33: =_xlfn.IFNA($C$33+VLOOKUP(R$14,'DELIVERY e PRODOTTO FISSO'!$I:$L,4,FALSE),"") | S33: =_xlfn.IFNA($C$33+VLOOKUP(S$14,'DELIVERY e PRODOTTO FISSO'!$I:$L,4,FALSE),"") | T33: =_xlfn.IFNA($C$33+VLOOKUP(T$14,'DELIVERY e PRODOTTO FISSO'!$I:$L,4,FALSE),"") | ... Z33: =_xlfn.IFNA($C$33+VLOOKUP(Z$14,'DELIVERY e PRODOTTO FISSO'!$I:$L,4,FALSE),"")
B34: F3 | C34: -4.37 | E34: =+$C34+'DELIVERY e PRODOTTO FISSO'!$L$26 -> 52.73 | F34: =+$C34+'DELIVERY e PRODOTTO FISSO'!$L$27 -> 50.17 | G34: =+$C34+'DELIVERY e PRODOTTO FISSO'!$L$28 -> 46.33 | H34: =+$C34+'DELIVERY e PRODOTTO FISSO'!$L$29 -> 46.89 | I34: =+$C34+'DELIVERY e PRODOTTO FISSO'!$L$30 -> 39.04 | J34: =+$C34+'DELIVERY e PRODOTTO FISSO'!$L$31 -> 41.88803 | K34: =+$C34+'DELIVERY e PRODOTTO FISSO'!$L$32 -> 42.86 | L34: =+$C34+'DELIVERY e PRODOTTO FISSO'!$L$33 -> 44.36 | M34: =_xlfn.IFNA($C$34+VLOOKUP(M$14,'DELIVERY e PRODOTTO FISSO'!$I:$L,4,FALSE),"") -> 43.88 | N34: =_xlfn.IFNA($C$34+VLOOKUP(N$14,'DELIVERY e PRODOTTO FISSO'!$I:$L,4,FALSE),"") -> 45.83 | O34: =_xlfn.IFNA($C$34+VLOOKUP(O$14,'DELIVERY e PRODOTTO FISSO'!$I:$L,4,FALSE),"") -> 45.08 | P34: =_xlfn.IFNA($C$34+VLOOKUP(P$14,'DELIVERY e PRODOTTO FISSO'!$I:$L,4,FALSE),"") -> 42.84 | Q34: =_xlfn.IFNA($C$34+VLOOKUP(Q$14,'DELIVERY e PRODOTTO FISSO'!$I:$L,4,FALSE),"") | R34: =_xlfn.IFNA($C$34+VLOOKUP(R$14,'DELIVERY e PRODOTTO FISSO'!$I:$L,4,FALSE),"") | S34: =_xlfn.IFNA($C$34+VLOOKUP(S$14,'DELIVERY e PRODOTTO FISSO'!$I:$L,4,FALSE),"") | T34: =_xlfn.IFNA($C$34+VLOOKUP(T$14,'DELIVERY e PRODOTTO FISSO'!$I:$L,4,FALSE),"") | ... Z34: =_xlfn.IFNA($C$34+VLOOKUP(Z$14,'DELIVERY e PRODOTTO FISSO'!$I:$L,4,FALSE),"")
A35: LOTTO 6 - Prezzi Fissi al netto delle perdite di rete (Euro/MWh)

Sheet Lotto 7
Q1: torna al SOMMARIO
A4: Energia elettrica 17
A5: Convenzione per la fornitura di energia elettrica a prezzo fisso o a prezzo variabile e servizi connessi per tutte le Pubbliche Amministrazioni
A7: Configuratore corrispettivi a Prezzo Fisso per la fornitura di Energia Elettrica edizione 17
A9: =+SOMMARIO!A16 -> Lotto 7: Sardegna, Liguria
A11: Sconto PA Virtuose S | C11: 0,68 Euro/MWh
A12: Opzione Verde | C12: 1,10 Euro/MWh
A14: Forniture a Prezzo Fisso a 12 mesi | M14: 44044 | N14: 44075 | O14: 44105 | P14: 44136 | Q14: 44166 | R14: 44197 | S14: 44228 | T14: 44256 | U14: 44287 | V14: 44317 | W14: 44348 | X14: 44378
A15: Acquistabile fino al: | E15: 43829 | F15: 43861 | G15: 43890 | H15: 43921 | I15: 43951 | J15: 43982 | K15: 44012 | L15: 44043 | M15: 44074 | N15: 44104 | O15: 44135 | P15: 44165
A16: Per forniture: | E16: da mar-20 | F16: da apr-20 | G16: da mag-20 | H16: da giu-20 | I16: da lug-20 | J16: da ago-20 | K16: da set-20 | L16: da ott-20 | M16: da nov-20 | N16: da dic-20 | O16: da gen-21 | P16: da feb-21
E17: a feb-21 | F17: a mar-21 | G17: a apr-21 | H17: a mag-21 | I17: a giu-21 | J17: a lug-21 | K17: a ago-21 | L17: a set-21 | M17: a ott-21 | N17: a nov-21 | O17: a dic-21 | P17: a gen-22
B18: Fascia oraria | C18: ΨFIX | E18: FIX12 | F18: FIX12 | G18: FIX12 | H18: FIX12 | I18: FIX12 | J18: FIX12 | K18: FIX12 | L18: FIX12 | M18: FIX12 | N18: FIX12 | O18: FIX12 | P18: FIX12
A19: Mono | B19: F0 | C19: 1.82 | E19: =+$C19+'DELIVERY e PRODOTTO FISSO'!$K$26 -> 59.8 | F19: =+$C19+'DELIVERY e PRODOTTO FISSO'!$K$27 -> 57.28 | G19: =+$C19+'DELIVERY e PRODOTTO FISSO'!$K$28 -> 52.73 | H19: =+$C19+'DELIVERY e PRODOTTO FISSO'!$K$29 -> 52.13 | I19: =+$C19+'DELIVERY e PRODOTTO FISSO'!$K$30 -> 44.26 | J19: =+$C19+'DELIVERY e PRODOTTO FISSO'!$K$31 -> 47.453864 | K19: =+$C19+'DELIVERY e PRODOTTO FISSO'!$K$32 -> 47.4 | L19: =+$C19+'DELIVERY e PRODOTTO FISSO'!$K$33 -> 48.64 | M19: =_xlfn.IFNA($C$19+VLOOKUP(M$14,'DELIVERY e PRODOTTO FISSO'!$I:$L,3,FALSE),"") -> 47.96 | N19: =_xlfn.IFNA($C$19+VLOOKUP(N$14,'DELIVERY e PRODOTTO FISSO'!$I:$L,3,FALSE),"") -> 51.08 | O19: =_xlfn.IFNA($C$19+VLOOKUP(O$14,'DELIVERY e PRODOTTO FISSO'!$I:$L,3,FALSE),"") -> 51.35 | P19: =_xlfn.IFNA($C$19+VLOOKUP(P$14,'DELIVERY e PRODOTTO FISSO'!$I:$L,3,FALSE),"") -> 49.11 | Q19: =_xlfn.IFNA($C$19+VLOOKUP(Q$14,'DELIVERY e PRODOTTO FISSO'!$I:$L,3,FALSE),"") | R19: =_xlfn.IFNA($C$19+VLOOKUP(R$14,'DELIVERY e PRODOTTO FISSO'!$I:$L,3,FALSE),"") | S19: =_xlfn.IFNA($C$19+VLOOKUP(S$14,'DELIVERY e PRODOTTO FISSO'!$I:$L,3,FALSE),"") | T19: =_xlfn.IFNA($C$19+VLOOKUP(T$14,'DELIVERY e PRODOTTO FISSO'!$I:$L,3,FALSE),"") | ... Z19: =_xlfn.IFNA($C$19+VLOOKUP(Z$14,'DELIVERY e PRODOTTO FISSO'!$I:$L,3,FALSE),"")
A20: Multiorari | B20: F1 | C20: 0.1 | E20: =+$C20+'DELIVERY e PRODOTTO FISSO'!$K$26 -> 58.08 | F20: =+$C20+'DELIVERY e PRODOTTO FISSO'!$K$27 -> 55.56 | G20: =+$C20+'DELIVERY e PRODOTTO FISSO'!$K$28 -> 51.01 | H20: =+$C20+'DELIVERY e PRODOTTO FISSO'!$K$29 -> 50.41 | I20: =+$C20+'DELIVERY e PRODOTTO FISSO'!$K$30 -> 42.54 | J20: =+$C20+'DELIVERY e PRODOTTO FISSO'!$K$31 -> 45.733864 | K20: =+$C20+'DELIVERY e PRODOTTO FISSO'!$K$32 -> 45.68 | L20: =+$C20+'DELIVERY e PRODOTTO FISSO'!$K$33 -> 46.92 | M20: =_xlfn.IFNA($C$20+VLOOKUP(M$14,'DELIVERY e PRODOTTO FISSO'!$I:$L,3,FALSE),"") -> 46.24 | N20: =_xlfn.IFNA($C$20+VLOOKUP(N$14,'DELIVERY e PRODOTTO FISSO'!$I:$L,3,FALSE),"") -> 49.36 | O20: =_xlfn.IFNA($C$20+VLOOKUP(O$14,'DELIVERY e PRODOTTO FISSO'!$I:$L,3,FALSE),"") -> 49.63 | P20: =_xlfn.IFNA($C$20+VLOOKUP(P$14,'DELIVERY e PRODOTTO FISSO'!$I:$L,3,FALSE),"") -> 47.39 | Q20: =_xlfn.IFNA($C$20+VLOOKUP(Q$14,'DELIVERY e PRODOTTO FISSO'!$I:$L,3,FALSE),"") | R20: =_xlfn.IFNA($C$20+VLOOKUP(R$14,'DELIVERY e PRODOTTO FISSO'!$I:$L,3,FALSE),"") | S20: =_xlfn.IFNA($C$20+VLOOKUP(S$14,'DELIVERY e PRODOTTO FISSO'!$I:$L,3,FALSE),"") | T20: =_xlfn.IFNA($C$20+VLOOKUP(T$14,'DELIVERY e PRODOTTO FISSO'!$I:$L,3,FALSE),"") | ... Z20: =_xlfn.IFNA($C$20+VLOOKUP(Z$14,'DELIVERY e PRODOTTO FISSO'!$I:$L,3,FALSE),"")
B21: F2 | C21: 0.1 | E21: =+$C21+'DELIVERY e PRODOTTO FISSO'!$K$26 -> 58.08 | F21: =+$C21+'DELIVERY e PRODOTTO FISSO'!$K$27 -> 55.56 | G21: =+$C21+'DELIVERY e PRODOTTO FISSO'!$K$28 -> 51.01 | H21: =+$C21+'DELIVERY e PRODOTTO FISSO'!$K$29 -> 50.41 | I21: =+$C21+'DELIVERY e PRODOTTO FISSO'!$K$30 -> 42.54 | J21: =+$C21+'DELIVERY e PRODOTTO FISSO'!$K$31 -> 45.733864 | K21: =+$C21+'DELIVERY e PRODOTTO FISSO'!$K$32 -> 45.68 | L21: =+$C21+'DELIVERY e PRODOTTO FISSO'!$K$33 -> 46.92 | M21: =_xlfn.IFNA($C$21+VLOOKUP(M$14,'DELIVERY e PRODOTTO FISSO'!$I:$L,3,FALSE),"") -> 46.24 | N21: =_xlfn.IFNA($C$21+VLOOKUP(N$14,'DELIVERY e PRODOTTO FISSO'!$I:$L,3,FALSE),"") -> 49.36 | O21: =_xlfn.IFNA($C$21+VLOOKUP(O$14,'DELIVERY e PRODOTTO FISSO'!$I:$L,3,FALSE),"") -> 49.63 | P21: =_xlfn.IFNA($C$21+VLOOKUP(P$14,'DELIVERY e PRODOTTO FISSO'!$I:$L,3,FALSE),"") -> 47.39 | Q21: =_xlfn.IFNA($C$21+VLOOKUP(Q$14,'DELIVERY e PRODOTTO FISSO'!$I:$L,3,FALSE),"") | R21: =_xlfn.IFNA($C$21+VLOOKUP(R$14,'DELIVERY e PRODOTTO FISSO'!$I:$L,3,FALSE),"") | S21: =_xlfn.IFNA($C$21+VLOOKUP(S$14,'DELIVERY e PRODOTTO FISSO'!$I:$L,3,FALSE),"") | T21: =_xlfn.IFNA($C$21+VLOOKUP(T$14,'DELIVERY e PRODOTTO FISSO'!$I:$L,3,FALSE),"") | ... Z21: =_xlfn.IFNA($C$21+VLOOKUP(Z$14,'DELIVERY e PRODOTTO FISSO'!$I:$L,3,FALSE),"")
B22: F3 | C22: 4.4 | E22: =+$C22+'DELIVERY e PRODOTTO FISSO'!$K$26 -> 62.38 | F22: =+$C22+'DELIVERY e PRODOTTO FISSO'!$K$27 -> 59.86 | G22: =+$C22+'DELIVERY e PRODOTTO FISSO'!$K$28 -> 55.31 | H22: =+$C22+'DELIVERY e PRODOTTO FISSO'!$K$29 -> 54.71 | I22: =+$C22+'DELIVERY e PRODOTTO FISSO'!$K$30 -> 46.84 | J22: =+$C22+'DELIVERY e PRODOTTO FISSO'!$K$31 -> 50.033864 | K22: =+$C22+'DELIVERY e PRODOTTO FISSO'!$K$32 -> 49.98 | L22: =+$C22+'DELIVERY e PRODOTTO FISSO'!$K$33 -> 51.22 | M22: =_xlfn.IFNA($C$22+VLOOKUP(M$14,'DELIVERY e PRODOTTO FISSO'!$I:$L,3,FALSE),"") -> 50.54 | N22: =_xlfn.IFNA($C$22+VLOOKUP(N$14,'DELIVERY e PRODOTTO FISSO'!$I:$L,3,FALSE),"") -> 53.66 | O22: =_xlfn.IFNA($C$22+VLOOKUP(O$14,'DELIVERY e PRODOTTO FISSO'!$I:$L,3,FALSE),"") -> 53.93 | P22: =_xlfn.IFNA($C$22+VLOOKUP(P$14,'DELIVERY e PRODOTTO FISSO'!$I:$L,3,FALSE),"") -> 51.69 | Q22: =_xlfn.IFNA($C$22+VLOOKUP(Q$14,'DELIVERY e PRODOTTO FISSO'!$I:$L,3,FALSE),"") | R22: =_xlfn.IFNA($C$22+VLOOKUP(R$14,'DELIVERY e PRODOTTO FISSO'!$I:$L,3,FALSE),"") | S22: =_xlfn.IFNA($C$22+VLOOKUP(S$14,'DELIVERY e PRODOTTO FISSO'!$I:$L,3,FALSE),"") | T22: =_xlfn.IFNA($C$22+VLOOKUP(T$14,'DELIVERY e PRODOTTO FISSO'!$I:$L,3,FALSE),"") | ... Z22: =_xlfn.IFNA($C$22+VLOOKUP(Z$14,'DELIVERY e PRODOTTO FISSO'!$I:$L,3,FALSE),"")
A23: LOTTO 7 - Prezzi Fissi al netto delle perdite di rete (Euro/MWh)
A26: Forniture a Prezzo Fisso a 18 mesi
A27: Acquistabile fino al: | E27: 43829 | F27: 43861 | G27: 43890 | H27: 43921 | I27: 43951 | J27: 43982 | K27: 44012 | L27: 44043 | M27: 44074 | N27: 44104 | O27: 44135 | P27: 44165
A28: Per forniture: | E28: da mar-20 | F28: da apr-20 | G28: da mag-20 | H28: da giu-20 | I28: da lug-20 | J28: da ago-20 | K28: da set-20 | L28: da ott-20 | M28: da nov-20 | N28: da dic-20 | O28: da gen-21 | P28: da feb-21
E29: a ago-21 | F29: a set-21 | G29: a ott-21 | H29: a nov-21 | I29: a dic-21 | J29: a gen-22 | K29: a feb-22 | L29: a mar-22 | M29: a apr-22 | N29: a mag-22 | O29: a giu-22 | P29: a lug-22
B30: Fascia oraria | C30: ΨFIX | E30: FIX18 | F30: FIX18 | G30: FIX18 | H30: FIX18 | I30: FIX18 | J30: FIX18 | K30: FIX18 | L30: FIX18 | M30: FIX18 | N30: FIX18 | O30: FIX18 | P30: FIX18
A31: Mono | B31: F0 | C31: 1.82 | E31: =+$C31+'DELIVERY e PRODOTTO FISSO'!$L$26 -> 58.92 | F31: =+$C31+'DELIVERY e PRODOTTO FISSO'!$L$27 -> 56.36 | G31: =+$C31+'DELIVERY e PRODOTTO FISSO'!$L$28 -> 52.52 | H31: =+$C31+'DELIVERY e PRODOTTO FISSO'!$L$29 -> 53.08 | I31: =+$C31+'DELIVERY e PRODOTTO FISSO'!$L$30 -> 45.23 | J31: =+$C31+'DELIVERY e PRODOTTO FISSO'!$L$31 -> 48.07803 | K31: =+$C31+'DELIVERY e PRODOTTO FISSO'!$L$32 -> 49.05 | L31: =+$C31+'DELIVERY e PRODOTTO FISSO'!$L$33 -> 50.55 | M31: =_xlfn.IFNA($C$31+VLOOKUP(M$14,'DELIVERY e PRODOTTO FISSO'!$I:$L,4,FALSE),"") -> 50.07 | N31: =_xlfn.IFNA($C$31+VLOOKUP(N$14,'DELIVERY e PRODOTTO FISSO'!$I:$L,4,FALSE),"") -> 52.02 | O31: =_xlfn.IFNA($C$31+VLOOKUP(O$14,'DELIVERY e PRODOTTO FISSO'!$I:$L,4,FALSE),"") -> 51.27 | P31: =_xlfn.IFNA($C$31+VLOOKUP(P$14,'DELIVERY e PRODOTTO FISSO'!$I:$L,4,FALSE),"") -> 49.03 | Q31: =_xlfn.IFNA($C$31+VLOOKUP(Q$14,'DELIVERY e PRODOTTO FISSO'!$I:$L,4,FALSE),"") | R31: =_xlfn.IFNA($C$31+VLOOKUP(R$14,'DELIVERY e PRODOTTO FISSO'!$I:$L,4,FALSE),"") | S31: =_xlfn.IFNA($C$31+VLOOKUP(S$14,'DELIVERY e PRODOTTO FISSO'!$I:$L,4,FALSE),"") | T31: =_xlfn.IFNA($C$31+VLOOKUP(T$14,'DELIVERY e PRODOTTO FISSO'!$I:$L,4,FALSE),"") | ... Z31: =_xlfn.IFNA($C$31+VLOOKUP(Z$14,'DELIVERY e PRODOTTO FISSO'!$I:$L,4,FALSE),"")
A32: Multiorari | B32: F1 | C32: 0.1 | E32: =+$C32+'DELIVERY e PRODOTTO FISSO'!$L$26 -> 57.2 | F32: =+$C32+'DELIVERY e PRODOTTO FISSO'!$L$27 -> 54.64 | G32: =+$C32+'DELIVERY e PRODOTTO FISSO'!$L$28 -> 50.8 | H32: =+$C32+'DELIVERY e PRODOTTO FISSO'!$L$29 -> 51.36 | I32: =+$C32+'DELIVERY e PRODOTTO FISSO'!$L$30 -> 43.51 | J32: =+$C32+'DELIVERY e PRODOTTO FISSO'!$L$31 -> 46.35803 | K32: =+$C32+'DELIVERY e PRODOTTO FISSO'!$L$32 -> 47.33 | L32: =+$C32+'DELIVERY e PRODOTTO FISSO'!$L$33 -> 48.83 | M32: =_xlfn.IFNA($C$32+VLOOKUP(M$14,'DELIVERY e PRODOTTO FISSO'!$I:$L,4,FALSE),"") -> 48.35 | N32: =_xlfn.IFNA($C$32+VLOOKUP(N$14,'DELIVERY e PRODOTTO FISSO'!$I:$L,4,FALSE),"") -> 50.3 | O32: =_xlfn.IFNA($C$32+VLOOKUP(O$14,'DELIVERY e PRODOTTO FISSO'!$I:$L,4,FALSE),"") -> 49.55 | P32: =_xlfn.IFNA($C$32+VLOOKUP(P$14,'DELIVERY e PRODOTTO FISSO'!$I:$L,4,FALSE),"") -> 47.31 | Q32: =_xlfn.IFNA($C$32+VLOOKUP(Q$14,'DELIVERY e PRODOTTO FISSO'!$I:$L,4,FALSE),"") | R32: =_xlfn.IFNA($C$32+VLOOKUP(R$14,'DELIVERY e PRODOTTO FISSO'!$I:$L,4,FALSE),"") | S32: =_xlfn.IFNA($C$32+VLOOKUP(S$14,'DELIVERY e PRODOTTO FISSO'!$I:$L,4,FALSE),"") | T32: =_xlfn.IFNA($C$32+VLOOKUP(T$14,'DELIVERY e PRODOTTO FISSO'!$I:$L,4,FALSE),"") | ... Z32: =_xlfn.IFNA($C$32+VLOOKUP(Z$14,'DELIVERY e PRODOTTO FISSO'!$I:$L,4,FALSE),"")
B33: F2 | C33: 0.1 | E33: =+$C33+'DELIVERY e PRODOTTO FISSO'!$L$26 -> 57.2 | F33: =+$C33+'DELIVERY e PRODOTTO FISSO'!$L$27 -> 54.64 | G33: =+$C33+'DELIVERY e PRODOTTO FISSO'!$L$28 -> 50.8 | H33: =+$C33+'DELIVERY e PRODOTTO FISSO'!$L$29 -> 51.36 | I33: =+$C33+'DELIVERY e PRODOTTO FISSO'!$L$30 -> 43.51 | J33: =+$C33+'DELIVERY e PRODOTTO FISSO'!$L$31 -> 46.35803 | K33: =+$C33+'DELIVERY e PRODOTTO FISSO'!$L$32 -> 47.33 | L33: =+$C33+'DELIVERY e PRODOTTO FISSO'!$L$33 -> 48.83 | M33: =_xlfn.IFNA($C$33+VLOOKUP(M$14,'DELIVERY e PRODOTTO FISSO'!$I:$L,4,FALSE),"") -> 48.35 | N33: =_xlfn.IFNA($C$33+VLOOKUP(N$14,'DELIVERY e PRODOTTO FISSO'!$I:$L,4,FALSE),"") -> 50.3 | O33: =_xlfn.IFNA($C$33+VLOOKUP(O$14,'DELIVERY e PRODOTTO FISSO'!$I:$L,4,FALSE),"") -> 49.55 | P33: =_xlfn.IFNA($C$33+VLOOKUP(P$14,'DELIVERY e PRODOTTO FISSO'!$I:$L,4,FALSE),"") -> 47.31 | Q33: =_xlfn.IFNA($C$33+VLOOKUP(Q$14,'DELIVERY e PRODOTTO FISSO'!$I:$L,4,FALSE),"") | R33: =_xlfn.IFNA($C$33+VLOOKUP(R$14,'DELIVERY e PRODOTTO FISSO'!$I:$L,4,FALSE),"") | S33: =_xlfn.IFNA($C$33+VLOOKUP(S$14,'DELIVERY e PRODOTTO FISSO'!$I:$L,4,FALSE),"") | T33: =_xlfn.IFNA($C$33+VLOOKUP(T$14,'DELIVERY e PRODOTTO FISSO'!$I:$L,4,FALSE),"") | ... Z33: =_xlfn.IFNA($C$33+VLOOKUP(Z$14,'DELIVERY e PRODOTTO FISSO'!$I:$L,4,FALSE),"")
B34: F3 | C34: 4.4 | E34: =+$C34+'DELIVERY e PRODOTTO FISSO'!$L$26 -> 61.5 | F34: =+$C34+'DELIVERY e PRODOTTO FISSO'!$L$27 -> 58.94 | G34: =+$C34+'DELIVERY e PRODOTTO FISSO'!$L$28 -> 55.1 | H34: =+$C34+'DELIVERY e PRODOTTO FISSO'!$L$29 -> 55.66 | I34: =+$C34+'DELIVERY e PRODOTTO FISSO'!$L$30 -> 47.81 | J34: =+$C34+'DELIVERY e PRODOTTO FISSO'!$L$31 -> 50.65803 | K34: =+$C34+'DELIVERY e PRODOTTO FISSO'!$L$32 -> 51.63 | L34: =+$C34+'DELIVERY e PRODOTTO FISSO'!$L$33 -> 53.13 | M34: =_xlfn.IFNA($C$34+VLOOKUP(M$14,'DELIVERY e PRODOTTO FISSO'!$I:$L,4,FALSE),"") -> 52.65 | N34: =_xlfn.IFNA($C$34+VLOOKUP(N$14,'DELIVERY e PRODOTTO FISSO'!$I:$L,4,FALSE),"") -> 54.6 | O34: =_xlfn.IFNA($C$34+VLOOKUP(O$14,'DELIVERY e PRODOTTO FISSO'!$I:$L,4,FALSE),"") -> 53.85 | P34: =_xlfn.IFNA($C$34+VLOOKUP(P$14,'DELIVERY e PRODOTTO FISSO'!$I:$L,4,FALSE),"") -> 51.61 | Q34: =_xlfn.IFNA($C$34+VLOOKUP(Q$14,'DELIVERY e PRODOTTO FISSO'!$I:$L,4,FALSE),"") | R34: =_xlfn.IFNA($C$34+VLOOKUP(R$14,'DELIVERY e PRODOTTO FISSO'!$I:$L,4,FALSE),"") | S34: =_xlfn.IFNA($C$34+VLOOKUP(S$14,'DELIVERY e PRODOTTO FISSO'!$I:$L,4,FALSE),"") | T34: =_xlfn.IFNA($C$34+VLOOKUP(T$14,'DELIVERY e PRODOTTO FISSO'!$I:$L,4,FALSE),"") | ... Z34: =_xlfn.IFNA($C$34+VLOOKUP(Z$14,'DELIVERY e PRODOTTO FISSO'!$I:$L,4,FALSE),"")
A35: LOTTO 7 - Prezzi Fissi al netto delle perdite di rete (Euro/MWh)

Sheet Lotto 8
Q1: torna al SOMMARIO
A4: Energia elettrica 17
A5: Convenzione per la fornitura di energia elettrica a prezzo fisso o a prezzo variabile e servizi connessi per tutte le Pubbliche Amministrazioni
A7: Configuratore corrispettivi a Prezzo Fisso per la fornitura di Energia Elettrica edizione 17
A9: =+SOMMARIO!A17 -> Lotto 8: Toscana
A11: Sconto PA Virtuose S | C11: 0,10 Euro/MWh
A12: Opzione Verde | C12: 0,9 Euro/MWh
A14: Forniture a Prezzo Fisso a 12 mesi | M14: 44044 | N14: 44075 | O14: 44105 | P14: 44136 | Q14: 44166 | R14: 44197 | S14: 44228 | T14: 44256 | U14: 44287 | V14: 44317 | W14: 44348 | X14: 44378
A15: Acquistabile fino al: | E15: 43829 | F15: 43861 | G15: 43890 | H15: 43921 | I15: 43951 | J15: 43982 | K15: 44012 | L15: 44043 | M15: 44074 | N15: 44104 | O15: 44135 | P15: 44165
A16: Per forniture: | E16: da mar-20 | F16: da apr-20 | G16: da mag-20 | H16: da giu-20 | I16: da lug-20 | J16: da ago-20 | K16: da set-20 | L16: da ott-20 | M16: da nov-20 | N16: da dic-20 | O16: da gen-21 | P16: da feb-21
E17: a feb-21 | F17: a mar-21 | G17: a apr-21 | H17: a mag-21 | I17: a giu-21 | J17: a lug-21 | K17: a ago-21 | L17: a set-21 | M17: a ott-21 | N17: a nov-21 | O17: a dic-21 | P17: a gen-22
B18: Fascia oraria | C18: ΨFIX | E18: FIX12 | F18: FIX12 | G18: FIX12 | H18: FIX12 | I18: FIX12 | J18: FIX12 | K18: FIX12 | L18: FIX12 | M18: FIX12 | N18: FIX12 | O18: FIX12 | P18: FIX12
A19: Mono | B19: F0 | C19: 3.38 | E19: =+$C19+'DELIVERY e PRODOTTO FISSO'!$K$26 -> 61.36 | F19: =+$C19+'DELIVERY e PRODOTTO FISSO'!$K$27 -> 58.84 | G19: =+$C19+'DELIVERY e PRODOTTO FISSO'!$K$28 -> 54.29 | H19: =+$C19+'DELIVERY e PRODOTTO FISSO'!$K$29 -> 53.69 | I19: =+$C19+'DELIVERY e PRODOTTO FISSO'!$K$30 -> 45.82 | J19: =+$C19+'DELIVERY e PRODOTTO FISSO'!$K$31 -> 49.013864 | K19: =+$C19+'DELIVERY e PRODOTTO FISSO'!$K$32 -> 48.96 | L19: =+$C19+'DELIVERY e PRODOTTO FISSO'!$K$33 -> 50.2 | M19: =_xlfn.IFNA($C$19+VLOOKUP(M$14,'DELIVERY e PRODOTTO FISSO'!$I:$L,3,FALSE),"") -> 49.52 | N19: =_xlfn.IFNA($C$19+VLOOKUP(N$14,'DELIVERY e PRODOTTO FISSO'!$I:$L,3,FALSE),"") -> 52.64 | O19: =_xlfn.IFNA($C$19+VLOOKUP(O$14,'DELIVERY e PRODOTTO FISSO'!$I:$L,3,FALSE),"") -> 52.91 | P19: =_xlfn.IFNA($C$19+VLOOKUP(P$14,'DELIVERY e PRODOTTO FISSO'!$I:$L,3,FALSE),"") -> 50.67 | Q19: =_xlfn.IFNA($C$19+VLOOKUP(Q$14,'DELIVERY e PRODOTTO FISSO'!$I:$L,3,FALSE),"") | R19: =_xlfn.IFNA($C$19+VLOOKUP(R$14,'DELIVERY e PRODOTTO FISSO'!$I:$L,3,FALSE),"") | S19: =_xlfn.IFNA($C$19+VLOOKUP(S$14,'DELIVERY e PRODOTTO FISSO'!$I:$L,3,FALSE),"") | T19: =_xlfn.IFNA($C$19+VLOOKUP(T$14,'DELIVERY e PRODOTTO FISSO'!$I:$L,3,FALSE),"") | ... Z19: =_xlfn.IFNA($C$19+VLOOKUP(Z$14,'DELIVERY e PRODOTTO FISSO'!$I:$L,3,FALSE),"")
A20: Multiorari | B20: F1 | C20: 8.67 | E20: =+$C20+'DELIVERY e PRODOTTO FISSO'!$K$26 -> 66.65 | F20: =+$C20+'DELIVERY e PRODOTTO FISSO'!$K$27 -> 64.13 | G20: =+$C20+'DELIVERY e PRODOTTO FISSO'!$K$28 -> 59.58 | H20: =+$C20+'DELIVERY e PRODOTTO FISSO'!$K$29 -> 58.98 | I20: =+$C20+'DELIVERY e PRODOTTO FISSO'!$K$30 -> 51.11 | J20: =+$C20+'DELIVERY e PRODOTTO FISSO'!$K$31 -> 54.303864 | K20: =+$C20+'DELIVERY e PRODOTTO FISSO'!$K$32 -> 54.25 | L20: =+$C20+'DELIVERY e PRODOTTO FISSO'!$K$33 -> 55.49 | M20: =_xlfn.IFNA($C$20+VLOOKUP(M$14,'DELIVERY e PRODOTTO FISSO'!$I:$L,3,FALSE),"") -> 54.81 | N20: =_xlfn.IFNA($C$20+VLOOKUP(N$14,'DELIVERY e PRODOTTO FISSO'!$I:$L,3,FALSE),"") -> 57.93 | O20: =_xlfn.IFNA($C$20+VLOOKUP(O$14,'DELIVERY e PRODOTTO FISSO'!$I:$L,3,FALSE),"") -> 58.2 | P20: =_xlfn.IFNA($C$20+VLOOKUP(P$14,'DELIVERY e PRODOTTO FISSO'!$I:$L,3,FALSE),"") -> 55.96 | Q20: =_xlfn.IFNA($C$20+VLOOKUP(Q$14,'DELIVERY e PRODOTTO FISSO'!$I:$L,3,FALSE),"") | R20: =_xlfn.IFNA($C$20+VLOOKUP(R$14,'DELIVERY e PRODOTTO FISSO'!$I:$L,3,FALSE),"") | S20: =_xlfn.IFNA($C$20+VLOOKUP(S$14,'DELIVERY e PRODOTTO FISSO'!$I:$L,3,FALSE),"") | T20: =_xlfn.IFNA($C$20+VLOOKUP(T$14,'DELIVERY e PRODOTTO FISSO'!$I:$L,3,FALSE),"") | ... Z20: =_xlfn.IFNA($C$20+VLOOKUP(Z$14,'DELIVERY e PRODOTTO FISSO'!$I:$L,3,FALSE),"")
B21: F2 | C21: 7.74 | E21: =+$C21+'DELIVERY e PRODOTTO FISSO'!$K$26 -> 65.72 | F21: =+$C21+'DELIVERY e PRODOTTO FISSO'!$K$27 -> 63.2 | G21: =+$C21+'DELIVERY e PRODOTTO FISSO'!$K$28 -> 58.65 | H21: =+$C21+'DELIVERY e PRODOTTO FISSO'!$K$29 -> 58.05 | I21: =+$C21+'DELIVERY e PRODOTTO FISSO'!$K$30 -> 50.18 | J21: =+$C21+'DELIVERY e PRODOTTO FISSO'!$K$31 -> 53.373864 | K21: =+$C21+'DELIVERY e PRODOTTO FISSO'!$K$32 -> 53.32 | L21: =+$C21+'DELIVERY e PRODOTTO FISSO'!$K$33 -> 54.56 | M21: =_xlfn.IFNA($C$21+VLOOKUP(M$14,'DELIVERY e PRODOTTO FISSO'!$I:$L,3,FALSE),"") -> 53.88 | N21: =_xlfn.IFNA($C$21+VLOOKUP(N$14,'DELIVERY e PRODOTTO FISSO'!$I:$L,3,FALSE),"") -> 57 | O21: =_xlfn.IFNA($C$21+VLOOKUP(O$14,'DELIVERY e PRODOTTO FISSO'!$I:$L,3,FALSE),"") -> 57.27 | P21: =_xlfn.IFNA($C$21+VLOOKUP(P$14,'DELIVERY e PRODOTTO FISSO'!$I:$L,3,FALSE),"") -> 55.03 | Q21: =_xlfn.IFNA($C$21+VLOOKUP(Q$14,'DELIVERY e PRODOTTO FISSO'!$I:$L,3,FALSE),"") | R21: =_xlfn.IFNA($C$21+VLOOKUP(R$14,'DELIVERY e PRODOTTO FISSO'!$I:$L,3,FALSE),"") | S21: =_xlfn.IFNA($C$21+VLOOKUP(S$14,'DELIVERY e PRODOTTO FISSO'!$I:$L,3,FALSE),"") | T21: =_xlfn.IFNA($C$21+VLOOKUP(T$14,'DELIVERY e PRODOTTO FISSO'!$I:$L,3,FALSE),"") | ... Z21: =_xlfn.IFNA($C$21+VLOOKUP(Z$14,'DELIVERY e PRODOTTO FISSO'!$I:$L,3,FALSE),"")
B22: F3 | C22: -4.02 | E22: =+$C22+'DELIVERY e PRODOTTO FISSO'!$K$26 -> 53.96 | F22: =+$C22+'DELIVERY e PRODOTTO FISSO'!$K$27 -> 51.44 | G22: =+$C22+'DELIVERY e PRODOTTO FISSO'!$K$28 -> 46.89 | H22: =+$C22+'DELIVERY e PRODOTTO FISSO'!$K$29 -> 46.29 | I22: =+$C22+'DELIVERY e PRODOTTO FISSO'!$K$30 -> 38.42 | J22: =+$C22+'DELIVERY e PRODOTTO FISSO'!$K$31 -> 41.613864 | K22: =+$C22+'DELIVERY e PRODOTTO FISSO'!$K$32 -> 41.56 | L22: =+$C22+'DELIVERY e PRODOTTO FISSO'!$K$33 -> 42.8 | M22: =_xlfn.IFNA($C$22+VLOOKUP(M$14,'DELIVERY e PRODOTTO FISSO'!$I:$L,3,FALSE),"") -> 42.12 | N22: =_xlfn.IFNA($C$22+VLOOKUP(N$14,'DELIVERY e PRODOTTO FISSO'!$I:$L,3,FALSE),"") -> 45.24 | O22: =_xlfn.IFNA($C$22+VLOOKUP(O$14,'DELIVERY e PRODOTTO FISSO'!$I:$L,3,FALSE),"") -> 45.51 | P22: =_xlfn.IFNA($C$22+VLOOKUP(P$14,'DELIVERY e PRODOTTO FISSO'!$I:$L,3,FALSE),"") -> 43.27 | Q22: =_xlfn.IFNA($C$22+VLOOKUP(Q$14,'DELIVERY e PRODOTTO FISSO'!$I:$L,3,FALSE),"") | R22: =_xlfn.IFNA($C$22+VLOOKUP(R$14,'DELIVERY e PRODOTTO FISSO'!$I:$L,3,FALSE),"") | S22: =_xlfn.IFNA($C$22+VLOOKUP(S$14,'DELIVERY e PRODOTTO FISSO'!$I:$L,3,FALSE),"") | T22: =_xlfn.IFNA($C$22+VLOOKUP(T$14,'DELIVERY e PRODOTTO FISSO'!$I:$L,3,FALSE),"") | ... Z22: =_xlfn.IFNA($C$22+VLOOKUP(Z$14,'DELIVERY e PRODOTTO FISSO'!$I:$L,3,FALSE),"")
A23: LOTTO 8 - Prezzi Fissi al netto delle perdite di rete (Euro/MWh)
A26: Forniture a Prezzo Fisso a 18 mesi
A27: Acquistabile fino al: | E27: 43829 | F27: 43861 | G27: 43890 | H27: 43921 | I27: 43951 | J27: 43982 | K27: 44012 | L27: 44043 | M27: 44074 | N27: 44104 | O27: 44135 | P27: 44165
A28: Per forniture: | E28: da mar-20 | F28: da apr-20 | G28: da mag-20 | H28: da giu-20 | I28: da lug-20 | J28: da ago-20 | K28: da set-20 | L28: da ott-20 | M28: da nov-20 | N28: da dic-20 | O28: da gen-21 | P28: da feb-21
E29: a ago-21 | F29: a set-21 | G29: a ott-21 | H29: a nov-21 | I29: a dic-21 | J29: a gen-22 | K29: a feb-22 | L29: a mar-22 | M29: a apr-22 | N29: a mag-22 | O29: a giu-22 | P29: a lug-22
B30: Fascia oraria | C30: ΨFIX | E30: FIX18 | F30: FIX18 | G30: FIX18 | H30: FIX18 | I30: FIX18 | J30: FIX18 | K30: FIX18 | L30: FIX18 | M30: FIX18 | N30: FIX18 | O30: FIX18 | P30: FIX18
A31: Mono | B31: F0 | C31: 3.38 | E31: =+$C31+'DELIVERY e PRODOTTO FISSO'!$L$26 -> 60.48 | F31: =+$C31+'DELIVERY e PRODOTTO FISSO'!$L$27 -> 57.92 | G31: =+$C31+'DELIVERY e PRODOTTO FISSO'!$L$28 -> 54.08 | H31: =+$C31+'DELIVERY e PRODOTTO FISSO'!$L$29 -> 54.64 | I31: =+$C31+'DELIVERY e PRODOTTO FISSO'!$L$30 -> 46.79 | J31: =+$C31+'DELIVERY e PRODOTTO FISSO'!$L$31 -> 49.63803 | K31: =+$C31+'DELIVERY e PRODOTTO FISSO'!$L$32 -> 50.61 | L31: =+$C31+'DELIVERY e PRODOTTO FISSO'!$L$33 -> 52.11 | M31: =_xlfn.IFNA($C$31+VLOOKUP(M$14,'DELIVERY e PRODOTTO FISSO'!$I:$L,4,FALSE),"") -> 51.63 | N31: =_xlfn.IFNA($C$31+VLOOKUP(N$14,'DELIVERY e PRODOTTO FISSO'!$I:$L,4,FALSE),"") -> 53.58 | O31: =_xlfn.IFNA($C$31+VLOOKUP(O$14,'DELIVERY e PRODOTTO FISSO'!$I:$L,4,FALSE),"") -> 52.83 | P31: =_xlfn.IFNA($C$31+VLOOKUP(P$14,'DELIVERY e PRODOTTO FISSO'!$I:$L,4,FALSE),"") -> 50.59 | Q31: =_xlfn.IFNA($C$31+VLOOKUP(Q$14,'DELIVERY e PRODOTTO FISSO'!$I:$L,4,FALSE),"") | R31: =_xlfn.IFNA($C$31+VLOOKUP(R$14,'DELIVERY e PRODOTTO FISSO'!$I:$L,4,FALSE),"") | S31: =_xlfn.IFNA($C$31+VLOOKUP(S$14,'DELIVERY e PRODOTTO FISSO'!$I:$L,4,FALSE),"") | T31: =_xlfn.IFNA($C$31+VLOOKUP(T$14,'DELIVERY e PRODOTTO FISSO'!$I:$L,4,FALSE),"") | ... Z31: =_xlfn.IFNA($C$31+VLOOKUP(Z$14,'DELIVERY e PRODOTTO FISSO'!$I:$L,4,FALSE),"")
A32: Multiorari | B32: F1 | C32: 8.67 | E32: =+$C32+'DELIVERY e PRODOTTO FISSO'!$L$26 -> 65.77 | F32: =+$C32+'DELIVERY e PRODOTTO FISSO'!$L$27 -> 63.21 | G32: =+$C32+'DELIVERY e PRODOTTO FISSO'!$L$28 -> 59.37 | H32: =+$C32+'DELIVERY e PRODOTTO FISSO'!$L$29 -> 59.93 | I32: =+$C32+'DELIVERY e PRODOTTO FISSO'!$L$30 -> 52.08 | J32: =+$C32+'DELIVERY e PRODOTTO FISSO'!$L$31 -> 54.92803 | K32: =+$C32+'DELIVERY e PRODOTTO FISSO'!$L$32 -> 55.9 | L32: =+$C32+'DELIVERY e PRODOTTO FISSO'!$L$33 -> 57.4 | M32: =_xlfn.IFNA($C$32+VLOOKUP(M$14,'DELIVERY e PRODOTTO FISSO'!$I:$L,4,FALSE),"") -> 56.92 | N32: =_xlfn.IFNA($C$32+VLOOKUP(N$14,'DELIVERY e PRODOTTO FISSO'!$I:$L,4,FALSE),"") -> 58.87 | O32: =_xlfn.IFNA($C$32+VLOOKUP(O$14,'DELIVERY e PRODOTTO FISSO'!$I:$L,4,FALSE),"") -> 58.12 | P32: =_xlfn.IFNA($C$32+VLOOKUP(P$14,'DELIVERY e PRODOTTO FISSO'!$I:$L,4,FALSE),"") -> 55.88 | Q32: =_xlfn.IFNA($C$32+VLOOKUP(Q$14,'DELIVERY e PRODOTTO FISSO'!$I:$L,4,FALSE),"") | R32: =_xlfn.IFNA($C$32+VLOOKUP(R$14,'DELIVERY e PRODOTTO FISSO'!$I:$L,4,FALSE),"") | S32: =_xlfn.IFNA($C$32+VLOOKUP(S$14,'DELIVERY e PRODOTTO FISSO'!$I:$L,4,FALSE),"") | T32: =_xlfn.IFNA($C$32+VLOOKUP(T$14,'DELIVERY e PRODOTTO FISSO'!$I:$L,4,FALSE),"") | ... Z32: =_xlfn.IFNA($C$32+VLOOKUP(Z$14,'DELIVERY e PRODOTTO FISSO'!$I:$L,4,FALSE),"")
B33: F2 | C33: 7.74 | E33: =+$C33+'DELIVERY e PRODOTTO FISSO'!$L$26 -> 64.84 | F33: =+$C33+'DELIVERY e PRODOTTO FISSO'!$L$27 -> 62.28 | G33: =+$C33+'DELIVERY e PRODOTTO FISSO'!$L$28 -> 58.44 | H33: =+$C33+'DELIVERY e PRODOTTO FISSO'!$L$29 -> 59 | I33: =+$C33+'DELIVERY e PRODOTTO FISSO'!$L$30 -> 51.15 | J33: =+$C33+'DELIVERY e PRODOTTO FISSO'!$L$31 -> 53.99803 | K33: =+$C33+'DELIVERY e PRODOTTO FISSO'!$L$32 -> 54.97 | L33: =+$C33+'DELIVERY e PRODOTTO FISSO'!$L$33 -> 56.47 | M33: =_xlfn.IFNA($C$33+VLOOKUP(M$14,'DELIVERY e PRODOTTO FISSO'!$I:$L,4,FALSE),"") -> 55.99 | N33: =_xlfn.IFNA($C$33+VLOOKUP(N$14,'DELIVERY e PRODOTTO FISSO'!$I:$L,4,FALSE),"") -> 57.94 | O33: =_xlfn.IFNA($C$33+VLOOKUP(O$14,'DELIVERY e PRODOTTO FISSO'!$I:$L,4,FALSE),"") -> 57.19 | P33: =_xlfn.IFNA($C$33+VLOOKUP(P$14,'DELIVERY e PRODOTTO FISSO'!$I:$L,4,FALSE),"") -> 54.95 | Q33: =_xlfn.IFNA($C$33+VLOOKUP(Q$14,'DELIVERY e PRODOTTO FISSO'!$I:$L,4,FALSE),"") | R33: =_xlfn.IFNA($C$33+VLOOKUP(R$14,'DELIVERY e PRODOTTO FISSO'!$I:$L,4,FALSE),"") | S33: =_xlfn.IFNA($C$33+VLOOKUP(S$14,'DELIVERY e PRODOTTO FISSO'!$I:$L,4,FALSE),"") | T33: =_xlfn.IFNA($C$33+VLOOKUP(T$14,'DELIVERY e PRODOTTO FISSO'!$I:$L,4,FALSE),"") | ... Z33: =_xlfn.IFNA($C$33+VLOOKUP(Z$14,'DELIVERY e PRODOTTO FISSO'!$I:$L,4,FALSE),"")
B34: F3 | C34: -4.02 | E34: =+$C34+'DELIVERY e PRODOTTO FISSO'!$L$26 -> 53.08 | F34: =+$C34+'DELIVERY e PRODOTTO FISSO'!$L$27 -> 50.52 | G34: =+$C34+'DELIVERY e PRODOTTO FISSO'!$L$28 -> 46.68 | H34: =+$C34+'DELIVERY e PRODOTTO FISSO'!$L$29 -> 47.24 | I34: =+$C34+'DELIVERY e PRODOTTO FISSO'!$L$30 -> 39.39 | J34: =+$C34+'DELIVERY e PRODOTTO FISSO'!$L$31 -> 42.23803 | K34: =+$C34+'DELIVERY e PRODOTTO FISSO'!$L$32 -> 43.21 | L34: =+$C34+'DELIVERY e PRODOTTO FISSO'!$L$33 -> 44.71 | M34: =_xlfn.IFNA($C$34+VLOOKUP(M$14,'DELIVERY e PRODOTTO FISSO'!$I:$L,4,FALSE),"") -> 44.23 | N34: =_xlfn.IFNA($C$34+VLOOKUP(N$14,'DELIVERY e PRODOTTO FISSO'!$I:$L,4,FALSE),"") -> 46.18 | O34: =_xlfn.IFNA($C$34+VLOOKUP(O$14,'DELIVERY e PRODOTTO FISSO'!$I:$L,4,FALSE),"") -> 45.43 | P34: =_xlfn.IFNA($C$34+VLOOKUP(P$14,'DELIVERY e PRODOTTO FISSO'!$I:$L,4,FALSE),"") -> 43.19 | Q34: =_xlfn.IFNA($C$34+VLOOKUP(Q$14,'DELIVERY e PRODOTTO FISSO'!$I:$L,4,FALSE),"") | R34: =_xlfn.IFNA($C$34+VLOOKUP(R$14,'DELIVERY e PRODOTTO FISSO'!$I:$L,4,FALSE),"") | S34: =_xlfn.IFNA($C$34+VLOOKUP(S$14,'DELIVERY e PRODOTTO FISSO'!$I:$L,4,FALSE),"") | T34: =_xlfn.IFNA($C$34+VLOOKUP(T$14,'DELIVERY e PRODOTTO FISSO'!$I:$L,4,FALSE),"") | ... Z34: =_xlfn.IFNA($C$34+VLOOKUP(Z$14,'DELIVERY e PRODOTTO FISSO'!$I:$L,4,FALSE),"")
A35: LOTTO 8 - Prezzi Fissi al netto delle perdite di rete (Euro/MWh)

Sheet Lotto 9
Q1: torna al SOMMARIO
A4: Energia elettrica 17
A5: Convenzione per la fornitura di energia elettrica a prezzo fisso o a prezzo variabile e servizi connessi per tutte le Pubbliche Amministrazioni
A7: Configuratore corrispettivi a Prezzo Fisso per la fornitura di Energia Elettrica edizione 17
A9: =+SOMMARIO!A18 -> Lotto 9: Umbria, Marche
A11: Sconto PA Virtuose S | C11: 0,10 Euro/MWh
A12: Opzione Verde | C12: 0,9 Euro/MWh
A14: Forniture a Prezzo Fisso a 12 mesi | M14: 44044 | N14: 44075 | O14: 44105 | P14: 44136 | Q14: 44166 | R14: 44197 | S14: 44228 | T14: 44256 | U14: 44287 | V14: 44317 | W14: 44348 | X14: 44378
A15: Acquistabile fino al: | E15: 43829 | F15: 43861 | G15: 43890 | H15: 43921 | I15: 43951 | J15: 43982 | K15: 44012 | L15: 44043 | M15: 44074 | N15: 44104 | O15: 44135 | P15: 44165
A16: Per forniture: | E16: da mar-20 | F16: da apr-20 | G16: da mag-20 | H16: da giu-20 | I16: da lug-20 | J16: da ago-20 | K16: da set-20 | L16: da ott-20 | M16: da nov-20 | N16: da dic-20 | O16: da gen-21 | P16: da feb-21
E17: a feb-21 | F17: a mar-21 | G17: a apr-21 | H17: a mag-21 | I17: a giu-21 | J17: a lug-21 | K17: a ago-21 | L17: a set-21 | M17: a ott-21 | N17: a nov-21 | O17: a dic-21 | P17: a gen-22
B18: Fascia oraria | C18: ΨFIX | E18: FIX12 | F18: FIX12 | G18: FIX12 | H18: FIX12 | I18: FIX12 | J18: FIX12 | K18: FIX12 | L18: FIX12 | M18: FIX12 | N18: FIX12 | O18: FIX12 | P18: FIX12
A19: Mono | B19: F0 | C19: 2.21 | E19: =+$C19+'DELIVERY e PRODOTTO FISSO'!$K$26 -> 60.19 | F19: =+$C19+'DELIVERY e PRODOTTO FISSO'!$K$27 -> 57.67 | G19: =+$C19+'DELIVERY e PRODOTTO FISSO'!$K$28 -> 53.12 | H19: =+$C19+'DELIVERY e PRODOTTO FISSO'!$K$29 -> 52.52 | I19: =+$C19+'DELIVERY e PRODOTTO FISSO'!$K$30 -> 44.65 | J19: =+$C19+'DELIVERY e PRODOTTO FISSO'!$K$31 -> 47.843864 | K19: =+$C19+'DELIVERY e PRODOTTO FISSO'!$K$32 -> 47.79 | L19: =+$C19+'DELIVERY e PRODOTTO FISSO'!$K$33 -> 49.03 | M19: =_xlfn.IFNA($C$19+VLOOKUP(M$14,'DELIVERY e PRODOTTO FISSO'!$I:$L,3,FALSE),"") -> 48.35 | N19: =_xlfn.IFNA($C$19+VLOOKUP(N$14,'DELIVERY e PRODOTTO FISSO'!$I:$L,3,FALSE),"") -> 51.47 | O19: =_xlfn.IFNA($C$19+VLOOKUP(O$14,'DELIVERY e PRODOTTO FISSO'!$I:$L,3,FALSE),"") -> 51.74 | P19: =_xlfn.IFNA($C$19+VLOOKUP(P$14,'DELIVERY e PRODOTTO FISSO'!$I:$L,3,FALSE),"") -> 49.5 | Q19: =_xlfn.IFNA($C$19+VLOOKUP(Q$14,'DELIVERY e PRODOTTO FISSO'!$I:$L,3,FALSE),"") | R19: =_xlfn.IFNA($C$19+VLOOKUP(R$14,'DELIVERY e PRODOTTO FISSO'!$I:$L,3,FALSE),"") | S19: =_xlfn.IFNA($C$19+VLOOKUP(S$14,'DELIVERY e PRODOTTO FISSO'!$I:$L,3,FALSE),"") | T19: =_xlfn.IFNA($C$19+VLOOKUP(T$14,'DELIVERY e PRODOTTO FISSO'!$I:$L,3,FALSE),"") | ... Z19: =_xlfn.IFNA($C$19+VLOOKUP(Z$14,'DELIVERY e PRODOTTO FISSO'!$I:$L,3,FALSE),"")
A20: Multiorari | B20: F1 | C20: 7.57 | E20: =+$C20+'DELIVERY e PRODOTTO FISSO'!$K$26 -> 65.55 | F20: =+$C20+'DELIVERY e PRODOTTO FISSO'!$K$27 -> 63.03 | G20: =+$C20+'DELIVERY e PRODOTTO FISSO'!$K$28 -> 58.48 | H20: =+$C20+'DELIVERY e PRODOTTO FISSO'!$K$29 -> 57.88 | I20: =+$C20+'DELIVERY e PRODOTTO FISSO'!$K$30 -> 50.01 | J20: =+$C20+'DELIVERY e PRODOTTO FISSO'!$K$31 -> 53.203864 | K20: =+$C20+'DELIVERY e PRODOTTO FISSO'!$K$32 -> 53.15 | L20: =+$C20+'DELIVERY e PRODOTTO FISSO'!$K$33 -> 54.39 | M20: =_xlfn.IFNA($C$20+VLOOKUP(M$14,'DELIVERY e PRODOTTO FISSO'!$I:$L,3,FALSE),"") -> 53.71 | N20: =_xlfn.IFNA($C$20+VLOOKUP(N$14,'DELIVERY e PRODOTTO FISSO'!$I:$L,3,FALSE),"") -> 56.83 | O20: =_xlfn.IFNA($C$20+VLOOKUP(O$14,'DELIVERY e PRODOTTO FISSO'!$I:$L,3,FALSE),"") -> 57.1 | P20: =_xlfn.IFNA($C$20+VLOOKUP(P$14,'DELIVERY e PRODOTTO FISSO'!$I:$L,3,FALSE),"") -> 54.86 | Q20: =_xlfn.IFNA($C$20+VLOOKUP(Q$14,'DELIVERY e PRODOTTO FISSO'!$I:$L,3,FALSE),"") | R20: =_xlfn.IFNA($C$20+VLOOKUP(R$14,'DELIVERY e PRODOTTO FISSO'!$I:$L,3,FALSE),"") | S20: =_xlfn.IFNA($C$20+VLOOKUP(S$14,'DELIVERY e PRODOTTO FISSO'!$I:$L,3,FALSE),"") | T20: =_xlfn.IFNA($C$20+VLOOKUP(T$14,'DELIVERY e PRODOTTO FISSO'!$I:$L,3,FALSE),"") | ... Z20: =_xlfn.IFNA($C$20+VLOOKUP(Z$14,'DELIVERY e PRODOTTO FISSO'!$I:$L,3,FALSE),"")
B21: F2 | C21: 6.4 | E21: =+$C21+'DELIVERY e PRODOTTO FISSO'!$K$26 -> 64.38 | F21: =+$C21+'DELIVERY e PRODOTTO FISSO'!$K$27 -> 61.86 | G21: =+$C21+'DELIVERY e PRODOTTO FISSO'!$K$28 -> 57.31 | H21: =+$C21+'DELIVERY e PRODOTTO FISSO'!$K$29 -> 56.71 | I21: =+$C21+'DELIVERY e PRODOTTO FISSO'!$K$30 -> 48.84 | J21: =+$C21+'DELIVERY e PRODOTTO FISSO'!$K$31 -> 52.033864 | K21: =+$C21+'DELIVERY e PRODOTTO FISSO'!$K$32 -> 51.98 | L21: =+$C21+'DELIVERY e PRODOTTO FISSO'!$K$33 -> 53.22 | M21: =_xlfn.IFNA($C$21+VLOOKUP(M$14,'DELIVERY e PRODOTTO FISSO'!$I:$L,3,FALSE),"") -> 52.54 | N21: =_xlfn.IFNA($C$21+VLOOKUP(N$14,'DELIVERY e PRODOTTO FISSO'!$I:$L,3,FALSE),"") -> 55.66 | O21: =_xlfn.IFNA($C$21+VLOOKUP(O$14,'DELIVERY e PRODOTTO FISSO'!$I:$L,3,FALSE),"") -> 55.93 | P21: =_xlfn.IFNA($C$21+VLOOKUP(P$14,'DELIVERY e PRODOTTO FISSO'!$I:$L,3,FALSE),"") -> 53.69 | Q21: =_xlfn.IFNA($C$21+VLOOKUP(Q$14,'DELIVERY e PRODOTTO FISSO'!$I:$L,3,FALSE),"") | R21: =_xlfn.IFNA($C$21+VLOOKUP(R$14,'DELIVERY e PRODOTTO FISSO'!$I:$L,3,FALSE),"") | S21: =_xlfn.IFNA($C$21+VLOOKUP(S$14,'DELIVERY e PRODOTTO FISSO'!$I:$L,3,FALSE),"") | T21: =_xlfn.IFNA($C$21+VLOOKUP(T$14,'DELIVERY e PRODOTTO FISSO'!$I:$L,3,FALSE),"") | ... Z21: =_xlfn.IFNA($C$21+VLOOKUP(Z$14,'DELIVERY e PRODOTTO FISSO'!$I:$L,3,FALSE),"")
B22: F3 | C22: -5.15 | E22: =+$C22+'DELIVERY e PRODOTTO FISSO'!$K$26 -> 52.83 | F22: =+$C22+'DELIVERY e PRODOTTO FISSO'!$K$27 -> 50.31 | G22: =+$C22+'DELIVERY e PRODOTTO FISSO'!$K$28 -> 45.76 | H22: =+$C22+'DELIVERY e PRODOTTO FISSO'!$K$29 -> 45.16 | I22: =+$C22+'DELIVERY e PRODOTTO FISSO'!$K$30 -> 37.29 | J22: =+$C22+'DELIVERY e PRODOTTO FISSO'!$K$31 -> 40.483864 | K22: =+$C22+'DELIVERY e PRODOTTO FISSO'!$K$32 -> 40.43 | L22: =+$C22+'DELIVERY e PRODOTTO FISSO'!$K$33 -> 41.67 | M22: =_xlfn.IFNA($C$22+VLOOKUP(M$14,'DELIVERY e PRODOTTO FISSO'!$I:$L,3,FALSE),"") -> 40.99 | N22: =_xlfn.IFNA($C$22+VLOOKUP(N$14,'DELIVERY e PRODOTTO FISSO'!$I:$L,3,FALSE),"") -> 44.11 | O22: =_xlfn.IFNA($C$22+VLOOKUP(O$14,'DELIVERY e PRODOTTO FISSO'!$I:$L,3,FALSE),"") -> 44.38 | P22: =_xlfn.IFNA($C$22+VLOOKUP(P$14,'DELIVERY e PRODOTTO FISSO'!$I:$L,3,FALSE),"") -> 42.14 | Q22: =_xlfn.IFNA($C$22+VLOOKUP(Q$14,'DELIVERY e PRODOTTO FISSO'!$I:$L,3,FALSE),"") | R22: =_xlfn.IFNA($C$22+VLOOKUP(R$14,'DELIVERY e PRODOTTO FISSO'!$I:$L,3,FALSE),"") | S22: =_xlfn.IFNA($C$22+VLOOKUP(S$14,'DELIVERY e PRODOTTO FISSO'!$I:$L,3,FALSE),"") | T22: =_xlfn.IFNA($C$22+VLOOKUP(T$14,'DELIVERY e PRODOTTO FISSO'!$I:$L,3,FALSE),"") | ... Z22: =_xlfn.IFNA($C$22+VLOOKUP(Z$14,'DELIVERY e PRODOTTO FISSO'!$I:$L,3,FALSE),"")
A23: LOTTO 9 - Prezzi Fissi al netto delle perdite di rete (Euro/MWh)
A26: Forniture a Prezzo Fisso a 18 mesi
A27: Acquistabile fino al: | E27: 43829 | F27: 43861 | G27: 43890 | H27: 43921 | I27: 43951 | J27: 43982 | K27: 44012 | L27: 44043 | M27: 44074 | N27: 44104 | O27: 44135 | P27: 44165
A28: Per forniture: | E28: da mar-20 | F28: da apr-20 | G28: da mag-20 | H28: da giu-20 | I28: da lug-20 | J28: da ago-20 | K28: da set-20 | L28: da ott-20 | M28: da nov-20 | N28: da dic-20 | O28: da gen-21 | P28: da feb-21
E29: a ago-21 | F29: a set-21 | G29: a ott-21 | H29: a nov-21 | I29: a dic-21 | J29: a gen-22 | K29: a feb-22 | L29: a mar-22 | M29: a apr-22 | N29: a mag-22 | O29: a giu-22 | P29: a lug-22
B30: Fascia oraria | C30: ΨFIX | E30: FIX18 | F30: FIX18 | G30: FIX18 | H30: FIX18 | I30: FIX18 | J30: FIX18 | K30: FIX18 | L30: FIX18 | M30: FIX18 | N30: FIX18 | O30: FIX18 | P30: FIX18
A31: Mono | B31: F0 | C31: 2.21 | E31: =+$C31+'DELIVERY e PRODOTTO FISSO'!$L$26 -> 59.31 | F31: =+$C31+'DELIVERY e PRODOTTO FISSO'!$L$27 -> 56.75 | G31: =+$C31+'DELIVERY e PRODOTTO FISSO'!$L$28 -> 52.91 | H31: =+$C31+'DELIVERY e PRODOTTO FISSO'!$L$29 -> 53.47 | I31: =+$C31+'DELIVERY e PRODOTTO FISSO'!$L$30 -> 45.62 | J31: =+$C31+'DELIVERY e PRODOTTO FISSO'!$L$31 -> 48.46803 | K31: =+$C31+'DELIVERY e PRODOTTO FISSO'!$L$32 -> 49.44 | L31: =+$C31+'DELIVERY e PRODOTTO FISSO'!$L$33 -> 50.94 | M31: =_xlfn.IFNA($C$31+VLOOKUP(M$14,'DELIVERY e PRODOTTO FISSO'!$I:$L,4,FALSE),"") -> 50.46 | N31: =_xlfn.IFNA($C$31+VLOOKUP(N$14,'DELIVERY e PRODOTTO FISSO'!$I:$L,4,FALSE),"") -> 52.41 | O31: =_xlfn.IFNA($C$31+VLOOKUP(O$14,'DELIVERY e PRODOTTO FISSO'!$I:$L,4,FALSE),"") -> 51.66 | P31: =_xlfn.IFNA($C$31+VLOOKUP(P$14,'DELIVERY e PRODOTTO FISSO'!$I:$L,4,FALSE),"") -> 49.42 | Q31: =_xlfn.IFNA($C$31+VLOOKUP(Q$14,'DELIVERY e PRODOTTO FISSO'!$I:$L,4,FALSE),"") | R31: =_xlfn.IFNA($C$31+VLOOKUP(R$14,'DELIVERY e PRODOTTO FISSO'!$I:$L,4,FALSE),"") | S31: =_xlfn.IFNA($C$31+VLOOKUP(S$14,'DELIVERY e PRODOTTO FISSO'!$I:$L,4,FALSE),"") | T31: =_xlfn.IFNA($C$31+VLOOKUP(T$14,'DELIVERY e PRODOTTO FISSO'!$I:$L,4,FALSE),"") | ... Z31: =_xlfn.IFNA($C$31+VLOOKUP(Z$14,'DELIVERY e PRODOTTO FISSO'!$I:$L,4,FALSE),"")
A32: Multiorari | B32: F1 | C32: 7.57 | E32: =+$C32+'DELIVERY e PRODOTTO FISSO'!$L$26 -> 64.67 | F32: =+$C32+'DELIVERY e PRODOTTO FISSO'!$L$27 -> 62.11 | G32: =+$C32+'DELIVERY e PRODOTTO FISSO'!$L$28 -> 58.27 | H32: =+$C32+'DELIVERY e PRODOTTO FISSO'!$L$29 -> 58.83 | I32: =+$C32+'DELIVERY e PRODOTTO FISSO'!$L$30 -> 50.98 | J32: =+$C32+'DELIVERY e PRODOTTO FISSO'!$L$31 -> 53.82803 | K32: =+$C32+'DELIVERY e PRODOTTO FISSO'!$L$32 -> 54.8 | L32: =+$C32+'DELIVERY e PRODOTTO FISSO'!$L$33 -> 56.3 | M32: =_xlfn.IFNA($C$32+VLOOKUP(M$14,'DELIVERY e PRODOTTO FISSO'!$I:$L,4,FALSE),"") -> 55.82 | N32: =_xlfn.IFNA($C$32+VLOOKUP(N$14,'DELIVERY e PRODOTTO FISSO'!$I:$L,4,FALSE),"") -> 57.77 | O32: =_xlfn.IFNA($C$32+VLOOKUP(O$14,'DELIVERY e PRODOTTO FISSO'!$I:$L,4,FALSE),"") -> 57.02 | P32: =_xlfn.IFNA($C$32+VLOOKUP(P$14,'DELIVERY e PRODOTTO FISSO'!$I:$L,4,FALSE),"") -> 54.78 | Q32: =_xlfn.IFNA($C$32+VLOOKUP(Q$14,'DELIVERY e PRODOTTO FISSO'!$I:$L,4,FALSE),"") | R32: =_xlfn.IFNA($C$32+VLOOKUP(R$14,'DELIVERY e PRODOTTO FISSO'!$I:$L,4,FALSE),"") | S32: =_xlfn.IFNA($C$32+VLOOKUP(S$14,'DELIVERY e PRODOTTO FISSO'!$I:$L,4,FALSE),"") | T32: =_xlfn.IFNA($C$32+VLOOKUP(T$14,'DELIVERY e PRODOTTO FISSO'!$I:$L,4,FALSE),"") | ... Z32: =_xlfn.IFNA($C$32+VLOOKUP(Z$14,'DELIVERY e PRODOTTO FISSO'!$I:$L,4,FALSE),"")
B33: F2 | C33: 6.4 | E33: =+$C33+'DELIVERY e PRODOTTO FISSO'!$L$26 -> 63.5 | F33: =+$C33+'DELIVERY e PRODOTTO FISSO'!$L$27 -> 60.94 | G33: =+$C33+'DELIVERY e PRODOTTO FISSO'!$L$28 -> 57.1 | H33: =+$C33+'DELIVERY e PRODOTTO FISSO'!$L$29 -> 57.66 | I33: =+$C33+'DELIVERY e PRODOTTO FISSO'!$L$30 -> 49.81 | J33: =+$C33+'DELIVERY e PRODOTTO FISSO'!$L$31 -> 52.65803 | K33: =+$C33+'DELIVERY e PRODOTTO FISSO'!$L$32 -> 53.63 | L33: =+$C33+'DELIVERY e PRODOTTO FISSO'!$L$33 -> 55.13 | M33: =_xlfn.IFNA($C$33+VLOOKUP(M$14,'DELIVERY e PRODOTTO FISSO'!$I:$L,4,FALSE),"") -> 54.65 | N33: =_xlfn.IFNA($C$33+VLOOKUP(N$14,'DELIVERY e PRODOTTO FISSO'!$I:$L,4,FALSE),"") -> 56.6 | O33: =_xlfn.IFNA($C$33+VLOOKUP(O$14,'DELIVERY e PRODOTTO FISSO'!$I:$L,4,FALSE),"") -> 55.85 | P33: =_xlfn.IFNA($C$33+VLOOKUP(P$14,'DELIVERY e PRODOTTO FISSO'!$I:$L,4,FALSE),"") -> 53.61 | Q33: =_xlfn.IFNA($C$33+VLOOKUP(Q$14,'DELIVERY e PRODOTTO FISSO'!$I:$L,4,FALSE),"") | R33: =_xlfn.IFNA($C$33+VLOOKUP(R$14,'DELIVERY e PRODOTTO FISSO'!$I:$L,4,FALSE),"") | S33: =_xlfn.IFNA($C$33+VLOOKUP(S$14,'DELIVERY e PRODOTTO FISSO'!$I:$L,4,FALSE),"") | T33: =_xlfn.IFNA($C$33+VLOOKUP(T$14,'DELIVERY e PRODOTTO FISSO'!$I:$L,4,FALSE),"") | ... Z33: =_xlfn.IFNA($C$33+VLOOKUP(Z$14,'DELIVERY e PRODOTTO FISSO'!$I:$L,4,FALSE),"")
B34: F3 | C34: -5.15 | E34: =+$C34+'DELIVERY e PRODOTTO FISSO'!$L$26 -> 51.95 | F34: =+$C34+'DELIVERY e PRODOTTO FISSO'!$L$27 -> 49.39 | G34: =+$C34+'DELIVERY e PRODOTTO FISSO'!$L$28 -> 45.55 | H34: =+$C34+'DELIVERY e PRODOTTO FISSO'!$L$29 -> 46.11 | I34: =+$C34+'DELIVERY e PRODOTTO FISSO'!$L$30 -> 38.26 | J34: =+$C34+'DELIVERY e PRODOTTO FISSO'!$L$31 -> 41.10803 | K34: =+$C34+'DELIVERY e PRODOTTO FISSO'!$L$32 -> 42.08 | L34: =+$C34+'DELIVERY e PRODOTTO FISSO'!$L$33 -> 43.58 | M34: =_xlfn.IFNA($C$34+VLOOKUP(M$14,'DELIVERY e PRODOTTO FISSO'!$I:$L,4,FALSE),"") -> 43.1 | N34: =_xlfn.IFNA($C$34+VLOOKUP(N$14,'DELIVERY e PRODOTTO FISSO'!$I:$L,4,FALSE),"") -> 45.05 | O34: =_xlfn.IFNA($C$34+VLOOKUP(O$14,'DELIVERY e PRODOTTO FISSO'!$I:$L,4,FALSE),"") -> 44.3 | P34: =_xlfn.IFNA($C$34+VLOOKUP(P$14,'DELIVERY e PRODOTTO FISSO'!$I:$L,4,FALSE),"") -> 42.06 | Q34: =_xlfn.IFNA($C$34+VLOOKUP(Q$14,'DELIVERY e PRODOTTO FISSO'!$I:$L,4,FALSE),"") | R34: =_xlfn.IFNA($C$34+VLOOKUP(R$14,'DELIVERY e PRODOTTO FISSO'!$I:$L,4,FALSE),"") | S34: =_xlfn.IFNA($C$34+VLOOKUP(S$14,'DELIVERY e PRODOTTO FISSO'!$I:$L,4,FALSE),"") | T34: =_xlfn.IFNA($C$34+VLOOKUP(T$14,'DELIVERY e PRODOTTO FISSO'!$I:$L,4,FALSE),"") | ... Z34: =_xlfn.IFNA($C$34+VLOOKUP(Z$14,'DELIVERY e PRODOTTO FISSO'!$I:$L,4,FALSE),"")
A35: LOTTO 9 - Prezzi Fissi al netto delle perdite di rete (Euro/MWh)

Sheet Lotto10
Q1: torna al SOMMARIO
A4: Energia elettrica 17
A5: Convenzione per la fornitura di energia elettrica a prezzo fisso o a prezzo variabile e servizi connessi per tutte le Pubbliche Amministrazioni
A7: Configuratore corrispettivi a Prezzo Fisso per la fornitura di Energia Elettrica edizione 17
A9: =+SOMMARIO!A19 -> Lotto 10: Provincia di Roma
A11: Sconto PA Virtuose S | C11: 1,34 Euro/MWh
A12: Opzione Verde | C12: 1,1 Euro/MWh
A14: Forniture a Prezzo Fisso a 12 mesi | M14: 44044 | N14: 44075 | O14: 44105 | P14: 44136 | Q14: 44166 | R14: 44197 | S14: 44228 | T14: 44256 | U14: 44287 | V14: 44317 | W14: 44348 | X14: 44378
A15: Acquistabile fino al: | E15: 43829 | F15: 43861 | G15: 43890 | H15: 43921 | I15: 43951 | J15: 43982 | K15: 44012 | L15: 44043 | M15: 44074 | N15: 44104 | O15: 44135 | P15: 44165
A16: Per forniture: | E16: da mar-20 | F16: da apr-20 | G16: da mag-20 | H16: da giu-20 | I16: da lug-20 | J16: da ago-20 | K16: da set-20 | L16: da ott-20 | M16: da nov-20 | N16: da dic-20 | O16: da gen-21 | P16: da feb-21
E17: a feb-21 | F17: a mar-21 | G17: a apr-21 | H17: a mag-21 | I17: a giu-21 | J17: a lug-21 | K17: a ago-21 | L17: a set-21 | M17: a ott-21 | N17: a nov-21 | O17: a dic-21 | P17: a gen-22
B18: Fascia oraria | C18: ΨFIX | E18: FIX12 | F18: FIX12 | G18: FIX12 | H18: FIX12 | I18: FIX12 | J18: FIX12 | K18: FIX12 | L18: FIX12 | M18: FIX12 | N18: FIX12 | O18: FIX12 | P18: FIX12
A19: Mono | B19: F0 | C19: 5.44 | E19: =+$C19+'DELIVERY e PRODOTTO FISSO'!$K$26 -> 63.42 | F19: =+$C19+'DELIVERY e PRODOTTO FISSO'!$K$27 -> 60.9 | G19: =+$C19+'DELIVERY e PRODOTTO FISSO'!$K$28 -> 56.35 | H19: =+$C19+'DELIVERY e PRODOTTO FISSO'!$K$29 -> 55.75 | I19: =+$C19+'DELIVERY e PRODOTTO FISSO'!$K$30 -> 47.88 | J19: =+$C19+'DELIVERY e PRODOTTO FISSO'!$K$31 -> 51.073864 | K19: =+$C19+'DELIVERY e PRODOTTO FISSO'!$K$32 -> 51.02 | L19: =+$C19+'DELIVERY e PRODOTTO FISSO'!$K$33 -> 52.26 | M19: =_xlfn.IFNA($C$19+VLOOKUP(M$14,'DELIVERY e PRODOTTO FISSO'!$I:$L,3,FALSE),"") -> 51.58 | N19: =_xlfn.IFNA($C$19+VLOOKUP(N$14,'DELIVERY e PRODOTTO FISSO'!$I:$L,3,FALSE),"") -> 54.7 | O19: =_xlfn.IFNA($C$19+VLOOKUP(O$14,'DELIVERY e PRODOTTO FISSO'!$I:$L,3,FALSE),"") -> 54.97 | P19: =_xlfn.IFNA($C$19+VLOOKUP(P$14,'DELIVERY e PRODOTTO FISSO'!$I:$L,3,FALSE),"") -> 52.73 | Q19: =_xlfn.IFNA($C$19+VLOOKUP(Q$14,'DELIVERY e PRODOTTO FISSO'!$I:$L,3,FALSE),"") | R19: =_xlfn.IFNA($C$19+VLOOKUP(R$14,'DELIVERY e PRODOTTO FISSO'!$I:$L,3,FALSE),"") | S19: =_xlfn.IFNA($C$19+VLOOKUP(S$14,'DELIVERY e PRODOTTO FISSO'!$I:$L,3,FALSE),"") | T19: =_xlfn.IFNA($C$19+VLOOKUP(T$14,'DELIVERY e PRODOTTO FISSO'!$I:$L,3,FALSE),"") | ... Z19: =_xlfn.IFNA($C$19+VLOOKUP(Z$14,'DELIVERY e PRODOTTO FISSO'!$I:$L,3,FALSE),"")
A20: Multiorari | B20: F1 | C20: 3.84 | E20: =+$C20+'DELIVERY e PRODOTTO FISSO'!$K$26 -> 61.82 | F20: =+$C20+'DELIVERY e PRODOTTO FISSO'!$K$27 -> 59.3 | G20: =+$C20+'DELIVERY e PRODOTTO FISSO'!$K$28 -> 54.75 | H20: =+$C20+'DELIVERY e PRODOTTO FISSO'!$K$29 -> 54.15 | I20: =+$C20+'DELIVERY e PRODOTTO FISSO'!$K$30 -> 46.28 | J20: =+$C20+'DELIVERY e PRODOTTO FISSO'!$K$31 -> 49.473864 | K20: =+$C20+'DELIVERY e PRODOTTO FISSO'!$K$32 -> 49.42 | L20: =+$C20+'DELIVERY e PRODOTTO FISSO'!$K$33 -> 50.66 | M20: =_xlfn.IFNA($C$20+VLOOKUP(M$14,'DELIVERY e PRODOTTO FISSO'!$I:$L,3,FALSE),"") -> 49.98 | N20: =_xlfn.IFNA($C$20+VLOOKUP(N$14,'DELIVERY e PRODOTTO FISSO'!$I:$L,3,FALSE),"") -> 53.1 | O20: =_xlfn.IFNA($C$20+VLOOKUP(O$14,'DELIVERY e PRODOTTO FISSO'!$I:$L,3,FALSE),"") -> 53.37 | P20: =_xlfn.IFNA($C$20+VLOOKUP(P$14,'DELIVERY e PRODOTTO FISSO'!$I:$L,3,FALSE),"") -> 51.13 | Q20: =_xlfn.IFNA($C$20+VLOOKUP(Q$14,'DELIVERY e PRODOTTO FISSO'!$I:$L,3,FALSE),"") | R20: =_xlfn.IFNA($C$20+VLOOKUP(R$14,'DELIVERY e PRODOTTO FISSO'!$I:$L,3,FALSE),"") | S20: =_xlfn.IFNA($C$20+VLOOKUP(S$14,'DELIVERY e PRODOTTO FISSO'!$I:$L,3,FALSE),"") | T20: =_xlfn.IFNA($C$20+VLOOKUP(T$14,'DELIVERY e PRODOTTO FISSO'!$I:$L,3,FALSE),"") | ... Z20: =_xlfn.IFNA($C$20+VLOOKUP(Z$14,'DELIVERY e PRODOTTO FISSO'!$I:$L,3,FALSE),"")
B21: F2 | C21: 3.84 | E21: =+$C21+'DELIVERY e PRODOTTO FISSO'!$K$26 -> 61.82 | F21: =+$C21+'DELIVERY e PRODOTTO FISSO'!$K$27 -> 59.3 | G21: =+$C21+'DELIVERY e PRODOTTO FISSO'!$K$28 -> 54.75 | H21: =+$C21+'DELIVERY e PRODOTTO FISSO'!$K$29 -> 54.15 | I21: =+$C21+'DELIVERY e PRODOTTO FISSO'!$K$30 -> 46.28 | J21: =+$C21+'DELIVERY e PRODOTTO FISSO'!$K$31 -> 49.473864 | K21: =+$C21+'DELIVERY e PRODOTTO FISSO'!$K$32 -> 49.42 | L21: =+$C21+'DELIVERY e PRODOTTO FISSO'!$K$33 -> 50.66 | M21: =_xlfn.IFNA($C$21+VLOOKUP(M$14,'DELIVERY e PRODOTTO FISSO'!$I:$L,3,FALSE),"") -> 49.98 | N21: =_xlfn.IFNA($C$21+VLOOKUP(N$14,'DELIVERY e PRODOTTO FISSO'!$I:$L,3,FALSE),"") -> 53.1 | O21: =_xlfn.IFNA($C$21+VLOOKUP(O$14,'DELIVERY e PRODOTTO FISSO'!$I:$L,3,FALSE),"") -> 53.37 | P21: =_xlfn.IFNA($C$21+VLOOKUP(P$14,'DELIVERY e PRODOTTO FISSO'!$I:$L,3,FALSE),"") -> 51.13 | Q21: =_xlfn.IFNA($C$21+VLOOKUP(Q$14,'DELIVERY e PRODOTTO FISSO'!$I:$L,3,FALSE),"") | R21: =_xlfn.IFNA($C$21+VLOOKUP(R$14,'DELIVERY e PRODOTTO FISSO'!$I:$L,3,FALSE),"") | S21: =_xlfn.IFNA($C$21+VLOOKUP(S$14,'DELIVERY e PRODOTTO FISSO'!$I:$L,3,FALSE),"") | T21: =_xlfn.IFNA($C$21+VLOOKUP(T$14,'DELIVERY e PRODOTTO FISSO'!$I:$L,3,FALSE),"") | ... Z21: =_xlfn.IFNA($C$21+VLOOKUP(Z$14,'DELIVERY e PRODOTTO FISSO'!$I:$L,3,FALSE),"")
B22: F3 | C22: 7.84 | E22: =+$C22+'DELIVERY e PRODOTTO FISSO'!$K$26 -> 65.82 | F22: =+$C22+'DELIVERY e PRODOTTO FISSO'!$K$27 -> 63.3 | G22: =+$C22+'DELIVERY e PRODOTTO FISSO'!$K$28 -> 58.75 | H22: =+$C22+'DELIVERY e PRODOTTO FISSO'!$K$29 -> 58.15 | I22: =+$C22+'DELIVERY e PRODOTTO FISSO'!$K$30 -> 50.28 | J22: =+$C22+'DELIVERY e PRODOTTO FISSO'!$K$31 -> 53.473864 | K22: =+$C22+'DELIVERY e PRODOTTO FISSO'!$K$32 -> 53.42 | L22: =+$C22+'DELIVERY e PRODOTTO FISSO'!$K$33 -> 54.66 | M22: =_xlfn.IFNA($C$22+VLOOKUP(M$14,'DELIVERY e PRODOTTO FISSO'!$I:$L,3,FALSE),"") -> 53.98 | N22: =_xlfn.IFNA($C$22+VLOOKUP(N$14,'DELIVERY e PRODOTTO FISSO'!$I:$L,3,FALSE),"") -> 57.1 | O22: =_xlfn.IFNA($C$22+VLOOKUP(O$14,'DELIVERY e PRODOTTO FISSO'!$I:$L,3,FALSE),"") -> 57.37 | P22: =_xlfn.IFNA($C$22+VLOOKUP(P$14,'DELIVERY e PRODOTTO FISSO'!$I:$L,3,FALSE),"") -> 55.13 | Q22: =_xlfn.IFNA($C$22+VLOOKUP(Q$14,'DELIVERY e PRODOTTO FISSO'!$I:$L,3,FALSE),"") | R22: =_xlfn.IFNA($C$22+VLOOKUP(R$14,'DELIVERY e PRODOTTO FISSO'!$I:$L,3,FALSE),"") | S22: =_xlfn.IFNA($C$22+VLOOKUP(S$14,'DELIVERY e PRODOTTO FISSO'!$I:$L,3,FALSE),"") | T22: =_xlfn.IFNA($C$22+VLOOKUP(T$14,'DELIVERY e PRODOTTO FISSO'!$I:$L,3,FALSE),"") | ... Z22: =_xlfn.IFNA($C$22+VLOOKUP(Z$14,'DELIVERY e PRODOTTO FISSO'!$I:$L,3,FALSE),"")
A23: LOTTO 10 - Prezzi Fissi al netto delle perdite di rete (Euro/MWh)
A26: Forniture a Prezzo Fisso a 18 mesi
A27: Acquistabile fino al: | E27: 43829 | F27: 43861 | G27: 43890 | H27: 43921 | I27: 43951 | J27: 43982 | K27: 44012 | L27: 44043 | M27: 44074 | N27: 44104 | O27: 44135 | P27: 44165
A28: Per forniture: | E28: da mar-20 | F28: da apr-20 | G28: da mag-20 | H28: da giu-20 | I28: da lug-20 | J28: da ago-20 | K28: da set-20 | L28: da ott-20 | M28: da nov-20 | N28: da dic-20 | O28: da gen-21 | P28: da feb-21
E29: a ago-21 | F29: a set-21 | G29: a ott-21 | H29: a nov-21 | I29: a dic-21 | J29: a gen-22 | K29: a feb-22 | L29: a mar-22 | M29: a apr-22 | N29: a mag-22 | O29: a giu-22 | P29: a lug-22
B30: Fascia oraria | C30: ΨFIX | E30: FIX18 | F30: FIX18 | G30: FIX18 | H30: FIX18 | I30: FIX18 | J30: FIX18 | K30: FIX18 | L30: FIX18 | M30: FIX18 | N30: FIX18 | O30: FIX18 | P30: FIX18
A31: Mono | B31: F0 | C31: 5.44 | E31: =+$C31+'DELIVERY e PRODOTTO FISSO'!$L$26 -> 62.54 | F31: =+$C31+'DELIVERY e PRODOTTO FISSO'!$L$27 -> 59.98 | G31: =+$C31+'DELIVERY e PRODOTTO FISSO'!$L$28 -> 56.14 | H31: =+$C31+'DELIVERY e PRODOTTO FISSO'!$L$29 -> 56.7 | I31: =+$C31+'DELIVERY e PRODOTTO FISSO'!$L$30 -> 48.85 | J31: =+$C31+'DELIVERY e PRODOTTO FISSO'!$L$31 -> 51.69803 | K31: =+$C31+'DELIVERY e PRODOTTO FISSO'!$L$32 -> 52.67 | L31: =+$C31+'DELIVERY e PRODOTTO FISSO'!$L$33 -> 54.17 | M31: =_xlfn.IFNA($C$31+VLOOKUP(M$14,'DELIVERY e PRODOTTO FISSO'!$I:$L,4,FALSE),"") -> 53.69 | N31: =_xlfn.IFNA($C$31+VLOOKUP(N$14,'DELIVERY e PRODOTTO FISSO'!$I:$L,4,FALSE),"") -> 55.64 | O31: =_xlfn.IFNA($C$31+VLOOKUP(O$14,'DELIVERY e PRODOTTO FISSO'!$I:$L,4,FALSE),"") -> 54.89 | P31: =_xlfn.IFNA($C$31+VLOOKUP(P$14,'DELIVERY e PRODOTTO FISSO'!$I:$L,4,FALSE),"") -> 52.65 | Q31: =_xlfn.IFNA($C$31+VLOOKUP(Q$14,'DELIVERY e PRODOTTO FISSO'!$I:$L,4,FALSE),"") | R31: =_xlfn.IFNA($C$31+VLOOKUP(R$14,'DELIVERY e PRODOTTO FISSO'!$I:$L,4,FALSE),"") | S31: =_xlfn.IFNA($C$31+VLOOKUP(S$14,'DELIVERY e PRODOTTO FISSO'!$I:$L,4,FALSE),"") | T31: =_xlfn.IFNA($C$31+VLOOKUP(T$14,'DELIVERY e PRODOTTO FISSO'!$I:$L,4,FALSE),"") | ... Z31: =_xlfn.IFNA($C$31+VLOOKUP(Z$14,'DELIVERY e PRODOTTO FISSO'!$I:$L,4,FALSE),"")
A32: Multiorari | B32: F1 | C32: 3.84 | E32: =+$C32+'DELIVERY e PRODOTTO FISSO'!$L$26 -> 60.94 | F32: =+$C32+'DELIVERY e PRODOTTO FISSO'!$L$27 -> 58.38 | G32: =+$C32+'DELIVERY e PRODOTTO FISSO'!$L$28 -> 54.54 | H32: =+$C32+'DELIVERY e PRODOTTO FISSO'!$L$29 -> 55.1 | I32: =+$C32+'DELIVERY e PRODOTTO FISSO'!$L$30 -> 47.25 | J32: =+$C32+'DELIVERY e PRODOTTO FISSO'!$L$31 -> 50.09803 | K32: =+$C32+'DELIVERY e PRODOTTO FISSO'!$L$32 -> 51.07 | L32: =+$C32+'DELIVERY e PRODOTTO FISSO'!$L$33 -> 52.57 | M32: =_xlfn.IFNA($C$32+VLOOKUP(M$14,'DELIVERY e PRODOTTO FISSO'!$I:$L,4,FALSE),"") -> 52.09 | N32: =_xlfn.IFNA($C$32+VLOOKUP(N$14,'DELIVERY e PRODOTTO FISSO'!$I:$L,4,FALSE),"") -> 54.04 | O32: =_xlfn.IFNA($C$32+VLOOKUP(O$14,'DELIVERY e PRODOTTO FISSO'!$I:$L,4,FALSE),"") -> 53.29 | P32: =_xlfn.IFNA($C$32+VLOOKUP(P$14,'DELIVERY e PRODOTTO FISSO'!$I:$L,4,FALSE),"") -> 51.05 | Q32: =_xlfn.IFNA($C$32+VLOOKUP(Q$14,'DELIVERY e PRODOTTO FISSO'!$I:$L,4,FALSE),"") | R32: =_xlfn.IFNA($C$32+VLOOKUP(R$14,'DELIVERY e PRODOTTO FISSO'!$I:$L,4,FALSE),"") | S32: =_xlfn.IFNA($C$32+VLOOKUP(S$14,'DELIVERY e PRODOTTO FISSO'!$I:$L,4,FALSE),"") | T32: =_xlfn.IFNA($C$32+VLOOKUP(T$14,'DELIVERY e PRODOTTO FISSO'!$I:$L,4,FALSE),"") | ... Z32: =_xlfn.IFNA($C$32+VLOOKUP(Z$14,'DELIVERY e PRODOTTO FISSO'!$I:$L,4,FALSE),"")
B33: F2 | C33: 3.84 | E33: =+$C33+'DELIVERY e PRODOTTO FISSO'!$L$26 -> 60.94 | F33: =+$C33+'DELIVERY e PRODOTTO FISSO'!$L$27 -> 58.38 | G33: =+$C33+'DELIVERY e PRODOTTO FISSO'!$L$28 -> 54.54 | H33: =+$C33+'DELIVERY e PRODOTTO FISSO'!$L$29 -> 55.1 | I33: =+$C33+'DELIVERY e PRODOTTO FISSO'!$L$30 -> 47.25 | J33: =+$C33+'DELIVERY e PRODOTTO FISSO'!$L$31 -> 50.09803 | K33: =+$C33+'DELIVERY e PRODOTTO FISSO'!$L$32 -> 51.07 | L33: =+$C33+'DELIVERY e PRODOTTO FISSO'!$L$33 -> 52.57 | M33: =_xlfn.IFNA($C$33+VLOOKUP(M$14,'DELIVERY e PRODOTTO FISSO'!$I:$L,4,FALSE),"") -> 52.09 | N33: =_xlfn.IFNA($C$33+VLOOKUP(N$14,'DELIVERY e PRODOTTO FISSO'!$I:$L,4,FALSE),"") -> 54.04 | O33: =_xlfn.IFNA($C$33+VLOOKUP(O$14,'DELIVERY e PRODOTTO FISSO'!$I:$L,4,FALSE),"") -> 53.29 | P33: =_xlfn.IFNA($C$33+VLOOKUP(P$14,'DELIVERY e PRODOTTO FISSO'!$I:$L,4,FALSE),"") -> 51.05 | Q33: =_xlfn.IFNA($C$33+VLOOKUP(Q$14,'DELIVERY e PRODOTTO FISSO'!$I:$L,4,FALSE),"") | R33: =_xlfn.IFNA($C$33+VLOOKUP(R$14,'DELIVERY e PRODOTTO FISSO'!$I:$L,4,FALSE),"") | S33: =_xlfn.IFNA($C$33+VLOOKUP(S$14,'DELIVERY e PRODOTTO FISSO'!$I:$L,4,FALSE),"") | T33: =_xlfn.IFNA($C$33+VLOOKUP(T$14,'DELIVERY e PRODOTTO FISSO'!$I:$L,4,FALSE),"") | ... Z33: =_xlfn.IFNA($C$33+VLOOKUP(Z$14,'DELIVERY e PRODOTTO FISSO'!$I:$L,4,FALSE),"")
B34: F3 | C34: 7.84 | E34: =+$C34+'DELIVERY e PRODOTTO FISSO'!$L$26 -> 64.94 | F34: =+$C34+'DELIVERY e PRODOTTO FISSO'!$L$27 -> 62.38 | G34: =+$C34+'DELIVERY e PRODOTTO FISSO'!$L$28 -> 58.54 | H34: =+$C34+'DELIVERY e PRODOTTO FISSO'!$L$29 -> 59.1 | I34: =+$C34+'DELIVERY e PRODOTTO FISSO'!$L$30 -> 51.25 | J34: =+$C34+'DELIVERY e PRODOTTO FISSO'!$L$31 -> 54.09803 | K34: =+$C34+'DELIVERY e PRODOTTO FISSO'!$L$32 -> 55.07 | L34: =+$C34+'DELIVERY e PRODOTTO FISSO'!$L$33 -> 56.57 | M34: =_xlfn.IFNA($C$34+VLOOKUP(M$14,'DELIVERY e PRODOTTO FISSO'!$I:$L,4,FALSE),"") -> 56.09 | N34: =_xlfn.IFNA($C$34+VLOOKUP(N$14,'DELIVERY e PRODOTTO FISSO'!$I:$L,4,FALSE),"") -> 58.04 | O34: =_xlfn.IFNA($C$34+VLOOKUP(O$14,'DELIVERY e PRODOTTO FISSO'!$I:$L,4,FALSE),"") -> 57.29 | P34: =_xlfn.IFNA($C$34+VLOOKUP(P$14,'DELIVERY e PRODOTTO FISSO'!$I:$L,4,FALSE),"") -> 55.05 | Q34: =_xlfn.IFNA($C$34+VLOOKUP(Q$14,'DELIVERY e PRODOTTO FISSO'!$I:$L,4,FALSE),"") | R34: =_xlfn.IFNA($C$34+VLOOKUP(R$14,'DELIVERY e PRODOTTO FISSO'!$I:$L,4,FALSE),"") | S34: =_xlfn.IFNA($C$34+VLOOKUP(S$14,'DELIVERY e PRODOTTO FISSO'!$I:$L,4,FALSE),"") | T34: =_xlfn.IFNA($C$34+VLOOKUP(T$14,'DELIVERY e PRODOTTO FISSO'!$I:$L,4,FALSE),"") | ... Z34: =_xlfn.IFNA($C$34+VLOOKUP(Z$14,'DELIVERY e PRODOTTO FISSO'!$I:$L,4,FALSE),"")
A35: LOTTO 10 - Prezzi Fissi al netto delle perdite di rete (Euro/MWh)

Sheet Lotto 11
Q1: torna al SOMMARIO
A4: Energia elettrica 17
A5: Convenzione per la fornitura di energia elettrica a prezzo fisso o a prezzo variabile e servizi connessi per tutte le Pubbliche Amministrazioni
A7: Configuratore corrispettivi a Prezzo Fisso per la fornitura di Energia Elettrica edizione 17
A9: =+SOMMARIO!A20 -> Lotto 11: Lazio esclusa la Provincia di Roma
A11: Sconto PA Virtuose S | C11: 0,10 Euro/MWh
A12: Opzione Verde | C12: 1,10 Euro/MWh
A14: Forniture a Prezzo Fisso a 12 mesi | M14: 44044 | N14: 44075 | O14: 44105 | P14: 44136 | Q14: 44166 | R14: 44197 | S14: 44228 | T14: 44256 | U14: 44287 | V14: 44317 | W14: 44348 | X14: 44378
A15: Acquistabile fino al: | E15: 43829 | F15: 43861 | G15: 43890 | H15: 43921 | I15: 43951 | J15: 43982 | K15: 44012 | L15: 44043 | M15: 44074 | N15: 44104 | O15: 44135 | P15: 44165
A16: Per forniture: | E16: da mar-20 | F16: da apr-20 | G16: da mag-20 | H16: da giu-20 | I16: da lug-20 | J16: da ago-20 | K16: da set-20 | L16: da ott-20 | M16: da nov-20 | N16: da dic-20 | O16: da gen-21 | P16: da feb-21
E17: a feb-21 | F17: a mar-21 | G17: a apr-21 | H17: a mag-21 | I17: a giu-21 | J17: a lug-21 | K17: a ago-21 | L17: a set-21 | M17: a ott-21 | N17: a nov-21 | O17: a dic-21 | P17: a gen-22
B18: Fascia oraria | C18: ΨFIX | E18: FIX12 | F18: FIX12 | G18: FIX12 | H18: FIX12 | I18: FIX12 | J18: FIX12 | K18: FIX12 | L18: FIX12 | M18: FIX12 | N18: FIX12 | O18: FIX12 | P18: FIX12
A19: Mono | B19: F0 | C19: 3.36 | E19: =+$C19+'DELIVERY e PRODOTTO FISSO'!$K$26 -> 61.34 | F19: =+$C19+'DELIVERY e PRODOTTO FISSO'!$K$27 -> 58.82 | G19: =+$C19+'DELIVERY e PRODOTTO FISSO'!$K$28 -> 54.27 | H19: =+$C19+'DELIVERY e PRODOTTO FISSO'!$K$29 -> 53.67 | I19: =+$C19+'DELIVERY e PRODOTTO FISSO'!$K$30 -> 45.8 | J19: =+$C19+'DELIVERY e PRODOTTO FISSO'!$K$31 -> 48.993864 | K19: =+$C19+'DELIVERY e PRODOTTO FISSO'!$K$32 -> 48.94 | L19: =+$C19+'DELIVERY e PRODOTTO FISSO'!$K$33 -> 50.18 | M19: =_xlfn.IFNA($C$19+VLOOKUP(M$14,'DELIVERY e PRODOTTO FISSO'!$I:$L,3,FALSE),"") -> 49.5 | N19: =_xlfn.IFNA($C$19+VLOOKUP(N$14,'DELIVERY e PRODOTTO FISSO'!$I:$L,3,FALSE),"") -> 52.62 | O19: =_xlfn.IFNA($C$19+VLOOKUP(O$14,'DELIVERY e PRODOTTO FISSO'!$I:$L,3,FALSE),"") -> 52.89 | P19: =_xlfn.IFNA($C$19+VLOOKUP(P$14,'DELIVERY e PRODOTTO FISSO'!$I:$L,3,FALSE),"") -> 50.65 | Q19: =_xlfn.IFNA($C$19+VLOOKUP(Q$14,'DELIVERY e PRODOTTO FISSO'!$I:$L,3,FALSE),"") | R19: =_xlfn.IFNA($C$19+VLOOKUP(R$14,'DELIVERY e PRODOTTO FISSO'!$I:$L,3,FALSE),"") | S19: =_xlfn.IFNA($C$19+VLOOKUP(S$14,'DELIVERY e PRODOTTO FISSO'!$I:$L,3,FALSE),"") | T19: =_xlfn.IFNA($C$19+VLOOKUP(T$14,'DELIVERY e PRODOTTO FISSO'!$I:$L,3,FALSE),"") | ... Z19: =_xlfn.IFNA($C$19+VLOOKUP(Z$14,'DELIVERY e PRODOTTO FISSO'!$I:$L,3,FALSE),"")
A20: Multiorari | B20: F1 | C20: 3.36 | E20: =+$C20+'DELIVERY e PRODOTTO FISSO'!$K$26 -> 61.34 | F20: =+$C20+'DELIVERY e PRODOTTO FISSO'!$K$27 -> 58.82 | G20: =+$C20+'DELIVERY e PRODOTTO FISSO'!$K$28 -> 54.27 | H20: =+$C20+'DELIVERY e PRODOTTO FISSO'!$K$29 -> 53.67 | I20: =+$C20+'DELIVERY e PRODOTTO FISSO'!$K$30 -> 45.8 | J20: =+$C20+'DELIVERY e PRODOTTO FISSO'!$K$31 -> 48.993864 | K20: =+$C20+'DELIVERY e PRODOTTO FISSO'!$K$32 -> 48.94 | L20: =+$C20+'DELIVERY e PRODOTTO FISSO'!$K$33 -> 50.18 | M20: =_xlfn.IFNA($C$20+VLOOKUP(M$14,'DELIVERY e PRODOTTO FISSO'!$I:$L,3,FALSE),"") -> 49.5 | N20: =_xlfn.IFNA($C$20+VLOOKUP(N$14,'DELIVERY e PRODOTTO FISSO'!$I:$L,3,FALSE),"") -> 52.62 | O20: =_xlfn.IFNA($C$20+VLOOKUP(O$14,'DELIVERY e PRODOTTO FISSO'!$I:$L,3,FALSE),"") -> 52.89 | P20: =_xlfn.IFNA($C$20+VLOOKUP(P$14,'DELIVERY e PRODOTTO FISSO'!$I:$L,3,FALSE),"") -> 50.65 | Q20: =_xlfn.IFNA($C$20+VLOOKUP(Q$14,'DELIVERY e PRODOTTO FISSO'!$I:$L,3,FALSE),"") | R20: =_xlfn.IFNA($C$20+VLOOKUP(R$14,'DELIVERY e PRODOTTO FISSO'!$I:$L,3,FALSE),"") | S20: =_xlfn.IFNA($C$20+VLOOKUP(S$14,'DELIVERY e PRODOTTO FISSO'!$I:$L,3,FALSE),"") | T20: =_xlfn.IFNA($C$20+VLOOKUP(T$14,'DELIVERY e PRODOTTO FISSO'!$I:$L,3,FALSE),"") | ... Z20: =_xlfn.IFNA($C$20+VLOOKUP(Z$14,'DELIVERY e PRODOTTO FISSO'!$I:$L,3,FALSE),"")
B21: F2 | C21: 3.36 | E21: =+$C21+'DELIVERY e PRODOTTO FISSO'!$K$26 -> 61.34 | F21: =+$C21+'DELIVERY e PRODOTTO FISSO'!$K$27 -> 58.82 | G21: =+$C21+'DELIVERY e PRODOTTO FISSO'!$K$28 -> 54.27 | H21: =+$C21+'DELIVERY e PRODOTTO FISSO'!$K$29 -> 53.67 | I21: =+$C21+'DELIVERY e PRODOTTO FISSO'!$K$30 -> 45.8 | J21: =+$C21+'DELIVERY e PRODOTTO FISSO'!$K$31 -> 48.993864 | K21: =+$C21+'DELIVERY e PRODOTTO FISSO'!$K$32 -> 48.94 | L21: =+$C21+'DELIVERY e PRODOTTO FISSO'!$K$33 -> 50.18 | M21: =_xlfn.IFNA($C$21+VLOOKUP(M$14,'DELIVERY e PRODOTTO FISSO'!$I:$L,3,FALSE),"") -> 49.5 | N21: =_xlfn.IFNA($C$21+VLOOKUP(N$14,'DELIVERY e PRODOTTO FISSO'!$I:$L,3,FALSE),"") -> 52.62 | O21: =_xlfn.IFNA($C$21+VLOOKUP(O$14,'DELIVERY e PRODOTTO FISSO'!$I:$L,3,FALSE),"") -> 52.89 | P21: =_xlfn.IFNA($C$21+VLOOKUP(P$14,'DELIVERY e PRODOTTO FISSO'!$I:$L,3,FALSE),"") -> 50.65 | Q21: =_xlfn.IFNA($C$21+VLOOKUP(Q$14,'DELIVERY e PRODOTTO FISSO'!$I:$L,3,FALSE),"") | R21: =_xlfn.IFNA($C$21+VLOOKUP(R$14,'DELIVERY e PRODOTTO FISSO'!$I:$L,3,FALSE),"") | S21: =_xlfn.IFNA($C$21+VLOOKUP(S$14,'DELIVERY e PRODOTTO FISSO'!$I:$L,3,FALSE),"") | T21: =_xlfn.IFNA($C$21+VLOOKUP(T$14,'DELIVERY e PRODOTTO FISSO'!$I:$L,3,FALSE),"") | ... Z21: =_xlfn.IFNA($C$21+VLOOKUP(Z$14,'DELIVERY e PRODOTTO FISSO'!$I:$L,3,FALSE),"")
B22: F3 | C22: 3.36 | E22: =+$C22+'DELIVERY e PRODOTTO FISSO'!$K$26 -> 61.34 | F22: =+$C22+'DELIVERY e PRODOTTO FISSO'!$K$27 -> 58.82 | G22: =+$C22+'DELIVERY e PRODOTTO FISSO'!$K$28 -> 54.27 | H22: =+$C22+'DELIVERY e PRODOTTO FISSO'!$K$29 -> 53.67 | I22: =+$C22+'DELIVERY e PRODOTTO FISSO'!$K$30 -> 45.8 | J22: =+$C22+'DELIVERY e PRODOTTO FISSO'!$K$31 -> 48.993864 | K22: =+$C22+'DELIVERY e PRODOTTO FISSO'!$K$32 -> 48.94 | L22: =+$C22+'DELIVERY e PRODOTTO FISSO'!$K$33 -> 50.18 | M22: =_xlfn.IFNA($C$22+VLOOKUP(M$14,'DELIVERY e PRODOTTO FISSO'!$I:$L,3,FALSE),"") -> 49.5 | N22: =_xlfn.IFNA($C$22+VLOOKUP(N$14,'DELIVERY e PRODOTTO FISSO'!$I:$L,3,FALSE),"") -> 52.62 | O22: =_xlfn.IFNA($C$22+VLOOKUP(O$14,'DELIVERY e PRODOTTO FISSO'!$I:$L,3,FALSE),"") -> 52.89 | P22: =_xlfn.IFNA($C$22+VLOOKUP(P$14,'DELIVERY e PRODOTTO FISSO'!$I:$L,3,FALSE),"") -> 50.65 | Q22: =_xlfn.IFNA($C$22+VLOOKUP(Q$14,'DELIVERY e PRODOTTO FISSO'!$I:$L,3,FALSE),"") | R22: =_xlfn.IFNA($C$22+VLOOKUP(R$14,'DELIVERY e PRODOTTO FISSO'!$I:$L,3,FALSE),"") | S22: =_xlfn.IFNA($C$22+VLOOKUP(S$14,'DELIVERY e PRODOTTO FISSO'!$I:$L,3,FALSE),"") | T22: =_xlfn.IFNA($C$22+VLOOKUP(T$14,'DELIVERY e PRODOTTO FISSO'!$I:$L,3,FALSE),"") | ... Z22: =_xlfn.IFNA($C$22+VLOOKUP(Z$14,'DELIVERY e PRODOTTO FISSO'!$I:$L,3,FALSE),"")
A23: LOTTO 11 - Prezzi Fissi al netto delle perdite di rete (Euro/MWh)
A26: Forniture a Prezzo Fisso a 18 mesi
A27: Acquistabile fino al: | E27: 43829 | F27: 43861 | G27: 43890 | H27: 43921 | I27: 43951 | J27: 43982 | K27: 44012 | L27: 44043 | M27: 44074 | N27: 44104 | O27: 44135 | P27: 44165
A28: Per forniture: | E28: da mar-20 | F28: da apr-20 | G28: da mag-20 | H28: da giu-20 | I28: da lug-20 | J28: da ago-20 | K28: da set-20 | L28: da ott-20 | M28: da nov-20 | N28: da dic-20 | O28: da gen-21 | P28: da feb-21
E29: a ago-21 | F29: a set-21 | G29: a ott-21 | H29: a nov-21 | I29: a dic-21 | J29: a gen-22 | K29: a feb-22 | L29: a mar-22 | M29: a apr-22 | N29: a mag-22 | O29: a giu-22 | P29: a lug-22
B30: Fascia oraria | C30: ΨFIX | E30: FIX18 | F30: FIX18 | G30: FIX18 | H30: FIX18 | I30: FIX18 | J30: FIX18 | K30: FIX18 | L30: FIX18 | M30: FIX18 | N30: FIX18 | O30: FIX18 | P30: FIX18
A31: Mono | B31: F0 | C31: 3.36 | E31: =+$C31+'DELIVERY e PRODOTTO FISSO'!$L$26 -> 60.46 | F31: =+$C31+'DELIVERY e PRODOTTO FISSO'!$L$27 -> 57.9 | G31: =+$C31+'DELIVERY e PRODOTTO FISSO'!$L$28 -> 54.06 | H31: =+$C31+'DELIVERY e PRODOTTO FISSO'!$L$29 -> 54.62 | I31: =+$C31+'DELIVERY e PRODOTTO FISSO'!$L$30 -> 46.77 | J31: =+$C31+'DELIVERY e PRODOTTO FISSO'!$L$31 -> 49.61803 | K31: =+$C31+'DELIVERY e PRODOTTO FISSO'!$L$32 -> 50.59 | L31: =+$C31+'DELIVERY e PRODOTTO FISSO'!$L$33 -> 52.09 | M31: =_xlfn.IFNA($C$31+VLOOKUP(M$14,'DELIVERY e PRODOTTO FISSO'!$I:$L,4,FALSE),"") -> 51.61 | N31: =_xlfn.IFNA($C$31+VLOOKUP(N$14,'DELIVERY e PRODOTTO FISSO'!$I:$L,4,FALSE),"") -> 53.56 | O31: =_xlfn.IFNA($C$31+VLOOKUP(O$14,'DELIVERY e PRODOTTO FISSO'!$I:$L,4,FALSE),"") -> 52.81 | P31: =_xlfn.IFNA($C$31+VLOOKUP(P$14,'DELIVERY e PRODOTTO FISSO'!$I:$L,4,FALSE),"") -> 50.57 | Q31: =_xlfn.IFNA($C$31+VLOOKUP(Q$14,'DELIVERY e PRODOTTO FISSO'!$I:$L,4,FALSE),"") | R31: =_xlfn.IFNA($C$31+VLOOKUP(R$14,'DELIVERY e PRODOTTO FISSO'!$I:$L,4,FALSE),"") | S31: =_xlfn.IFNA($C$31+VLOOKUP(S$14,'DELIVERY e PRODOTTO FISSO'!$I:$L,4,FALSE),"") | T31: =_xlfn.IFNA($C$31+VLOOKUP(T$14,'DELIVERY e PRODOTTO FISSO'!$I:$L,4,FALSE),"") | ... Z31: =_xlfn.IFNA($C$31+VLOOKUP(Z$14,'DELIVERY e PRODOTTO FISSO'!$I:$L,4,FALSE),"")
A32: Multiorari | B32: F1 | C32: 3.36 | E32: =+$C32+'DELIVERY e PRODOTTO FISSO'!$L$26 -> 60.46 | F32: =+$C32+'DELIVERY e PRODOTTO FISSO'!$L$27 -> 57.9 | G32: =+$C32+'DELIVERY e PRODOTTO FISSO'!$L$28 -> 54.06 | H32: =+$C32+'DELIVERY e PRODOTTO FISSO'!$L$29 -> 54.62 | I32: =+$C32+'DELIVERY e PRODOTTO FISSO'!$L$30 -> 46.77 | J32: =+$C32+'DELIVERY e PRODOTTO FISSO'!$L$31 -> 49.61803 | K32: =+$C32+'DELIVERY e PRODOTTO FISSO'!$L$32 -> 50.59 | L32: =+$C32+'DELIVERY e PRODOTTO FISSO'!$L$33 -> 52.09 | M32: =_xlfn.IFNA($C$32+VLOOKUP(M$14,'DELIVERY e PRODOTTO FISSO'!$I:$L,4,FALSE),"") -> 51.61 | N32: =_xlfn.IFNA($C$32+VLOOKUP(N$14,'DELIVERY e PRODOTTO FISSO'!$I:$L,4,FALSE),"") -> 53.56 | O32: =_xlfn.IFNA($C$32+VLOOKUP(O$14,'DELIVERY e PRODOTTO FISSO'!$I:$L,4,FALSE),"") -> 52.81 | P32: =_xlfn.IFNA($C$32+VLOOKUP(P$14,'DELIVERY e PRODOTTO FISSO'!$I:$L,4,FALSE),"") -> 50.57 | Q32: =_xlfn.IFNA($C$32+VLOOKUP(Q$14,'DELIVERY e PRODOTTO FISSO'!$I:$L,4,FALSE),"") | R32: =_xlfn.IFNA($C$32+VLOOKUP(R$14,'DELIVERY e PRODOTTO FISSO'!$I:$L,4,FALSE),"") | S32: =_xlfn.IFNA($C$32+VLOOKUP(S$14,'DELIVERY e PRODOTTO FISSO'!$I:$L,4,FALSE),"") | T32: =_xlfn.IFNA($C$32+VLOOKUP(T$14,'DELIVERY e PRODOTTO FISSO'!$I:$L,4,FALSE),"") | ... Z32: =_xlfn.IFNA($C$32+VLOOKUP(Z$14,'DELIVERY e PRODOTTO FISSO'!$I:$L,4,FALSE),"")
B33: F2 | C33: 3.36 | E33: =+$C33+'DELIVERY e PRODOTTO FISSO'!$L$26 -> 60.46 | F33: =+$C33+'DELIVERY e PRODOTTO FISSO'!$L$27 -> 57.9 | G33: =+$C33+'DELIVERY e PRODOTTO FISSO'!$L$28 -> 54.06 | H33: =+$C33+'DELIVERY e PRODOTTO FISSO'!$L$29 -> 54.62 | I33: =+$C33+'DELIVERY e PRODOTTO FISSO'!$L$30 -> 46.77 | J33: =+$C33+'DELIVERY e PRODOTTO FISSO'!$L$31 -> 49.61803 | K33: =+$C33+'DELIVERY e PRODOTTO FISSO'!$L$32 -> 50.59 | L33: =+$C33+'DELIVERY e PRODOTTO FISSO'!$L$33 -> 52.09 | M33: =_xlfn.IFNA($C$33+VLOOKUP(M$14,'DELIVERY e PRODOTTO FISSO'!$I:$L,4,FALSE),"") -> 51.61 | N33: =_xlfn.IFNA($C$33+VLOOKUP(N$14,'DELIVERY e PRODOTTO FISSO'!$I:$L,4,FALSE),"") -> 53.56 | O33: =_xlfn.IFNA($C$33+VLOOKUP(O$14,'DELIVERY e PRODOTTO FISSO'!$I:$L,4,FALSE),"") -> 52.81 | P33: =_xlfn.IFNA($C$33+VLOOKUP(P$14,'DELIVERY e PRODOTTO FISSO'!$I:$L,4,FALSE),"") -> 50.57 | Q33: =_xlfn.IFNA($C$33+VLOOKUP(Q$14,'DELIVERY e PRODOTTO FISSO'!$I:$L,4,FALSE),"") | R33: =_xlfn.IFNA($C$33+VLOOKUP(R$14,'DELIVERY e PRODOTTO FISSO'!$I:$L,4,FALSE),"") | S33: =_xlfn.IFNA($C$33+VLOOKUP(S$14,'DELIVERY e PRODOTTO FISSO'!$I:$L,4,FALSE),"") | T33: =_xlfn.IFNA($C$33+VLOOKUP(T$14,'DELIVERY e PRODOTTO FISSO'!$I:$L,4,FALSE),"") | ... Z33: =_xlfn.IFNA($C$33+VLOOKUP(Z$14,'DELIVERY e PRODOTTO FISSO'!$I:$L,4,FALSE),"")
B34: F3 | C34: 3.36 | E34: =+$C34+'DELIVERY e PRODOTTO FISSO'!$L$26 -> 60.46 | F34: =+$C34+'DELIVERY e PRODOTTO FISSO'!$L$27 -> 57.9 | G34: =+$C34+'DELIVERY e PRODOTTO FISSO'!$L$28 -> 54.06 | H34: =+$C34+'DELIVERY e PRODOTTO FISSO'!$L$29 -> 54.62 | I34: =+$C34+'DELIVERY e PRODOTTO FISSO'!$L$30 -> 46.77 | J34: =+$C34+'DELIVERY e PRODOTTO FISSO'!$L$31 -> 49.61803 | K34: =+$C34+'DELIVERY e PRODOTTO FISSO'!$L$32 -> 50.59 | L34: =+$C34+'DELIVERY e PRODOTTO FISSO'!$L$33 -> 52.09 | M34: =_xlfn.IFNA($C$34+VLOOKUP(M$14,'DELIVERY e PRODOTTO FISSO'!$I:$L,4,FALSE),"") -> 51.61 | N34: =_xlfn.IFNA($C$34+VLOOKUP(N$14,'DELIVERY e PRODOTTO FISSO'!$I:$L,4,FALSE),"") -> 53.56 | O34: =_xlfn.IFNA($C$34+VLOOKUP(O$14,'DELIVERY e PRODOTTO FISSO'!$I:$L,4,FALSE),"") -> 52.81 | P34: =_xlfn.IFNA($C$34+VLOOKUP(P$14,'DELIVERY e PRODOTTO FISSO'!$I:$L,4,FALSE),"") -> 50.57 | Q34: =_xlfn.IFNA($C$34+VLOOKUP(Q$14,'DELIVERY e PRODOTTO FISSO'!$I:$L,4,FALSE),"") | R34: =_xlfn.IFNA($C$34+VLOOKUP(R$14,'DELIVERY e PRODOTTO FISSO'!$I:$L,4,FALSE),"") | S34: =_xlfn.IFNA($C$34+VLOOKUP(S$14,'DELIVERY e PRODOTTO FISSO'!$I:$L,4,FALSE),"") | T34: =_xlfn.IFNA($C$34+VLOOKUP(T$14,'DELIVERY e PRODOTTO FISSO'!$I:$L,4,FALSE),"") | ... Z34: =_xlfn.IFNA($C$34+VLOOKUP(Z$14,'DELIVERY e PRODOTTO FISSO'!$I:$L,4,FALSE),"")
A35: LOTTO 11 - Prezzi Fissi al netto delle perdite di rete (Euro/MWh)

Sheet Lotto 12
Q1: torna al SOMMARIO
A4: Energia elettrica 17
A5: Convenzione per la fornitura di energia elettrica a prezzo fisso o a prezzo variabile e servizi connessi per tutte le Pubbliche Amministrazioni
A7: Configuratore corrispettivi a Prezzo Fisso per la fornitura di Energia Elettrica edizione 17
A9: =+SOMMARIO!A21 -> Lotto 12: Abruzzo, Molise
A11: Sconto PA Virtuose S | C11: 0,1 Euro/MWh
A12: Opzione Verde | C12: 0,9 Euro/MWh
A14: Forniture a Prezzo Fisso a 12 mesi | M14: 44044 | N14: 44075 | O14: 44105 | P14: 44136 | Q14: 44166 | R14: 44197 | S14: 44228 | T14: 44256 | U14: 44287 | V14: 44317 | W14: 44348 | X14: 44378
A15: Acquistabile fino al: | E15: 43829 | F15: 43861 | G15: 43890 | H15: 43921 | I15: 43951 | J15: 43982 | K15: 44012 | L15: 44043 | M15: 44074 | N15: 44104 | O15: 44135 | P15: 44165
A16: Per forniture: | E16: da mar-20 | F16: da apr-20 | G16: da mag-20 | H16: da giu-20 | I16: da lug-20 | J16: da ago-20 | K16: da set-20 | L16: da ott-20 | M16: da nov-20 | N16: da dic-20 | O16: da gen-21 | P16: da feb-21
E17: a feb-21 | F17: a mar-21 | G17: a apr-21 | H17: a mag-21 | I17: a giu-21 | J17: a lug-21 | K17: a ago-21 | L17: a set-21 | M17: a ott-21 | N17: a nov-21 | O17: a dic-21 | P17: a gen-22
B18: Fascia oraria | C18: ΨFIX | E18: FIX12 | F18: FIX12 | G18: FIX12 | H18: FIX12 | I18: FIX12 | J18: FIX12 | K18: FIX12 | L18: FIX12 | M18: FIX12 | N18: FIX12 | O18: FIX12 | P18: FIX12
A19: Mono | B19: F0 | C19: 2.66 | E19: =+$C19+'DELIVERY e PRODOTTO FISSO'!$K$26 -> 60.64 | F19: =+$C19+'DELIVERY e PRODOTTO FISSO'!$K$27 -> 58.12 | G19: =+$C19+'DELIVERY e PRODOTTO FISSO'!$K$28 -> 53.57 | H19: =+$C19+'DELIVERY e PRODOTTO FISSO'!$K$29 -> 52.97 | I19: =+$C19+'DELIVERY e PRODOTTO FISSO'!$K$30 -> 45.1 | J19: =+$C19+'DELIVERY e PRODOTTO FISSO'!$K$31 -> 48.293864 | K19: =+$C19+'DELIVERY e PRODOTTO FISSO'!$K$32 -> 48.24 | L19: =+$C19+'DELIVERY e PRODOTTO FISSO'!$K$33 -> 49.48 | M19: =_xlfn.IFNA($C$19+VLOOKUP(M$14,'DELIVERY e PRODOTTO FISSO'!$I:$L,3,FALSE),"") -> 48.8 | N19: =_xlfn.IFNA($C$19+VLOOKUP(N$14,'DELIVERY e PRODOTTO FISSO'!$I:$L,3,FALSE),"") -> 51.92 | O19: =_xlfn.IFNA($C$19+VLOOKUP(O$14,'DELIVERY e PRODOTTO FISSO'!$I:$L,3,FALSE),"") -> 52.19 | P19: =_xlfn.IFNA($C$19+VLOOKUP(P$14,'DELIVERY e PRODOTTO FISSO'!$I:$L,3,FALSE),"") -> 49.95 | Q19: =_xlfn.IFNA($C$19+VLOOKUP(Q$14,'DELIVERY e PRODOTTO FISSO'!$I:$L,3,FALSE),"") | R19: =_xlfn.IFNA($C$19+VLOOKUP(R$14,'DELIVERY e PRODOTTO FISSO'!$I:$L,3,FALSE),"") | S19: =_xlfn.IFNA($C$19+VLOOKUP(S$14,'DELIVERY e PRODOTTO FISSO'!$I:$L,3,FALSE),"") | T19: =_xlfn.IFNA($C$19+VLOOKUP(T$14,'DELIVERY e PRODOTTO FISSO'!$I:$L,3,FALSE),"") | ... Z19: =_xlfn.IFNA($C$19+VLOOKUP(Z$14,'DELIVERY e PRODOTTO FISSO'!$I:$L,3,FALSE),"")
A20: Multiorari | B20: F1 | C20: 7.65 | E20: =+$C20+'DELIVERY e PRODOTTO FISSO'!$K$26 -> 65.63 | F20: =+$C20+'DELIVERY e PRODOTTO FISSO'!$K$27 -> 63.11 | G20: =+$C20+'DELIVERY e PRODOTTO FISSO'!$K$28 -> 58.56 | H20: =+$C20+'DELIVERY e PRODOTTO FISSO'!$K$29 -> 57.96 | I20: =+$C20+'DELIVERY e PRODOTTO FISSO'!$K$30 -> 50.09 | J20: =+$C20+'DELIVERY e PRODOTTO FISSO'!$K$31 -> 53.283864 | K20: =+$C20+'DELIVERY e PRODOTTO FISSO'!$K$32 -> 53.23 | L20: =+$C20+'DELIVERY e PRODOTTO FISSO'!$K$33 -> 54.47 | M20: =_xlfn.IFNA($C$20+VLOOKUP(M$14,'DELIVERY e PRODOTTO FISSO'!$I:$L,3,FALSE),"") -> 53.79 | N20: =_xlfn.IFNA($C$20+VLOOKUP(N$14,'DELIVERY e PRODOTTO FISSO'!$I:$L,3,FALSE),"") -> 56.91 | O20: =_xlfn.IFNA($C$20+VLOOKUP(O$14,'DELIVERY e PRODOTTO FISSO'!$I:$L,3,FALSE),"") -> 57.18 | P20: =_xlfn.IFNA($C$20+VLOOKUP(P$14,'DELIVERY e PRODOTTO FISSO'!$I:$L,3,FALSE),"") -> 54.94 | Q20: =_xlfn.IFNA($C$20+VLOOKUP(Q$14,'DELIVERY e PRODOTTO FISSO'!$I:$L,3,FALSE),"") | R20: =_xlfn.IFNA($C$20+VLOOKUP(R$14,'DELIVERY e PRODOTTO FISSO'!$I:$L,3,FALSE),"") | S20: =_xlfn.IFNA($C$20+VLOOKUP(S$14,'DELIVERY e PRODOTTO FISSO'!$I:$L,3,FALSE),"") | T20: =_xlfn.IFNA($C$20+VLOOKUP(T$14,'DELIVERY e PRODOTTO FISSO'!$I:$L,3,FALSE),"") | ... Z20: =_xlfn.IFNA($C$20+VLOOKUP(Z$14,'DELIVERY e PRODOTTO FISSO'!$I:$L,3,FALSE),"")
B21: F2 | C21: 7.06 | E21: =+$C21+'DELIVERY e PRODOTTO FISSO'!$K$26 -> 65.04 | F21: =+$C21+'DELIVERY e PRODOTTO FISSO'!$K$27 -> 62.52 | G21: =+$C21+'DELIVERY e PRODOTTO FISSO'!$K$28 -> 57.97 | H21: =+$C21+'DELIVERY e PRODOTTO FISSO'!$K$29 -> 57.37 | I21: =+$C21+'DELIVERY e PRODOTTO FISSO'!$K$30 -> 49.5 | J21: =+$C21+'DELIVERY e PRODOTTO FISSO'!$K$31 -> 52.693864 | K21: =+$C21+'DELIVERY e PRODOTTO FISSO'!$K$32 -> 52.64 | L21: =+$C21+'DELIVERY e PRODOTTO FISSO'!$K$33 -> 53.88 | M21: =_xlfn.IFNA($C$21+VLOOKUP(M$14,'DELIVERY e PRODOTTO FISSO'!$I:$L,3,FALSE),"") -> 53.2 | N21: =_xlfn.IFNA($C$21+VLOOKUP(N$14,'DELIVERY e PRODOTTO FISSO'!$I:$L,3,FALSE),"") -> 56.32 | O21: =_xlfn.IFNA($C$21+VLOOKUP(O$14,'DELIVERY e PRODOTTO FISSO'!$I:$L,3,FALSE),"") -> 56.59 | P21: =_xlfn.IFNA($C$21+VLOOKUP(P$14,'DELIVERY e PRODOTTO FISSO'!$I:$L,3,FALSE),"") -> 54.35 | Q21: =_xlfn.IFNA($C$21+VLOOKUP(Q$14,'DELIVERY e PRODOTTO FISSO'!$I:$L,3,FALSE),"") | R21: =_xlfn.IFNA($C$21+VLOOKUP(R$14,'DELIVERY e PRODOTTO FISSO'!$I:$L,3,FALSE),"") | S21: =_xlfn.IFNA($C$21+VLOOKUP(S$14,'DELIVERY e PRODOTTO FISSO'!$I:$L,3,FALSE),"") | T21: =_xlfn.IFNA($C$21+VLOOKUP(T$14,'DELIVERY e PRODOTTO FISSO'!$I:$L,3,FALSE),"") | ... Z21: =_xlfn.IFNA($C$21+VLOOKUP(Z$14,'DELIVERY e PRODOTTO FISSO'!$I:$L,3,FALSE),"")
B22: F3 | C22: -4.47 | E22: =+$C22+'DELIVERY e PRODOTTO FISSO'!$K$26 -> 53.51 | F22: =+$C22+'DELIVERY e PRODOTTO FISSO'!$K$27 -> 50.99 | G22: =+$C22+'DELIVERY e PRODOTTO FISSO'!$K$28 -> 46.44 | H22: =+$C22+'DELIVERY e PRODOTTO FISSO'!$K$29 -> 45.84 | I22: =+$C22+'DELIVERY e PRODOTTO FISSO'!$K$30 -> 37.97 | J22: =+$C22+'DELIVERY e PRODOTTO FISSO'!$K$31 -> 41.163864 | K22: =+$C22+'DELIVERY e PRODOTTO FISSO'!$K$32 -> 41.11 | L22: =+$C22+'DELIVERY e PRODOTTO FISSO'!$K$33 -> 42.35 | M22: =_xlfn.IFNA($C$22+VLOOKUP(M$14,'DELIVERY e PRODOTTO FISSO'!$I:$L,3,FALSE),"") -> 41.67 | N22: =_xlfn.IFNA($C$22+VLOOKUP(N$14,'DELIVERY e PRODOTTO FISSO'!$I:$L,3,FALSE),"") -> 44.79 | O22: =_xlfn.IFNA($C$22+VLOOKUP(O$14,'DELIVERY e PRODOTTO FISSO'!$I:$L,3,FALSE),"") -> 45.06 | P22: =_xlfn.IFNA($C$22+VLOOKUP(P$14,'DELIVERY e PRODOTTO FISSO'!$I:$L,3,FALSE),"") -> 42.82 | Q22: =_xlfn.IFNA($C$22+VLOOKUP(Q$14,'DELIVERY e PRODOTTO FISSO'!$I:$L,3,FALSE),"") | R22: =_xlfn.IFNA($C$22+VLOOKUP(R$14,'DELIVERY e PRODOTTO FISSO'!$I:$L,3,FALSE),"") | S22: =_xlfn.IFNA($C$22+VLOOKUP(S$14,'DELIVERY e PRODOTTO FISSO'!$I:$L,3,FALSE),"") | T22: =_xlfn.IFNA($C$22+VLOOKUP(T$14,'DELIVERY e PRODOTTO FISSO'!$I:$L,3,FALSE),"") | ... Z22: =_xlfn.IFNA($C$22+VLOOKUP(Z$14,'DELIVERY e PRODOTTO FISSO'!$I:$L,3,FALSE),"")
A23: LOTTO 12 - Prezzi Fissi al netto delle perdite di rete (Euro/MWh)
A26: Forniture a Prezzo Fisso a 18 mesi
A27: Acquistabile fino al: | E27: 43829 | F27: 43861 | G27: 43890 | H27: 43921 | I27: 43951 | J27: 43982 | K27: 44012 | L27: 44043 | M27: 44074 | N27: 44104 | O27: 44135 | P27: 44165
A28: Per forniture: | E28: da mar-20 | F28: da apr-20 | G28: da mag-20 | H28: da giu-20 | I28: da lug-20 | J28: da ago-20 | K28: da set-20 | L28: da ott-20 | M28: da nov-20 | N28: da dic-20 | O28: da gen-21 | P28: da feb-21
E29: a ago-21 | F29: a set-21 | G29: a ott-21 | H29: a nov-21 | I29: a dic-21 | J29: a gen-22 | K29: a feb-22 | L29: a mar-22 | M29: a apr-22 | N29: a mag-22 | O29: a giu-22 | P29: a lug-22
B30: Fascia oraria | C30: ΨFIX | E30: FIX18 | F30: FIX18 | G30: FIX18 | H30: FIX18 | I30: FIX18 | J30: FIX18 | K30: FIX18 | L30: FIX18 | M30: FIX18 | N30: FIX18 | O30: FIX18 | P30: FIX18
A31: Mono | B31: F0 | C31: 2.66 | E31: =+$C31+'DELIVERY e PRODOTTO FISSO'!$L$26 -> 59.76 | F31: =+$C31+'DELIVERY e PRODOTTO FISSO'!$L$27 -> 57.2 | G31: =+$C31+'DELIVERY e PRODOTTO FISSO'!$L$28 -> 53.36 | H31: =+$C31+'DELIVERY e PRODOTTO FISSO'!$L$29 -> 53.92 | I31: =+$C31+'DELIVERY e PRODOTTO FISSO'!$L$30 -> 46.07 | J31: =+$C31+'DELIVERY e PRODOTTO FISSO'!$L$31 -> 48.91803 | K31: =+$C31+'DELIVERY e PRODOTTO FISSO'!$L$32 -> 49.89 | L31: =+$C31+'DELIVERY e PRODOTTO FISSO'!$L$33 -> 51.39 | M31: =_xlfn.IFNA($C$31+VLOOKUP(M$14,'DELIVERY e PRODOTTO FISSO'!$I:$L,4,FALSE),"") -> 50.91 | N31: =_xlfn.IFNA($C$31+VLOOKUP(N$14,'DELIVERY e PRODOTTO FISSO'!$I:$L,4,FALSE),"") -> 52.86 | O31: =_xlfn.IFNA($C$31+VLOOKUP(O$14,'DELIVERY e PRODOTTO FISSO'!$I:$L,4,FALSE),"") -> 52.11 | P31: =_xlfn.IFNA($C$31+VLOOKUP(P$14,'DELIVERY e PRODOTTO FISSO'!$I:$L,4,FALSE),"") -> 49.87 | Q31: =_xlfn.IFNA($C$31+VLOOKUP(Q$14,'DELIVERY e PRODOTTO FISSO'!$I:$L,4,FALSE),"") | R31: =_xlfn.IFNA($C$31+VLOOKUP(R$14,'DELIVERY e PRODOTTO FISSO'!$I:$L,4,FALSE),"") | S31: =_xlfn.IFNA($C$31+VLOOKUP(S$14,'DELIVERY e PRODOTTO FISSO'!$I:$L,4,FALSE),"") | T31: =_xlfn.IFNA($C$31+VLOOKUP(T$14,'DELIVERY e PRODOTTO FISSO'!$I:$L,4,FALSE),"") | ... Z31: =_xlfn.IFNA($C$31+VLOOKUP(Z$14,'DELIVERY e PRODOTTO FISSO'!$I:$L,4,FALSE),"")
A32: Multiorari | B32: F1 | C32: 7.65 | E32: =+$C32+'DELIVERY e PRODOTTO FISSO'!$L$26 -> 64.75 | F32: =+$C32+'DELIVERY e PRODOTTO FISSO'!$L$27 -> 62.19 | G32: =+$C32+'DELIVERY e PRODOTTO FISSO'!$L$28 -> 58.35 | H32: =+$C32+'DELIVERY e PRODOTTO FISSO'!$L$29 -> 58.91 | I32: =+$C32+'DELIVERY e PRODOTTO FISSO'!$L$30 -> 51.06 | J32: =+$C32+'DELIVERY e PRODOTTO FISSO'!$L$31 -> 53.90803 | K32: =+$C32+'DELIVERY e PRODOTTO FISSO'!$L$32 -> 54.88 | L32: =+$C32+'DELIVERY e PRODOTTO FISSO'!$L$33 -> 56.38 | M32: =_xlfn.IFNA($C$32+VLOOKUP(M$14,'DELIVERY e PRODOTTO FISSO'!$I:$L,4,FALSE),"") -> 55.9 | N32: =_xlfn.IFNA($C$32+VLOOKUP(N$14,'DELIVERY e PRODOTTO FISSO'!$I:$L,4,FALSE),"") -> 57.85 | O32: =_xlfn.IFNA($C$32+VLOOKUP(O$14,'DELIVERY e PRODOTTO FISSO'!$I:$L,4,FALSE),"") -> 57.1 | P32: =_xlfn.IFNA($C$32+VLOOKUP(P$14,'DELIVERY e PRODOTTO FISSO'!$I:$L,4,FALSE),"") -> 54.86 | Q32: =_xlfn.IFNA($C$32+VLOOKUP(Q$14,'DELIVERY e PRODOTTO FISSO'!$I:$L,4,FALSE),"") | R32: =_xlfn.IFNA($C$32+VLOOKUP(R$14,'DELIVERY e PRODOTTO FISSO'!$I:$L,4,FALSE),"") | S32: =_xlfn.IFNA($C$32+VLOOKUP(S$14,'DELIVERY e PRODOTTO FISSO'!$I:$L,4,FALSE),"") | T32: =_xlfn.IFNA($C$32+VLOOKUP(T$14,'DELIVERY e PRODOTTO FISSO'!$I:$L,4,FALSE),"") | ... Z32: =_xlfn.IFNA($C$32+VLOOKUP(Z$14,'DELIVERY e PRODOTTO FISSO'!$I:$L,4,FALSE),"")
B33: F2 | C33: 7.06 | E33: =+$C33+'DELIVERY e PRODOTTO FISSO'!$L$26 -> 64.16 | F33: =+$C33+'DELIVERY e PRODOTTO FISSO'!$L$27 -> 61.6 | G33: =+$C33+'DELIVERY e PRODOTTO FISSO'!$L$28 -> 57.76 | H33: =+$C33+'DELIVERY e PRODOTTO FISSO'!$L$29 -> 58.32 | I33: =+$C33+'DELIVERY e PRODOTTO FISSO'!$L$30 -> 50.47 | J33: =+$C33+'DELIVERY e PRODOTTO FISSO'!$L$31 -> 53.31803 | K33: =+$C33+'DELIVERY e PRODOTTO FISSO'!$L$32 -> 54.29 | L33: =+$C33+'DELIVERY e PRODOTTO FISSO'!$L$33 -> 55.79 | M33: =_xlfn.IFNA($C$33+VLOOKUP(M$14,'DELIVERY e PRODOTTO FISSO'!$I:$L,4,FALSE),"") -> 55.31 | N33: =_xlfn.IFNA($C$33+VLOOKUP(N$14,'DELIVERY e PRODOTTO FISSO'!$I:$L,4,FALSE),"") -> 57.26 | O33: =_xlfn.IFNA($C$33+VLOOKUP(O$14,'DELIVERY e PRODOTTO FISSO'!$I:$L,4,FALSE),"") -> 56.51 | P33: =_xlfn.IFNA($C$33+VLOOKUP(P$14,'DELIVERY e PRODOTTO FISSO'!$I:$L,4,FALSE),"") -> 54.27 | Q33: =_xlfn.IFNA($C$33+VLOOKUP(Q$14,'DELIVERY e PRODOTTO FISSO'!$I:$L,4,FALSE),"") | R33: =_xlfn.IFNA($C$33+VLOOKUP(R$14,'DELIVERY e PRODOTTO FISSO'!$I:$L,4,FALSE),"") | S33: =_xlfn.IFNA($C$33+VLOOKUP(S$14,'DELIVERY e PRODOTTO FISSO'!$I:$L,4,FALSE),"") | T33: =_xlfn.IFNA($C$33+VLOOKUP(T$14,'DELIVERY e PRODOTTO FISSO'!$I:$L,4,FALSE),"") | ... Z33: =_xlfn.IFNA($C$33+VLOOKUP(Z$14,'DELIVERY e PRODOTTO FISSO'!$I:$L,4,FALSE),"")
B34: F3 | C34: -4.47 | E34: =+$C34+'DELIVERY e PRODOTTO FISSO'!$L$26 -> 52.63 | F34: =+$C34+'DELIVERY e PRODOTTO FISSO'!$L$27 -> 50.07 | G34: =+$C34+'DELIVERY e PRODOTTO FISSO'!$L$28 -> 46.23 | H34: =+$C34+'DELIVERY e PRODOTTO FISSO'!$L$29 -> 46.79 | I34: =+$C34+'DELIVERY e PRODOTTO FISSO'!$L$30 -> 38.94 | J34: =+$C34+'DELIVERY e PRODOTTO FISSO'!$L$31 -> 41.78803 | K34: =+$C34+'DELIVERY e PRODOTTO FISSO'!$L$32 -> 42.76 | L34: =+$C34+'DELIVERY e PRODOTTO FISSO'!$L$33 -> 44.26 | M34: =_xlfn.IFNA($C$34+VLOOKUP(M$14,'DELIVERY e PRODOTTO FISSO'!$I:$L,4,FALSE),"") -> 43.78 | N34: =_xlfn.IFNA($C$34+VLOOKUP(N$14,'DELIVERY e PRODOTTO FISSO'!$I:$L,4,FALSE),"") -> 45.73 | O34: =_xlfn.IFNA($C$34+VLOOKUP(O$14,'DELIVERY e PRODOTTO FISSO'!$I:$L,4,FALSE),"") -> 44.98 | P34: =_xlfn.IFNA($C$34+VLOOKUP(P$14,'DELIVERY e PRODOTTO FISSO'!$I:$L,4,FALSE),"") -> 42.74 | Q34: =_xlfn.IFNA($C$34+VLOOKUP(Q$14,'DELIVERY e PRODOTTO FISSO'!$I:$L,4,FALSE),"") | R34: =_xlfn.IFNA($C$34+VLOOKUP(R$14,'DELIVERY e PRODOTTO FISSO'!$I:$L,4,FALSE),"") | S34: =_xlfn.IFNA($C$34+VLOOKUP(S$14,'DELIVERY e PRODOTTO FISSO'!$I:$L,4,FALSE),"") | T34: =_xlfn.IFNA($C$34+VLOOKUP(T$14,'DELIVERY e PRODOTTO FISSO'!$I:$L,4,FALSE),"") | ... Z34: =_xlfn.IFNA($C$34+VLOOKUP(Z$14,'DELIVERY e PRODOTTO FISSO'!$I:$L,4,FALSE),"")
A35: LOTTO 12 - Prezzi Fissi al netto delle perdite di rete (Euro/MWh)

Sheet Lotto13
Q1: torna al SOMMARIO
A4: Energia elettrica 17
A5: Convenzione per la fornitura di energia elettrica a prezzo fisso o a prezzo variabile e servizi connessi per tutte le Pubbliche Amministrazioni
A7: Configuratore corrispettivi a Prezzo Fisso per la fornitura di Energia Elettrica edizione 17
A9: =+SOMMARIO!A22 -> Lotto 13: Campania
A11: Sconto PA Virtuose S | C11: 3,74 Euro/MWh
A12: Opzione Verde | C12: 1,1 Euro/MWh
A14: Forniture a Prezzo Fisso a 12 mesi | M14: 44044 | N14: 44075 | O14: 44105 | P14: 44136 | Q14: 44166 | R14: 44197 | S14: 44228 | T14: 44256 | U14: 44287 | V14: 44317 | W14: 44348 | X14: 44378
A15: Acquistabile fino al: | E15: 43829 | F15: 43861 | G15: 43890 | H15: 43921 | I15: 43951 | J15: 43982 | K15: 44012 | L15: 44043 | M15: 44074 | N15: 44104 | O15: 44135 | P15: 44165
A16: Per forniture: | E16: da mar-20 | F16: da apr-20 | G16: da mag-20 | H16: da giu-20 | I16: da lug-20 | J16: da ago-20 | K16: da set-20 | L16: da ott-20 | M16: da nov-20 | N16: da dic-20 | O16: da gen-21 | P16: da feb-21
E17: a feb-21 | F17: a mar-21 | G17: a apr-21 | H17: a mag-21 | I17: a giu-21 | J17: a lug-21 | K17: a ago-21 | L17: a set-21 | M17: a ott-21 | N17: a nov-21 | O17: a dic-21 | P17: a gen-22
B18: Fascia oraria | C18: ΨFIX | E18: FIX12 | F18: FIX12 | G18: FIX12 | H18: FIX12 | I18: FIX12 | J18: FIX12 | K18: FIX12 | L18: FIX12 | M18: FIX12 | N18: FIX12 | O18: FIX12 | P18: FIX12
A19: Mono | B19: F0 | C19: 7.52 | E19: =+$C19+'DELIVERY e PRODOTTO FISSO'!$K$26 -> 65.5 | F19: =+$C19+'DELIVERY e PRODOTTO FISSO'!$K$27 -> 62.98 | G19: =+$C19+'DELIVERY e PRODOTTO FISSO'!$K$28 -> 58.43 | H19: =+$C19+'DELIVERY e PRODOTTO FISSO'!$K$29 -> 57.83 | I19: =+$C19+'DELIVERY e PRODOTTO FISSO'!$K$30 -> 49.96 | J19: =+$C19+'DELIVERY e PRODOTTO FISSO'!$K$31 -> 53.153864 | K19: =+$C19+'DELIVERY e PRODOTTO FISSO'!$K$32 -> 53.1 | L19: =+$C19+'DELIVERY e PRODOTTO FISSO'!$K$33 -> 54.34 | M19: =_xlfn.IFNA($C$19+VLOOKUP(M$14,'DELIVERY e PRODOTTO FISSO'!$I:$L,3,FALSE),"") -> 53.66 | N19: =_xlfn.IFNA($C$19+VLOOKUP(N$14,'DELIVERY e PRODOTTO FISSO'!$I:$L,3,FALSE),"") -> 56.78 | O19: =_xlfn.IFNA($C$19+VLOOKUP(O$14,'DELIVERY e PRODOTTO FISSO'!$I:$L,3,FALSE),"") -> 57.05 | P19: =_xlfn.IFNA($C$19+VLOOKUP(P$14,'DELIVERY e PRODOTTO FISSO'!$I:$L,3,FALSE),"") -> 54.81 | Q19: =_xlfn.IFNA($C$19+VLOOKUP(Q$14,'DELIVERY e PRODOTTO FISSO'!$I:$L,3,FALSE),"") | R19: =_xlfn.IFNA($C$19+VLOOKUP(R$14,'DELIVERY e PRODOTTO FISSO'!$I:$L,3,FALSE),"") | S19: =_xlfn.IFNA($C$19+VLOOKUP(S$14,'DELIVERY e PRODOTTO FISSO'!$I:$L,3,FALSE),"") | T19: =_xlfn.IFNA($C$19+VLOOKUP(T$14,'DELIVERY e PRODOTTO FISSO'!$I:$L,3,FALSE),"") | ... Z19: =_xlfn.IFNA($C$19+VLOOKUP(Z$14,'DELIVERY e PRODOTTO FISSO'!$I:$L,3,FALSE),"")
A20: Multiorari | B20: F1 | C20: 4.72 | E20: =+$C20+'DELIVERY e PRODOTTO FISSO'!$K$26 -> 62.7 | F20: =+$C20+'DELIVERY e PRODOTTO FISSO'!$K$27 -> 60.18 | G20: =+$C20+'DELIVERY e PRODOTTO FISSO'!$K$28 -> 55.63 | H20: =+$C20+'DELIVERY e PRODOTTO FISSO'!$K$29 -> 55.03 | I20: =+$C20+'DELIVERY e PRODOTTO FISSO'!$K$30 -> 47.16 | J20: =+$C20+'DELIVERY e PRODOTTO FISSO'!$K$31 -> 50.353864 | K20: =+$C20+'DELIVERY e PRODOTTO FISSO'!$K$32 -> 50.3 | L20: =+$C20+'DELIVERY e PRODOTTO FISSO'!$K$33 -> 51.54 | M20: =_xlfn.IFNA($C$20+VLOOKUP(M$14,'DELIVERY e PRODOTTO FISSO'!$I:$L,3,FALSE),"") -> 50.86 | N20: =_xlfn.IFNA($C$20+VLOOKUP(N$14,'DELIVERY e PRODOTTO FISSO'!$I:$L,3,FALSE),"") -> 53.98 | O20: =_xlfn.IFNA($C$20+VLOOKUP(O$14,'DELIVERY e PRODOTTO FISSO'!$I:$L,3,FALSE),"") -> 54.25 | P20: =_xlfn.IFNA($C$20+VLOOKUP(P$14,'DELIVERY e PRODOTTO FISSO'!$I:$L,3,FALSE),"") -> 52.01 | Q20: =_xlfn.IFNA($C$20+VLOOKUP(Q$14,'DELIVERY e PRODOTTO FISSO'!$I:$L,3,FALSE),"") | R20: =_xlfn.IFNA($C$20+VLOOKUP(R$14,'DELIVERY e PRODOTTO FISSO'!$I:$L,3,FALSE),"") | S20: =_xlfn.IFNA($C$20+VLOOKUP(S$14,'DELIVERY e PRODOTTO FISSO'!$I:$L,3,FALSE),"") | T20: =_xlfn.IFNA($C$20+VLOOKUP(T$14,'DELIVERY e PRODOTTO FISSO'!$I:$L,3,FALSE),"") | ... Z20: =_xlfn.IFNA($C$20+VLOOKUP(Z$14,'DELIVERY e PRODOTTO FISSO'!$I:$L,3,FALSE),"")
B21: F2 | C21: 4.72 | E21: =+$C21+'DELIVERY e PRODOTTO FISSO'!$K$26 -> 62.7 | F21: =+$C21+'DELIVERY e PRODOTTO FISSO'!$K$27 -> 60.18 | G21: =+$C21+'DELIVERY e PRODOTTO FISSO'!$K$28 -> 55.63 | H21: =+$C21+'DELIVERY e PRODOTTO FISSO'!$K$29 -> 55.03 | I21: =+$C21+'DELIVERY e PRODOTTO FISSO'!$K$30 -> 47.16 | J21: =+$C21+'DELIVERY e PRODOTTO FISSO'!$K$31 -> 50.353864 | K21: =+$C21+'DELIVERY e PRODOTTO FISSO'!$K$32 -> 50.3 | L21: =+$C21+'DELIVERY e PRODOTTO FISSO'!$K$33 -> 51.54 | M21: =_xlfn.IFNA($C$21+VLOOKUP(M$14,'DELIVERY e PRODOTTO FISSO'!$I:$L,3,FALSE),"") -> 50.86 | N21: =_xlfn.IFNA($C$21+VLOOKUP(N$14,'DELIVERY e PRODOTTO FISSO'!$I:$L,3,FALSE),"") -> 53.98 | O21: =_xlfn.IFNA($C$21+VLOOKUP(O$14,'DELIVERY e PRODOTTO FISSO'!$I:$L,3,FALSE),"") -> 54.25 | P21: =_xlfn.IFNA($C$21+VLOOKUP(P$14,'DELIVERY e PRODOTTO FISSO'!$I:$L,3,FALSE),"") -> 52.01 | Q21: =_xlfn.IFNA($C$21+VLOOKUP(Q$14,'DELIVERY e PRODOTTO FISSO'!$I:$L,3,FALSE),"") | R21: =_xlfn.IFNA($C$21+VLOOKUP(R$14,'DELIVERY e PRODOTTO FISSO'!$I:$L,3,FALSE),"") | S21: =_xlfn.IFNA($C$21+VLOOKUP(S$14,'DELIVERY e PRODOTTO FISSO'!$I:$L,3,FALSE),"") | T21: =_xlfn.IFNA($C$21+VLOOKUP(T$14,'DELIVERY e PRODOTTO FISSO'!$I:$L,3,FALSE),"") | ... Z21: =_xlfn.IFNA($C$21+VLOOKUP(Z$14,'DELIVERY e PRODOTTO FISSO'!$I:$L,3,FALSE),"")
B22: F3 | C22: 11.72 | E22: =+$C22+'DELIVERY e PRODOTTO FISSO'!$K$26 -> 69.7 | F22: =+$C22+'DELIVERY e PRODOTTO FISSO'!$K$27 -> 67.18 | G22: =+$C22+'DELIVERY e PRODOTTO FISSO'!$K$28 -> 62.63 | H22: =+$C22+'DELIVERY e PRODOTTO FISSO'!$K$29 -> 62.03 | I22: =+$C22+'DELIVERY e PRODOTTO FISSO'!$K$30 -> 54.16 | J22: =+$C22+'DELIVERY e PRODOTTO FISSO'!$K$31 -> 57.353864 | K22: =+$C22+'DELIVERY e PRODOTTO FISSO'!$K$32 -> 57.3 | L22: =+$C22+'DELIVERY e PRODOTTO FISSO'!$K$33 -> 58.54 | M22: =_xlfn.IFNA($C$22+VLOOKUP(M$14,'DELIVERY e PRODOTTO FISSO'!$I:$L,3,FALSE),"") -> 57.86 | N22: =_xlfn.IFNA($C$22+VLOOKUP(N$14,'DELIVERY e PRODOTTO FISSO'!$I:$L,3,FALSE),"") -> 60.98 | O22: =_xlfn.IFNA($C$22+VLOOKUP(O$14,'DELIVERY e PRODOTTO FISSO'!$I:$L,3,FALSE),"") -> 61.25 | P22: =_xlfn.IFNA($C$22+VLOOKUP(P$14,'DELIVERY e PRODOTTO FISSO'!$I:$L,3,FALSE),"") -> 59.01 | Q22: =_xlfn.IFNA($C$22+VLOOKUP(Q$14,'DELIVERY e PRODOTTO FISSO'!$I:$L,3,FALSE),"") | R22: =_xlfn.IFNA($C$22+VLOOKUP(R$14,'DELIVERY e PRODOTTO FISSO'!$I:$L,3,FALSE),"") | S22: =_xlfn.IFNA($C$22+VLOOKUP(S$14,'DELIVERY e PRODOTTO FISSO'!$I:$L,3,FALSE),"") | T22: =_xlfn.IFNA($C$22+VLOOKUP(T$14,'DELIVERY e PRODOTTO FISSO'!$I:$L,3,FALSE),"") | ... Z22: =_xlfn.IFNA($C$22+VLOOKUP(Z$14,'DELIVERY e PRODOTTO FISSO'!$I:$L,3,FALSE),"")
A23: LOTTO 13 - Prezzi Fissi al netto delle perdite di rete (Euro/MWh)
A26: Forniture a Prezzo Fisso a 18 mesi
A27: Acquistabile fino al: | E27: 43829 | F27: 43861 | G27: 43890 | H27: 43921 | I27: 43951 | J27: 43982 | K27: 44012 | L27: 44043 | M27: 44074 | N27: 44104 | O27: 44135 | P27: 44165
A28: Per forniture: | E28: da mar-20 | F28: da apr-20 | G28: da mag-20 | H28: da giu-20 | I28: da lug-20 | J28: da ago-20 | K28: da set-20 | L28: da ott-20 | M28: da nov-20 | N28: da dic-20 | O28: da gen-21 | P28: da feb-21
E29: a ago-21 | F29: a set-21 | G29: a ott-21 | H29: a nov-21 | I29: a dic-21 | J29: a gen-22 | K29: a feb-22 | L29: a mar-22 | M29: a apr-22 | N29: a mag-22 | O29: a giu-22 | P29: a lug-22
B30: Fascia oraria | C30: ΨFIX | E30: FIX18 | F30: FIX18 | G30: FIX18 | H30: FIX18 | I30: FIX18 | J30: FIX18 | K30: FIX18 | L30: FIX18 | M30: FIX18 | N30: FIX18 | O30: FIX18 | P30: FIX18
A31: Mono | B31: F0 | C31: 7.52 | E31: =+$C31+'DELIVERY e PRODOTTO FISSO'!$L$26 -> 64.62 | F31: =+$C31+'DELIVERY e PRODOTTO FISSO'!$L$27 -> 62.06 | G31: =+$C31+'DELIVERY e PRODOTTO FISSO'!$L$28 -> 58.22 | H31: =+$C31+'DELIVERY e PRODOTTO FISSO'!$L$29 -> 58.78 | I31: =+$C31+'DELIVERY e PRODOTTO FISSO'!$L$30 -> 50.93 | J31: =+$C31+'DELIVERY e PRODOTTO FISSO'!$L$31 -> 53.77803 | K31: =+$C31+'DELIVERY e PRODOTTO FISSO'!$L$32 -> 54.75 | L31: =+$C31+'DELIVERY e PRODOTTO FISSO'!$L$33 -> 56.25 | M31: =_xlfn.IFNA($C$31+VLOOKUP(M$14,'DELIVERY e PRODOTTO FISSO'!$I:$L,4,FALSE),"") -> 55.77 | N31: =_xlfn.IFNA($C$31+VLOOKUP(N$14,'DELIVERY e PRODOTTO FISSO'!$I:$L,4,FALSE),"") -> 57.72 | O31: =_xlfn.IFNA($C$31+VLOOKUP(O$14,'DELIVERY e PRODOTTO FISSO'!$I:$L,4,FALSE),"") -> 56.97 | P31: =_xlfn.IFNA($C$31+VLOOKUP(P$14,'DELIVERY e PRODOTTO FISSO'!$I:$L,4,FALSE),"") -> 54.73 | Q31: =_xlfn.IFNA($C$31+VLOOKUP(Q$14,'DELIVERY e PRODOTTO FISSO'!$I:$L,4,FALSE),"") | R31: =_xlfn.IFNA($C$31+VLOOKUP(R$14,'DELIVERY e PRODOTTO FISSO'!$I:$L,4,FALSE),"") | S31: =_xlfn.IFNA($C$31+VLOOKUP(S$14,'DELIVERY e PRODOTTO FISSO'!$I:$L,4,FALSE),"") | T31: =_xlfn.IFNA($C$31+VLOOKUP(T$14,'DELIVERY e PRODOTTO FISSO'!$I:$L,4,FALSE),"") | ... Z31: =_xlfn.IFNA($C$31+VLOOKUP(Z$14,'DELIVERY e PRODOTTO FISSO'!$I:$L,4,FALSE),"")
A32: Multiorari | B32: F1 | C32: 4.72 | E32: =+$C32+'DELIVERY e PRODOTTO FISSO'!$L$26 -> 61.82 | F32: =+$C32+'DELIVERY e PRODOTTO FISSO'!$L$27 -> 59.26 | G32: =+$C32+'DELIVERY e PRODOTTO FISSO'!$L$28 -> 55.42 | H32: =+$C32+'DELIVERY e PRODOTTO FISSO'!$L$29 -> 55.98 | I32: =+$C32+'DELIVERY e PRODOTTO FISSO'!$L$30 -> 48.13 | J32: =+$C32+'DELIVERY e PRODOTTO FISSO'!$L$31 -> 50.97803 | K32: =+$C32+'DELIVERY e PRODOTTO FISSO'!$L$32 -> 51.95 | L32: =+$C32+'DELIVERY e PRODOTTO FISSO'!$L$33 -> 53.45 | M32: =_xlfn.IFNA($C$32+VLOOKUP(M$14,'DELIVERY e PRODOTTO FISSO'!$I:$L,4,FALSE),"") -> 52.97 | N32: =_xlfn.IFNA($C$32+VLOOKUP(N$14,'DELIVERY e PRODOTTO FISSO'!$I:$L,4,FALSE),"") -> 54.92 | O32: =_xlfn.IFNA($C$32+VLOOKUP(O$14,'DELIVERY e PRODOTTO FISSO'!$I:$L,4,FALSE),"") -> 54.17 | P32: =_xlfn.IFNA($C$32+VLOOKUP(P$14,'DELIVERY e PRODOTTO FISSO'!$I:$L,4,FALSE),"") -> 51.93 | Q32: =_xlfn.IFNA($C$32+VLOOKUP(Q$14,'DELIVERY e PRODOTTO FISSO'!$I:$L,4,FALSE),"") | R32: =_xlfn.IFNA($C$32+VLOOKUP(R$14,'DELIVERY e PRODOTTO FISSO'!$I:$L,4,FALSE),"") | S32: =_xlfn.IFNA($C$32+VLOOKUP(S$14,'DELIVERY e PRODOTTO FISSO'!$I:$L,4,FALSE),"") | T32: =_xlfn.IFNA($C$32+VLOOKUP(T$14,'DELIVERY e PRODOTTO FISSO'!$I:$L,4,FALSE),"") | ... Z32: =_xlfn.IFNA($C$32+VLOOKUP(Z$14,'DELIVERY e PRODOTTO FISSO'!$I:$L,4,FALSE),"")
B33: F2 | C33: 4.72 | E33: =+$C33+'DELIVERY e PRODOTTO FISSO'!$L$26 -> 61.82 | F33: =+$C33+'DELIVERY e PRODOTTO FISSO'!$L$27 -> 59.26 | G33: =+$C33+'DELIVERY e PRODOTTO FISSO'!$L$28 -> 55.42 | H33: =+$C33+'DELIVERY e PRODOTTO FISSO'!$L$29 -> 55.98 | I33: =+$C33+'DELIVERY e PRODOTTO FISSO'!$L$30 -> 48.13 | J33: =+$C33+'DELIVERY e PRODOTTO FISSO'!$L$31 -> 50.97803 | K33: =+$C33+'DELIVERY e PRODOTTO FISSO'!$L$32 -> 51.95 | L33: =+$C33+'DELIVERY e PRODOTTO FISSO'!$L$33 -> 53.45 | M33: =_xlfn.IFNA($C$33+VLOOKUP(M$14,'DELIVERY e PRODOTTO FISSO'!$I:$L,4,FALSE),"") -> 52.97 | N33: =_xlfn.IFNA($C$33+VLOOKUP(N$14,'DELIVERY e PRODOTTO FISSO'!$I:$L,4,FALSE),"") -> 54.92 | O33: =_xlfn.IFNA($C$33+VLOOKUP(O$14,'DELIVERY e PRODOTTO FISSO'!$I:$L,4,FALSE),"") -> 54.17 | P33: =_xlfn.IFNA($C$33+VLOOKUP(P$14,'DELIVERY e PRODOTTO FISSO'!$I:$L,4,FALSE),"") -> 51.93 | Q33: =_xlfn.IFNA($C$33+VLOOKUP(Q$14,'DELIVERY e PRODOTTO FISSO'!$I:$L,4,FALSE),"") | R33: =_xlfn.IFNA($C$33+VLOOKUP(R$14,'DELIVERY e PRODOTTO FISSO'!$I:$L,4,FALSE),"") | S33: =_xlfn.IFNA($C$33+VLOOKUP(S$14,'DELIVERY e PRODOTTO FISSO'!$I:$L,4,FALSE),"") | T33: =_xlfn.IFNA($C$33+VLOOKUP(T$14,'DELIVERY e PRODOTTO FISSO'!$I:$L,4,FALSE),"") | ... Z33: =_xlfn.IFNA($C$33+VLOOKUP(Z$14,'DELIVERY e PRODOTTO FISSO'!$I:$L,4,FALSE),"")
B34: F3 | C34: 11.72 | E34: =+$C34+'DELIVERY e PRODOTTO FISSO'!$L$26 -> 68.82 | F34: =+$C34+'DELIVERY e PRODOTTO FISSO'!$L$27 -> 66.26 | G34: =+$C34+'DELIVERY e PRODOTTO FISSO'!$L$28 -> 62.42 | H34: =+$C34+'DELIVERY e PRODOTTO FISSO'!$L$29 -> 62.98 | I34: =+$C34+'DELIVERY e PRODOTTO FISSO'!$L$30 -> 55.13 | J34: =+$C34+'DELIVERY e PRODOTTO FISSO'!$L$31 -> 57.97803 | K34: =+$C34+'DELIVERY e PRODOTTO FISSO'!$L$32 -> 58.95 | L34: =+$C34+'DELIVERY e PRODOTTO FISSO'!$L$33 -> 60.45 | M34: =_xlfn.IFNA($C$34+VLOOKUP(M$14,'DELIVERY e PRODOTTO FISSO'!$I:$L,4,FALSE),"") -> 59.97 | N34: =_xlfn.IFNA($C$34+VLOOKUP(N$14,'DELIVERY e PRODOTTO FISSO'!$I:$L,4,FALSE),"") -> 61.92 | O34: =_xlfn.IFNA($C$34+VLOOKUP(O$14,'DELIVERY e PRODOTTO FISSO'!$I:$L,4,FALSE),"") -> 61.17 | P34: =_xlfn.IFNA($C$34+VLOOKUP(P$14,'DELIVERY e PRODOTTO FISSO'!$I:$L,4,FALSE),"") -> 58.93 | Q34: =_xlfn.IFNA($C$34+VLOOKUP(Q$14,'DELIVERY e PRODOTTO FISSO'!$I:$L,4,FALSE),"") | R34: =_xlfn.IFNA($C$34+VLOOKUP(R$14,'DELIVERY e PRODOTTO FISSO'!$I:$L,4,FALSE),"") | S34: =_xlfn.IFNA($C$34+VLOOKUP(S$14,'DELIVERY e PRODOTTO FISSO'!$I:$L,4,FALSE),"") | T34: =_xlfn.IFNA($C$34+VLOOKUP(T$14,'DELIVERY e PRODOTTO FISSO'!$I:$L,4,FALSE),"") | ... Z34: =_xlfn.IFNA($C$34+VLOOKUP(Z$14,'DELIVERY e PRODOTTO FISSO'!$I:$L,4,FALSE),"")
A35: LOTTO 13 - Prezzi Fissi al netto delle perdite di rete (Euro/MWh)

Sheet Lotto 14
Q1: torna al SOMMARIO
A4: Energia elettrica 17
A5: Convenzione per la fornitura di energia elettrica a prezzo fisso o a prezzo variabile e servizi connessi per tutte le Pubbliche Amministrazioni
A7: Configuratore corrispettivi a Prezzo Fisso per la fornitura di Energia Elettrica edizione 17
A9: =+SOMMARIO!A23 -> Lotto 14: Puglia, Basilicata
A11: Sconto PA Virtuose S | C11: 0,1 Euro/MWh
A12: Opzione Verde | C12: 1,1 Euro/MWh
A14: Forniture a Prezzo Fisso a 12 mesi | M14: 44044 | N14: 44075 | O14: 44105 | P14: 44136 | Q14: 44166 | R14: 44197 | S14: 44228 | T14: 44256 | U14: 44287 | V14: 44317 | W14: 44348 | X14: 44378
A15: Acquistabile fino al: | E15: 43829 | F15: 43861 | G15: 43890 | H15: 43921 | I15: 43951 | J15: 43982 | K15: 44012 | L15: 44043 | M15: 44074 | N15: 44104 | O15: 44135 | P15: 44165
A16: Per forniture: | E16: da mar-20 | F16: da apr-20 | G16: da mag-20 | H16: da giu-20 | I16: da lug-20 | J16: da ago-20 | K16: da set-20 | L16: da ott-20 | M16: da nov-20 | N16: da dic-20 | O16: da gen-21 | P16: da feb-21
E17: a feb-21 | F17: a mar-21 | G17: a apr-21 | H17: a mag-21 | I17: a giu-21 | J17: a lug-21 | K17: a ago-21 | L17: a set-21 | M17: a ott-21 | N17: a nov-21 | O17: a dic-21 | P17: a gen-22
B18: Fascia oraria | C18: ΨFIX | E18: FIX12 | F18: FIX12 | G18: FIX12 | H18: FIX12 | I18: FIX12 | J18: FIX12 | K18: FIX12 | L18: FIX12 | M18: FIX12 | N18: FIX12 | O18: FIX12 | P18: FIX12
A19: Mono | B19: F0 | C19: 3.36 | E19: =+$C19+'DELIVERY e PRODOTTO FISSO'!$K$26 -> 61.34 | F19: =+$C19+'DELIVERY e PRODOTTO FISSO'!$K$27 -> 58.82 | G19: =+$C19+'DELIVERY e PRODOTTO FISSO'!$K$28 -> 54.27 | H19: =+$C19+'DELIVERY e PRODOTTO FISSO'!$K$29 -> 53.67 | I19: =+$C19+'DELIVERY e PRODOTTO FISSO'!$K$30 -> 45.8 | J19: =+$C19+'DELIVERY e PRODOTTO FISSO'!$K$31 -> 48.993864 | K19: =+$C19+'DELIVERY e PRODOTTO FISSO'!$K$32 -> 48.94 | L19: =+$C19+'DELIVERY e PRODOTTO FISSO'!$K$33 -> 50.18 | M19: =_xlfn.IFNA($C$19+VLOOKUP(M$14,'DELIVERY e PRODOTTO FISSO'!$I:$L,3,FALSE),"") -> 49.5 | N19: =_xlfn.IFNA($C$19+VLOOKUP(N$14,'DELIVERY e PRODOTTO FISSO'!$I:$L,3,FALSE),"") -> 52.62 | O19: =_xlfn.IFNA($C$19+VLOOKUP(O$14,'DELIVERY e PRODOTTO FISSO'!$I:$L,3,FALSE),"") -> 52.89 | P19: =_xlfn.IFNA($C$19+VLOOKUP(P$14,'DELIVERY e PRODOTTO FISSO'!$I:$L,3,FALSE),"") -> 50.65 | Q19: =_xlfn.IFNA($C$19+VLOOKUP(Q$14,'DELIVERY e PRODOTTO FISSO'!$I:$L,3,FALSE),"") | R19: =_xlfn.IFNA($C$19+VLOOKUP(R$14,'DELIVERY e PRODOTTO FISSO'!$I:$L,3,FALSE),"") | S19: =_xlfn.IFNA($C$19+VLOOKUP(S$14,'DELIVERY e PRODOTTO FISSO'!$I:$L,3,FALSE),"") | T19: =_xlfn.IFNA($C$19+VLOOKUP(T$14,'DELIVERY e PRODOTTO FISSO'!$I:$L,3,FALSE),"") | ... Z19: =_xlfn.IFNA($C$19+VLOOKUP(Z$14,'DELIVERY e PRODOTTO FISSO'!$I:$L,3,FALSE),"")
A20: Multiorari | B20: F1 | C20: 3.36 | E20: =+$C20+'DELIVERY e PRODOTTO FISSO'!$K$26 -> 61.34 | F20: =+$C20+'DELIVERY e PRODOTTO FISSO'!$K$27 -> 58.82 | G20: =+$C20+'DELIVERY e PRODOTTO FISSO'!$K$28 -> 54.27 | H20: =+$C20+'DELIVERY e PRODOTTO FISSO'!$K$29 -> 53.67 | I20: =+$C20+'DELIVERY e PRODOTTO FISSO'!$K$30 -> 45.8 | J20: =+$C20+'DELIVERY e PRODOTTO FISSO'!$K$31 -> 48.993864 | K20: =+$C20+'DELIVERY e PRODOTTO FISSO'!$K$32 -> 48.94 | L20: =+$C20+'DELIVERY e PRODOTTO FISSO'!$K$33 -> 50.18 | M20: =_xlfn.IFNA($C$20+VLOOKUP(M$14,'DELIVERY e PRODOTTO FISSO'!$I:$L,3,FALSE),"") -> 49.5 | N20: =_xlfn.IFNA($C$20+VLOOKUP(N$14,'DELIVERY e PRODOTTO FISSO'!$I:$L,3,FALSE),"") -> 52.62 | O20: =_xlfn.IFNA($C$20+VLOOKUP(O$14,'DELIVERY e PRODOTTO FISSO'!$I:$L,3,FALSE),"") -> 52.89 | P20: =_xlfn.IFNA($C$20+VLOOKUP(P$14,'DELIVERY e PRODOTTO FISSO'!$I:$L,3,FALSE),"") -> 50.65 | Q20: =_xlfn.IFNA($C$20+VLOOKUP(Q$14,'DELIVERY e PRODOTTO FISSO'!$I:$L,3,FALSE),"") | R20: =_xlfn.IFNA($C$20+VLOOKUP(R$14,'DELIVERY e PRODOTTO FISSO'!$I:$L,3,FALSE),"") | S20: =_xlfn.IFNA($C$20+VLOOKUP(S$14,'DELIVERY e PRODOTTO FISSO'!$I:$L,3,FALSE),"") | T20: =_xlfn.IFNA($C$20+VLOOKUP(T$14,'DELIVERY e PRODOTTO FISSO'!$I:$L,3,FALSE),"") | ... Z20: =_xlfn.IFNA($C$20+VLOOKUP(Z$14,'DELIVERY e PRODOTTO FISSO'!$I:$L,3,FALSE),"")
B21: F2 | C21: 3.36 | E21: =+$C21+'DELIVERY e PRODOTTO FISSO'!$K$26 -> 61.34 | F21: =+$C21+'DELIVERY e PRODOTTO FISSO'!$K$27 -> 58.82 | G21: =+$C21+'DELIVERY e PRODOTTO FISSO'!$K$28 -> 54.27 | H21: =+$C21+'DELIVERY e PRODOTTO FISSO'!$K$29 -> 53.67 | I21: =+$C21+'DELIVERY e PRODOTTO FISSO'!$K$30 -> 45.8 | J21: =+$C21+'DELIVERY e PRODOTTO FISSO'!$K$31 -> 48.993864 | K21: =+$C21+'DELIVERY e PRODOTTO FISSO'!$K$32 -> 48.94 | L21: =+$C21+'DELIVERY e PRODOTTO FISSO'!$K$33 -> 50.18 | M21: =_xlfn.IFNA($C$21+VLOOKUP(M$14,'DELIVERY e PRODOTTO FISSO'!$I:$L,3,FALSE),"") -> 49.5 | N21: =_xlfn.IFNA($C$21+VLOOKUP(N$14,'DELIVERY e PRODOTTO FISSO'!$I:$L,3,FALSE),"") -> 52.62 | O21: =_xlfn.IFNA($C$21+VLOOKUP(O$14,'DELIVERY e PRODOTTO FISSO'!$I:$L,3,FALSE),"") -> 52.89 | P21: =_xlfn.IFNA($C$21+VLOOKUP(P$14,'DELIVERY e PRODOTTO FISSO'!$I:$L,3,FALSE),"") -> 50.65 | Q21: =_xlfn.IFNA($C$21+VLOOKUP(Q$14,'DELIVERY e PRODOTTO FISSO'!$I:$L,3,FALSE),"") | R21: =_xlfn.IFNA($C$21+VLOOKUP(R$14,'DELIVERY e PRODOTTO FISSO'!$I:$L,3,FALSE),"") | S21: =_xlfn.IFNA($C$21+VLOOKUP(S$14,'DELIVERY e PRODOTTO FISSO'!$I:$L,3,FALSE),"") | T21: =_xlfn.IFNA($C$21+VLOOKUP(T$14,'DELIVERY e PRODOTTO FISSO'!$I:$L,3,FALSE),"") | ... Z21: =_xlfn.IFNA($C$21+VLOOKUP(Z$14,'DELIVERY e PRODOTTO FISSO'!$I:$L,3,FALSE),"")
B22: F3 | C22: 3.36 | E22: =+$C22+'DELIVERY e PRODOTTO FISSO'!$K$26 -> 61.34 | F22: =+$C22+'DELIVERY e PRODOTTO FISSO'!$K$27 -> 58.82 | G22: =+$C22+'DELIVERY e PRODOTTO FISSO'!$K$28 -> 54.27 | H22: =+$C22+'DELIVERY e PRODOTTO FISSO'!$K$29 -> 53.67 | I22: =+$C22+'DELIVERY e PRODOTTO FISSO'!$K$30 -> 45.8 | J22: =+$C22+'DELIVERY e PRODOTTO FISSO'!$K$31 -> 48.993864 | K22: =+$C22+'DELIVERY e PRODOTTO FISSO'!$K$32 -> 48.94 | L22: =+$C22+'DELIVERY e PRODOTTO FISSO'!$K$33 -> 50.18 | M22: =_xlfn.IFNA($C$22+VLOOKUP(M$14,'DELIVERY e PRODOTTO FISSO'!$I:$L,3,FALSE),"") -> 49.5 | N22: =_xlfn.IFNA($C$22+VLOOKUP(N$14,'DELIVERY e PRODOTTO FISSO'!$I:$L,3,FALSE),"") -> 52.62 | O22: =_xlfn.IFNA($C$22+VLOOKUP(O$14,'DELIVERY e PRODOTTO FISSO'!$I:$L,3,FALSE),"") -> 52.89 | P22: =_xlfn.IFNA($C$22+VLOOKUP(P$14,'DELIVERY e PRODOTTO FISSO'!$I:$L,3,FALSE),"") -> 50.65 | Q22: =_xlfn.IFNA($C$22+VLOOKUP(Q$14,'DELIVERY e PRODOTTO FISSO'!$I:$L,3,FALSE),"") | R22: =_xlfn.IFNA($C$22+VLOOKUP(R$14,'DELIVERY e PRODOTTO FISSO'!$I:$L,3,FALSE),"") | S22: =_xlfn.IFNA($C$22+VLOOKUP(S$14,'DELIVERY e PRODOTTO FISSO'!$I:$L,3,FALSE),"") | T22: =_xlfn.IFNA($C$22+VLOOKUP(T$14,'DELIVERY e PRODOTTO FISSO'!$I:$L,3,FALSE),"") | ... Z22: =_xlfn.IFNA($C$22+VLOOKUP(Z$14,'DELIVERY e PRODOTTO FISSO'!$I:$L,3,FALSE),"")
A23: LOTTO 14 - Prezzi Fissi al netto delle perdite di rete (Euro/MWh)
A26: Forniture a Prezzo Fisso a 18 mesi
A27: Acquistabile fino al: | E27: 43829 | F27: 43861 | G27: 43890 | H27: 43921 | I27: 43951 | J27: 43982 | K27: 44012 | L27: 44043 | M27: 44074 | N27: 44104 | O27: 44135 | P27: 44165
A28: Per forniture: | E28: da mar-20 | F28: da apr-20 | G28: da mag-20 | H28: da giu-20 | I28: da lug-20 | J28: da ago-20 | K28: da set-20 | L28: da ott-20 | M28: da nov-20 | N28: da dic-20 | O28: da gen-21 | P28: da feb-21
E29: a ago-21 | F29: a set-21 | G29: a ott-21 | H29: a nov-21 | I29: a dic-21 | J29: a gen-22 | K29: a feb-22 | L29: a mar-22 | M29: a apr-22 | N29: a mag-22 | O29: a giu-22 | P29: a lug-22
B30: Fascia oraria | C30: ΨFIX | E30: FIX18 | F30: FIX18 | G30: FIX18 | H30: FIX18 | I30: FIX18 | J30: FIX18 | K30: FIX18 | L30: FIX18 | M30: FIX18 | N30: FIX18 | O30: FIX18 | P30: FIX18
A31: Mono | B31: F0 | C31: 3.36 | E31: =+$C31+'DELIVERY e PRODOTTO FISSO'!$L$26 -> 60.46 | F31: =+$C31+'DELIVERY e PRODOTTO FISSO'!$L$27 -> 57.9 | G31: =+$C31+'DELIVERY e PRODOTTO FISSO'!$L$28 -> 54.06 | H31: =+$C31+'DELIVERY e PRODOTTO FISSO'!$L$29 -> 54.62 | I31: =+$C31+'DELIVERY e PRODOTTO FISSO'!$L$30 -> 46.77 | J31: =+$C31+'DELIVERY e PRODOTTO FISSO'!$L$31 -> 49.61803 | K31: =+$C31+'DELIVERY e PRODOTTO FISSO'!$L$32 -> 50.59 | L31: =+$C31+'DELIVERY e PRODOTTO FISSO'!$L$33 -> 52.09 | M31: =_xlfn.IFNA($C$31+VLOOKUP(M$14,'DELIVERY e PRODOTTO FISSO'!$I:$L,4,FALSE),"") -> 51.61 | N31: =_xlfn.IFNA($C$31+VLOOKUP(N$14,'DELIVERY e PRODOTTO FISSO'!$I:$L,4,FALSE),"") -> 53.56 | O31: =_xlfn.IFNA($C$31+VLOOKUP(O$14,'DELIVERY e PRODOTTO FISSO'!$I:$L,4,FALSE),"") -> 52.81 | P31: =_xlfn.IFNA($C$31+VLOOKUP(P$14,'DELIVERY e PRODOTTO FISSO'!$I:$L,4,FALSE),"") -> 50.57 | Q31: =_xlfn.IFNA($C$31+VLOOKUP(Q$14,'DELIVERY e PRODOTTO FISSO'!$I:$L,4,FALSE),"") | R31: =_xlfn.IFNA($C$31+VLOOKUP(R$14,'DELIVERY e PRODOTTO FISSO'!$I:$L,4,FALSE),"") | S31: =_xlfn.IFNA($C$31+VLOOKUP(S$14,'DELIVERY e PRODOTTO FISSO'!$I:$L,4,FALSE),"") | T31: =_xlfn.IFNA($C$31+VLOOKUP(T$14,'DELIVERY e PRODOTTO FISSO'!$I:$L,4,FALSE),"") | ... Z31: =_xlfn.IFNA($C$31+VLOOKUP(Z$14,'DELIVERY e PRODOTTO FISSO'!$I:$L,4,FALSE),"")
A32: Multiorari | B32: F1 | C32: 3.36 | E32: =+$C32+'DELIVERY e PRODOTTO FISSO'!$L$26 -> 60.46 | F32: =+$C32+'DELIVERY e PRODOTTO FISSO'!$L$27 -> 57.9 | G32: =+$C32+'DELIVERY e PRODOTTO FISSO'!$L$28 -> 54.06 | H32: =+$C32+'DELIVERY e PRODOTTO FISSO'!$L$29 -> 54.62 | I32: =+$C32+'DELIVERY e PRODOTTO FISSO'!$L$30 -> 46.77 | J32: =+$C32+'DELIVERY e PRODOTTO FISSO'!$L$31 -> 49.61803 | K32: =+$C32+'DELIVERY e PRODOTTO FISSO'!$L$32 -> 50.59 | L32: =+$C32+'DELIVERY e PRODOTTO FISSO'!$L$33 -> 52.09 | M32: =_xlfn.IFNA($C$32+VLOOKUP(M$14,'DELIVERY e PRODOTTO FISSO'!$I:$L,4,FALSE),"") -> 51.61 | N32: =_xlfn.IFNA($C$32+VLOOKUP(N$14,'DELIVERY e PRODOTTO FISSO'!$I:$L,4,FALSE),"") -> 53.56 | O32: =_xlfn.IFNA($C$32+VLOOKUP(O$14,'DELIVERY e PRODOTTO FISSO'!$I:$L,4,FALSE),"") -> 52.81 | P32: =_xlfn.IFNA($C$32+VLOOKUP(P$14,'DELIVERY e PRODOTTO FISSO'!$I:$L,4,FALSE),"") -> 50.57 | Q32: =_xlfn.IFNA($C$32+VLOOKUP(Q$14,'DELIVERY e PRODOTTO FISSO'!$I:$L,4,FALSE),"") | R32: =_xlfn.IFNA($C$32+VLOOKUP(R$14,'DELIVERY e PRODOTTO FISSO'!$I:$L,4,FALSE),"") | S32: =_xlfn.IFNA($C$32+VLOOKUP(S$14,'DELIVERY e PRODOTTO FISSO'!$I:$L,4,FALSE),"") | T32: =_xlfn.IFNA($C$32+VLOOKUP(T$14,'DELIVERY e PRODOTTO FISSO'!$I:$L,4,FALSE),"") | ... Z32: =_xlfn.IFNA($C$32+VLOOKUP(Z$14,'DELIVERY e PRODOTTO FISSO'!$I:$L,4,FALSE),"")
B33: F2 | C33: 3.36 | E33: =+$C33+'DELIVERY e PRODOTTO FISSO'!$L$26 -> 60.46 | F33: =+$C33+'DELIVERY e PRODOTTO FISSO'!$L$27 -> 57.9 | G33: =+$C33+'DELIVERY e PRODOTTO FISSO'!$L$28 -> 54.06 | H33: =+$C33+'DELIVERY e PRODOTTO FISSO'!$L$29 -> 54.62 | I33: =+$C33+'DELIVERY e PRODOTTO FISSO'!$L$30 -> 46.77 | J33: =+$C33+'DELIVERY e PRODOTTO FISSO'!$L$31 -> 49.61803 | K33: =+$C33+'DELIVERY e PRODOTTO FISSO'!$L$32 -> 50.59 | L33: =+$C33+'DELIVERY e PRODOTTO FISSO'!$L$33 -> 52.09 | M33: =_xlfn.IFNA($C$33+VLOOKUP(M$14,'DELIVERY e PRODOTTO FISSO'!$I:$L,4,FALSE),"") -> 51.61 | N33: =_xlfn.IFNA($C$33+VLOOKUP(N$14,'DELIVERY e PRODOTTO FISSO'!$I:$L,4,FALSE),"") -> 53.56 | O33: =_xlfn.IFNA($C$33+VLOOKUP(O$14,'DELIVERY e PRODOTTO FISSO'!$I:$L,4,FALSE),"") -> 52.81 | P33: =_xlfn.IFNA($C$33+VLOOKUP(P$14,'DELIVERY e PRODOTTO FISSO'!$I:$L,4,FALSE),"") -> 50.57 | Q33: =_xlfn.IFNA($C$33+VLOOKUP(Q$14,'DELIVERY e PRODOTTO FISSO'!$I:$L,4,FALSE),"") | R33: =_xlfn.IFNA($C$33+VLOOKUP(R$14,'DELIVERY e PRODOTTO FISSO'!$I:$L,4,FALSE),"") | S33: =_xlfn.IFNA($C$33+VLOOKUP(S$14,'DELIVERY e PRODOTTO FISSO'!$I:$L,4,FALSE),"") | T33: =_xlfn.IFNA($C$33+VLOOKUP(T$14,'DELIVERY e PRODOTTO FISSO'!$I:$L,4,FALSE),"") | ... Z33: =_xlfn.IFNA($C$33+VLOOKUP(Z$14,'DELIVERY e PRODOTTO FISSO'!$I:$L,4,FALSE),"")
B34: F3 | C34: 3.36 | E34: =+$C34+'DELIVERY e PRODOTTO FISSO'!$L$26 -> 60.46 | F34: =+$C34+'DELIVERY e PRODOTTO FISSO'!$L$27 -> 57.9 | G34: =+$C34+'DELIVERY e PRODOTTO FISSO'!$L$28 -> 54.06 | H34: =+$C34+'DELIVERY e PRODOTTO FISSO'!$L$29 -> 54.62 | I34: =+$C34+'DELIVERY e PRODOTTO FISSO'!$L$30 -> 46.77 | J34: =+$C34+'DELIVERY e PRODOTTO FISSO'!$L$31 -> 49.61803 | K34: =+$C34+'DELIVERY e PRODOTTO FISSO'!$L$32 -> 50.59 | L34: =+$C34+'DELIVERY e PRODOTTO FISSO'!$L$33 -> 52.09 | M34: =_xlfn.IFNA($C$34+VLOOKUP(M$14,'DELIVERY e PRODOTTO FISSO'!$I:$L,4,FALSE),"") -> 51.61 | N34: =_xlfn.IFNA($C$34+VLOOKUP(N$14,'DELIVERY e PRODOTTO FISSO'!$I:$L,4,FALSE),"") -> 53.56 | O34: =_xlfn.IFNA($C$34+VLOOKUP(O$14,'DELIVERY e PRODOTTO FISSO'!$I:$L,4,FALSE),"") -> 52.81 | P34: =_xlfn.IFNA($C$34+VLOOKUP(P$14,'DELIVERY e PRODOTTO FISSO'!$I:$L,4,FALSE),"") -> 50.57 | Q34: =_xlfn.IFNA($C$34+VLOOKUP(Q$14,'DELIVERY e PRODOTTO FISSO'!$I:$L,4,FALSE),"") | R34: =_xlfn.IFNA($C$34+VLOOKUP(R$14,'DELIVERY e PRODOTTO FISSO'!$I:$L,4,FALSE),"") | S34: =_xlfn.IFNA($C$34+VLOOKUP(S$14,'DELIVERY e PRODOTTO FISSO'!$I:$L,4,FALSE),"") | T34: =_xlfn.IFNA($C$34+VLOOKUP(T$14,'DELIVERY e PRODOTTO FISSO'!$I:$L,4,FALSE),"") | ... Z34: =_xlfn.IFNA($C$34+VLOOKUP(Z$14,'DELIVERY e PRODOTTO FISSO'!$I:$L,4,FALSE),"")
A35: LOTTO 14 - Prezzi Fissi al netto delle perdite di rete (Euro/MWh)

Sheet Lotto 15
Q1: torna al SOMMARIO
A4: Energia elettrica 17
A5: Convenzione per la fornitura di energia elettrica a prezzo fisso o a prezzo variabile e servizi connessi per tutte le Pubbliche Amministrazioni
A7: Configuratore corrispettivi a Prezzo Fisso per la fornitura di Energia Elettrica edizione 17
A9: =+SOMMARIO!A24 -> Lotto 15: Calabria
A11: Sconto PA Virtuose S | C11: 0,1 Euro/MWh
A12: Opzione Verde | C12: 1,1 Euro/MWh
A14: Forniture a Prezzo Fisso a 12 mesi | M14: 44044 | N14: 44075 | O14: 44105 | P14: 44136 | Q14: 44166 | R14: 44197 | S14: 44228 | T14: 44256 | U14: 44287 | V14: 44317 | W14: 44348 | X14: 44378
A15: Acquistabile fino al: | E15: 43829 | F15: 43861 | G15: 43890 | H15: 43921 | I15: 43951 | J15: 43982 | K15: 44012 | L15: 44043 | M15: 44074 | N15: 44104 | O15: 44135 | P15: 44165
A16: Per forniture: | E16: da mar-20 | F16: da apr-20 | G16: da mag-20 | H16: da giu-20 | I16: da lug-20 | J16: da ago-20 | K16: da set-20 | L16: da ott-20 | M16: da nov-20 | N16: da dic-20 | O16: da gen-21 | P16: da feb-21
E17: a feb-21 | F17: a mar-21 | G17: a apr-21 | H17: a mag-21 | I17: a giu-21 | J17: a lug-21 | K17: a ago-21 | L17: a set-21 | M17: a ott-21 | N17: a nov-21 | O17: a dic-21 | P17: a gen-22
B18: Fascia oraria | C18: ΨFIX | E18: FIX12 | F18: FIX12 | G18: FIX12 | H18: FIX12 | I18: FIX12 | J18: FIX12 | K18: FIX12 | L18: FIX12 | M18: FIX12 | N18: FIX12 | O18: FIX12 | P18: FIX12
A19: Mono | B19: F0 | C19: 4.97 | E19: =+$C19+'DELIVERY e PRODOTTO FISSO'!$K$26 -> 62.95 | F19: =+$C19+'DELIVERY e PRODOTTO FISSO'!$K$27 -> 60.43 | G19: =+$C19+'DELIVERY e PRODOTTO FISSO'!$K$28 -> 55.88 | H19: =+$C19+'DELIVERY e PRODOTTO FISSO'!$K$29 -> 55.28 | I19: =+$C19+'DELIVERY e PRODOTTO FISSO'!$K$30 -> 47.41 | J19: =+$C19+'DELIVERY e PRODOTTO FISSO'!$K$31 -> 50.603864 | K19: =+$C19+'DELIVERY e PRODOTTO FISSO'!$K$32 -> 50.55 | L19: =+$C19+'DELIVERY e PRODOTTO FISSO'!$K$33 -> 51.79 | M19: =_xlfn.IFNA($C$19+VLOOKUP(M$14,'DELIVERY e PRODOTTO FISSO'!$I:$L,3,FALSE),"") -> 51.11 | N19: =_xlfn.IFNA($C$19+VLOOKUP(N$14,'DELIVERY e PRODOTTO FISSO'!$I:$L,3,FALSE),"") -> 54.23 | O19: =_xlfn.IFNA($C$19+VLOOKUP(O$14,'DELIVERY e PRODOTTO FISSO'!$I:$L,3,FALSE),"") -> 54.5 | P19: =_xlfn.IFNA($C$19+VLOOKUP(P$14,'DELIVERY e PRODOTTO FISSO'!$I:$L,3,FALSE),"") -> 52.26 | Q19: =_xlfn.IFNA($C$19+VLOOKUP(Q$14,'DELIVERY e PRODOTTO FISSO'!$I:$L,3,FALSE),"") | R19: =_xlfn.IFNA($C$19+VLOOKUP(R$14,'DELIVERY e PRODOTTO FISSO'!$I:$L,3,FALSE),"") | S19: =_xlfn.IFNA($C$19+VLOOKUP(S$14,'DELIVERY e PRODOTTO FISSO'!$I:$L,3,FALSE),"") | T19: =_xlfn.IFNA($C$19+VLOOKUP(T$14,'DELIVERY e PRODOTTO FISSO'!$I:$L,3,FALSE),"") | ... Z19: =_xlfn.IFNA($C$19+VLOOKUP(Z$14,'DELIVERY e PRODOTTO FISSO'!$I:$L,3,FALSE),"")
A20: Multiorari | B20: F1 | C20: 4.97 | E20: =+$C20+'DELIVERY e PRODOTTO FISSO'!$K$26 -> 62.95 | F20: =+$C20+'DELIVERY e PRODOTTO FISSO'!$K$27 -> 60.43 | G20: =+$C20+'DELIVERY e PRODOTTO FISSO'!$K$28 -> 55.88 | H20: =+$C20+'DELIVERY e PRODOTTO FISSO'!$K$29 -> 55.28 | I20: =+$C20+'DELIVERY e PRODOTTO FISSO'!$K$30 -> 47.41 | J20: =+$C20+'DELIVERY e PRODOTTO FISSO'!$K$31 -> 50.603864 | K20: =+$C20+'DELIVERY e PRODOTTO FISSO'!$K$32 -> 50.55 | L20: =+$C20+'DELIVERY e PRODOTTO FISSO'!$K$33 -> 51.79 | M20: =_xlfn.IFNA($C$20+VLOOKUP(M$14,'DELIVERY e PRODOTTO FISSO'!$I:$L,3,FALSE),"") -> 51.11 | N20: =_xlfn.IFNA($C$20+VLOOKUP(N$14,'DELIVERY e PRODOTTO FISSO'!$I:$L,3,FALSE),"") -> 54.23 | O20: =_xlfn.IFNA($C$20+VLOOKUP(O$14,'DELIVERY e PRODOTTO FISSO'!$I:$L,3,FALSE),"") -> 54.5 | P20: =_xlfn.IFNA($C$20+VLOOKUP(P$14,'DELIVERY e PRODOTTO FISSO'!$I:$L,3,FALSE),"") -> 52.26 | Q20: =_xlfn.IFNA($C$20+VLOOKUP(Q$14,'DELIVERY e PRODOTTO FISSO'!$I:$L,3,FALSE),"") | R20: =_xlfn.IFNA($C$20+VLOOKUP(R$14,'DELIVERY e PRODOTTO FISSO'!$I:$L,3,FALSE),"") | S20: =_xlfn.IFNA($C$20+VLOOKUP(S$14,'DELIVERY e PRODOTTO FISSO'!$I:$L,3,FALSE),"") | T20: =_xlfn.IFNA($C$20+VLOOKUP(T$14,'DELIVERY e PRODOTTO FISSO'!$I:$L,3,FALSE),"") | ... Z20: =_xlfn.IFNA($C$20+VLOOKUP(Z$14,'DELIVERY e PRODOTTO FISSO'!$I:$L,3,FALSE),"")
B21: F2 | C21: 4.97 | E21: =+$C21+'DELIVERY e PRODOTTO FISSO'!$K$26 -> 62.95 | F21: =+$C21+'DELIVERY e PRODOTTO FISSO'!$K$27 -> 60.43 | G21: =+$C21+'DELIVERY e PRODOTTO FISSO'!$K$28 -> 55.88 | H21: =+$C21+'DELIVERY e PRODOTTO FISSO'!$K$29 -> 55.28 | I21: =+$C21+'DELIVERY e PRODOTTO FISSO'!$K$30 -> 47.41 | J21: =+$C21+'DELIVERY e PRODOTTO FISSO'!$K$31 -> 50.603864 | K21: =+$C21+'DELIVERY e PRODOTTO FISSO'!$K$32 -> 50.55 | L21: =+$C21+'DELIVERY e PRODOTTO FISSO'!$K$33 -> 51.79 | M21: =_xlfn.IFNA($C$21+VLOOKUP(M$14,'DELIVERY e PRODOTTO FISSO'!$I:$L,3,FALSE),"") -> 51.11 | N21: =_xlfn.IFNA($C$21+VLOOKUP(N$14,'DELIVERY e PRODOTTO FISSO'!$I:$L,3,FALSE),"") -> 54.23 | O21: =_xlfn.IFNA($C$21+VLOOKUP(O$14,'DELIVERY e PRODOTTO FISSO'!$I:$L,3,FALSE),"") -> 54.5 | P21: =_xlfn.IFNA($C$21+VLOOKUP(P$14,'DELIVERY e PRODOTTO FISSO'!$I:$L,3,FALSE),"") -> 52.26 | Q21: =_xlfn.IFNA($C$21+VLOOKUP(Q$14,'DELIVERY e PRODOTTO FISSO'!$I:$L,3,FALSE),"") | R21: =_xlfn.IFNA($C$21+VLOOKUP(R$14,'DELIVERY e PRODOTTO FISSO'!$I:$L,3,FALSE),"") | S21: =_xlfn.IFNA($C$21+VLOOKUP(S$14,'DELIVERY e PRODOTTO FISSO'!$I:$L,3,FALSE),"") | T21: =_xlfn.IFNA($C$21+VLOOKUP(T$14,'DELIVERY e PRODOTTO FISSO'!$I:$L,3,FALSE),"") | ... Z21: =_xlfn.IFNA($C$21+VLOOKUP(Z$14,'DELIVERY e PRODOTTO FISSO'!$I:$L,3,FALSE),"")
B22: F3 | C22: 4.97 | E22: =+$C22+'DELIVERY e PRODOTTO FISSO'!$K$26 -> 62.95 | F22: =+$C22+'DELIVERY e PRODOTTO FISSO'!$K$27 -> 60.43 | G22: =+$C22+'DELIVERY e PRODOTTO FISSO'!$K$28 -> 55.88 | H22: =+$C22+'DELIVERY e PRODOTTO FISSO'!$K$29 -> 55.28 | I22: =+$C22+'DELIVERY e PRODOTTO FISSO'!$K$30 -> 47.41 | J22: =+$C22+'DELIVERY e PRODOTTO FISSO'!$K$31 -> 50.603864 | K22: =+$C22+'DELIVERY e PRODOTTO FISSO'!$K$32 -> 50.55 | L22: =+$C22+'DELIVERY e PRODOTTO FISSO'!$K$33 -> 51.79 | M22: =_xlfn.IFNA($C$22+VLOOKUP(M$14,'DELIVERY e PRODOTTO FISSO'!$I:$L,3,FALSE),"") -> 51.11 | N22: =_xlfn.IFNA($C$22+VLOOKUP(N$14,'DELIVERY e PRODOTTO FISSO'!$I:$L,3,FALSE),"") -> 54.23 | O22: =_xlfn.IFNA($C$22+VLOOKUP(O$14,'DELIVERY e PRODOTTO FISSO'!$I:$L,3,FALSE),"") -> 54.5 | P22: =_xlfn.IFNA($C$22+VLOOKUP(P$14,'DELIVERY e PRODOTTO FISSO'!$I:$L,3,FALSE),"") -> 52.26 | Q22: =_xlfn.IFNA($C$22+VLOOKUP(Q$14,'DELIVERY e PRODOTTO FISSO'!$I:$L,3,FALSE),"") | R22: =_xlfn.IFNA($C$22+VLOOKUP(R$14,'DELIVERY e PRODOTTO FISSO'!$I:$L,3,FALSE),"") | S22: =_xlfn.IFNA($C$22+VLOOKUP(S$14,'DELIVERY e PRODOTTO FISSO'!$I:$L,3,FALSE),"") | T22: =_xlfn.IFNA($C$22+VLOOKUP(T$14,'DELIVERY e PRODOTTO FISSO'!$I:$L,3,FALSE),"") | ... Z22: =_xlfn.IFNA($C$22+VLOOKUP(Z$14,'DELIVERY e PRODOTTO FISSO'!$I:$L,3,FALSE),"")
A23: LOTTO 15 - Prezzi Fissi al netto delle perdite di rete (Euro/MWh)
A26: Forniture a Prezzo Fisso a 18 mesi
A27: Acquistabile fino al: | E27: 43829 | F27: 43861 | G27: 43890 | H27: 43921 | I27: 43951 | J27: 43982 | K27: 44012 | L27: 44043 | M27: 44074 | N27: 44104 | O27: 44135 | P27: 44165
A28: Per forniture: | E28: da mar-20 | F28: da apr-20 | G28: da mag-20 | H28: da giu-20 | I28: da lug-20 | J28: da ago-20 | K28: da set-20 | L28: da ott-20 | M28: da nov-20 | N28: da dic-20 | O28: da gen-21 | P28: da feb-21
E29: a ago-21 | F29: a set-21 | G29: a ott-21 | H29: a nov-21 | I29: a dic-21 | J29: a gen-22 | K29: a feb-22 | L29: a mar-22 | M29: a apr-22 | N29: a mag-22 | O29: a giu-22 | P29: a lug-22
B30: Fascia oraria | C30: ΨFIX | E30: FIX18 | F30: FIX18 | G30: FIX18 | H30: FIX18 | I30: FIX18 | J30: FIX18 | K30: FIX18 | L30: FIX18 | M30: FIX18 | N30: FIX18 | O30: FIX18 | P30: FIX18
A31: Mono | B31: F0 | C31: 4.97 | E31: =+$C31+'DELIVERY e PRODOTTO FISSO'!$L$26 -> 62.07 | F31: =+$C31+'DELIVERY e PRODOTTO FISSO'!$L$27 -> 59.51 | G31: =+$C31+'DELIVERY e PRODOTTO FISSO'!$L$28 -> 55.67 | H31: =+$C31+'DELIVERY e PRODOTTO FISSO'!$L$29 -> 56.23 | I31: =+$C31+'DELIVERY e PRODOTTO FISSO'!$L$30 -> 48.38 | J31: =+$C31+'DELIVERY e PRODOTTO FISSO'!$L$31 -> 51.22803 | K31: =+$C31+'DELIVERY e PRODOTTO FISSO'!$L$32 -> 52.2 | L31: =+$C31+'DELIVERY e PRODOTTO FISSO'!$L$33 -> 53.7 | M31: =_xlfn.IFNA($C$31+VLOOKUP(M$14,'DELIVERY e PRODOTTO FISSO'!$I:$L,4,FALSE),"") -> 53.22 | N31: =_xlfn.IFNA($C$31+VLOOKUP(N$14,'DELIVERY e PRODOTTO FISSO'!$I:$L,4,FALSE),"") -> 55.17 | O31: =_xlfn.IFNA($C$31+VLOOKUP(O$14,'DELIVERY e PRODOTTO FISSO'!$I:$L,4,FALSE),"") -> 54.42 | P31: =_xlfn.IFNA($C$31+VLOOKUP(P$14,'DELIVERY e PRODOTTO FISSO'!$I:$L,4,FALSE),"") -> 52.18 | Q31: =_xlfn.IFNA($C$31+VLOOKUP(Q$14,'DELIVERY e PRODOTTO FISSO'!$I:$L,4,FALSE),"") | R31: =_xlfn.IFNA($C$31+VLOOKUP(R$14,'DELIVERY e PRODOTTO FISSO'!$I:$L,4,FALSE),"") | S31: =_xlfn.IFNA($C$31+VLOOKUP(S$14,'DELIVERY e PRODOTTO FISSO'!$I:$L,4,FALSE),"") | T31: =_xlfn.IFNA($C$31+VLOOKUP(T$14,'DELIVERY e PRODOTTO FISSO'!$I:$L,4,FALSE),"") | ... Z31: =_xlfn.IFNA($C$31+VLOOKUP(Z$14,'DELIVERY e PRODOTTO FISSO'!$I:$L,4,FALSE),"")
A32: Multiorari | B32: F1 | C32: 4.97 | E32: =+$C32+'DELIVERY e PRODOTTO FISSO'!$L$26 -> 62.07 | F32: =+$C32+'DELIVERY e PRODOTTO FISSO'!$L$27 -> 59.51 | G32: =+$C32+'DELIVERY e PRODOTTO FISSO'!$L$28 -> 55.67 | H32: =+$C32+'DELIVERY e PRODOTTO FISSO'!$L$29 -> 56.23 | I32: =+$C32+'DELIVERY e PRODOTTO FISSO'!$L$30 -> 48.38 | J32: =+$C32+'DELIVERY e PRODOTTO FISSO'!$L$31 -> 51.22803 | K32: =+$C32+'DELIVERY e PRODOTTO FISSO'!$L$32 -> 52.2 | L32: =+$C32+'DELIVERY e PRODOTTO FISSO'!$L$33 -> 53.7 | M32: =_xlfn.IFNA($C$32+VLOOKUP(M$14,'DELIVERY e PRODOTTO FISSO'!$I:$L,4,FALSE),"") -> 53.22 | N32: =_xlfn.IFNA($C$32+VLOOKUP(N$14,'DELIVERY e PRODOTTO FISSO'!$I:$L,4,FALSE),"") -> 55.17 | O32: =_xlfn.IFNA($C$32+VLOOKUP(O$14,'DELIVERY e PRODOTTO FISSO'!$I:$L,4,FALSE),"") -> 54.42 | P32: =_xlfn.IFNA($C$32+VLOOKUP(P$14,'DELIVERY e PRODOTTO FISSO'!$I:$L,4,FALSE),"") -> 52.18 | Q32: =_xlfn.IFNA($C$32+VLOOKUP(Q$14,'DELIVERY e PRODOTTO FISSO'!$I:$L,4,FALSE),"") | R32: =_xlfn.IFNA($C$32+VLOOKUP(R$14,'DELIVERY e PRODOTTO FISSO'!$I:$L,4,FALSE),"") | S32: =_xlfn.IFNA($C$32+VLOOKUP(S$14,'DELIVERY e PRODOTTO FISSO'!$I:$L,4,FALSE),"") | T32: =_xlfn.IFNA($C$32+VLOOKUP(T$14,'DELIVERY e PRODOTTO FISSO'!$I:$L,4,FALSE),"") | ... Z32: =_xlfn.IFNA($C$32+VLOOKUP(Z$14,'DELIVERY e PRODOTTO FISSO'!$I:$L,4,FALSE),"")
